Workbook

Sheet Materia_Prima
B17: MATERIA PRIMA _PROPIEDADES
B18: NOMBRE | D18: ACTIVO
B19: LOTE | D19: LT20110812
B20: CONTROL | D20: C20110812 | G20: JUAN PABLO HERRERA SIERRA
B21: PUREZA | D21: 1.0012 | G21: http://www.nodointeractivo.com/
G22: juanherrera@nodointeractivo.com
B25: ANALISTA | F25: JUAN HERRERA
B26: EMPRESA QUE SOLICITA EL ANÁLISIS | F26: NODOFARMA
B27: FECHA INICIO ANÁLISIS | F27: 44781
B28: FECHA TERMINACIÓN ANÁLISIS | F28: 44782

Sheet Ingresar_Datos
B1: PARÁMETROS DE ANÁLISIS PARA LA MEDIA
B2: Coeficiente de confianza (90/95/97/99) % | E2: 95
B3: =CONCATENATE("Valor esperado al ",E2, "%") -> Valor esperado al 95% | E3: =IF(E2=90,1.645,IF(E2=95,1.96,IF(E2=97,2.2,IF(E2=99,2.58,"Coef. inválido")))) -> 1.96 | F3: ESPECÍFICACIÓN 1
B4: =CONCATENATE("Incertidumbre de la media ",E4," %") -> Incertidumbre de la media 3 % | E4: 3 | F4: =IF(((((Diámetro_Medio!D20^2)*(F9)/((1/2)*((E22+((2*(F9)-3)^(1/2)))^2)))^(1/2)))<Diámetro_Medio!H20,"No Cumple","Si Cumple") -> Si Cumple
F9: =ROUND((((Diámetro_Medio!D20*E3)/(Distribución_Frecuencias!K83))^2),0) -> 752 | I9: =F9 -> 752
B13: Donde:
B14: S=Desviación estándar de la muestra
B15: Z=Valor esperado
B16: n=Tamaño muestral
B17: d=Diámetro medio
B18: IM=% de incertidumbre de la media
B20: PARÁMETROS DE ANÁLISIS PARA LA DESVIACIÓN ESTÁNDAR
B21: Coeficiente de confianza (90/95/97/99) % | E21: 95
B22: =CONCATENATE("Valor esperado al ",E21, "%") -> Valor esperado al 95% | E22: =IF(E21=90,1.645,IF(E21=95,1.96,IF(E21=97,2.2,IF(E21=99,2.58,"Coef. invalido")))) -> 1.96 | F22: ESPECIFICACIÓN 2
B23: =CONCATENATE("Incertidumbre de la desviación estandar ",E23," %") -> Incertidumbre de la desviación estandar 5 % | E23: 5 | F23: =IF(((((Diámetro_Medio!D20^2)*(COUNT(B55:K154))/((1/2)*((E22+((2*(COUNT(B55:K154))-3)^(1/2)))^2)))^(1/2)))<Diámetro_Medio!H20,"No cumple","Si Cumple") -> Si Cumple
B26: a= | C26: =(-4-((4*(Diámetro_Medio!D20^4))/(Diámetro_Medio!H20^4))+((8*(Diámetro_Medio!D20^2))/(Diámetro_Medio!H20^2))) -> -0.046684725
B28: b= | C28: =(12+(4*(E22^2)))-((12*(Diámetro_Medio!D20^2))/(Diámetro_Medio!H20^2))+((4*(Diámetro_Medio!D20^2)*(E22^2))/(Diámetro_Medio!H20^2)) -> 31.096483
B30: c= | C30: =(-6*(E22^2))-(E22^4)-9 -> -46.807491
E33: =((-C28)-(((C28^2)-(4*(C26*C30)))^(1/2)))/(2*C26) -> 664.58681
E35: =((-C28)+(((C28^2)-(4*(C26*C30)))^(1/2)))/(2*C26) -> 1.5086512
B37: # De Partículas a medir = | D37: =E33 -> 664.58681 | E37: ¿Cumple? : | I37: =D37 -> 664.58681
B40: Número (n) mínimo de partículas a caracterizar: | F40: =IF(I37>I9,ROUND((I37),0),IF(I37<I9,ROUND((I9),0),IF(I37=I9,ROUND((I37),0),""))) -> 752
B41: Número (n) de partículas medidas hasta el momento: | F41: =COUNTIF(B55:K154,">0") -> 787 | G41: =IF(F41=F40,"El numero de partículas medidas hasta el momento es suficiente",IF(F41<F40," El numero de partículas medidas hasta el momento es insuficiente",IF(F41>F40,"El numero de partículas medidas hasta el momento, es más que suficiente"))) -> El numero de partículas medidas hasta el momento, es más que suficiente
B42: =IF(F4="Si Cumple","LA ESPECÍFICACIÓN 1 CUMPLE CON LOS PARÁMETROS ESTADÍSTICOS"," ¡ATENCIÓN! LA ESPECÍFICACIÓN 1 NO CUMPLE") -> LA ESPECÍFICACIÓN 1 CUMPLE CON LOS PARÁMETROS ESTADÍSTICOS
B43: =IF(F23="Si Cumple","LA ESPECÍFICACIÓN 2 CUMPLE CON LOS PARÁMETROS ESTADÍSTICOS "," ¡ATENCIÓN! LA ESPECÍFICACIÓN 2 NO CUMPLE") -> LA ESPECÍFICACIÓN 2 CUMPLE CON LOS PARÁMETROS ESTADÍSTICOS
B45: MEDIDAS OBTENIDAS DE LAS PARTÍCULAS CARACTERIZADAS
M46: cm | P46: mm | S46: um
B48: INGRESE LA UNIDADAD DE MEDIDA cm / mm: | F48: mm | G48: =IF(F48="CM","",IF(F48="MM","","Unidad de medida no soportada ó no valida")) | L48: =LOWER(F48) -> mm | M48: 10X | N48: 40X | O48: 100X | P48: 10X | Q48: 40X | R48: 100X | S48: 10X | T48: 40X | U48: 100X
M49: =IF(B55="","",B55*36) -> 125.28 | N49: =IF(B55="","",B55*9) -> 31.32 | O49: =IF(B55="","",B55*3.6) -> 12.528 | P49: =IF(B55="","",B55*3.6) -> 12.528 | Q49: =IF(B55="","",B55*0.9) -> 3.132 | R49: =IF(B55="","",B55*0.36) -> 1.2528 | S49: =IF(B55="","",B55*(0.0036)) -> 0.012528 | T49: =IF(B55="","",B55*(0.0009)) -> 0.003132 | U49: =IF(B55="","",B55*(0.00036)) -> 0.0012528
B50: INGRESE EL MÉTODO DE MEDIDA FERET/AREA: | F50: FERET | G50: =IF(F50="FERET","",IF(F50="AREA","Método en proceso de validación, favor utilizar Feret","Método de medida no soportado ó no válido")) | M50: =IF(B56="","",B56*36) -> 127.44 | N50: =IF(B56="","",B56*9) -> 31.86 | O50: =IF(B56="","",B56*3.6) -> 12.744 | P50: =IF(B56="","",B56*3.6) -> 12.744 | Q50: =IF(B56="","",B56*0.9) -> 3.186 | R50: =IF(B56="","",B56*0.36) -> 1.2744 | S50: =IF(B56="","",B56*(0.0036)) -> 0.012744 | T50: =IF(B56="","",B56*(0.0009)) -> 0.003186 | U50: =IF(B56="","",B56*(0.00036)) -> 0.0012744
M51: =IF(B57="","",B57*36) -> 133.92 | N51: =IF(B57="","",B57*9) -> 33.48 | O51: =IF(B57="","",B57*3.6) -> 13.392 | P51: =IF(B57="","",B57*3.6) -> 13.392 | Q51: =IF(B57="","",B57*0.9) -> 3.348 | R51: =IF(B57="","",B57*0.36) -> 1.3392 | S51: =IF(B57="","",B57*(0.0036)) -> 0.013392 | T51: =IF(B57="","",B57*(0.0009)) -> 0.003348 | U51: =IF(B57="","",B57*(0.00036)) -> 0.0013392
B52: AUMENTO OBJETIVO UTILIZADO (10 / 40 / 100) X: | F52: 10 | G52: =IF(F52=10,"",IF(F52=40,"",IF(F52=100,"","Escala de objetivo no calibrada [valor no válido]"))) | M52: =IF(B58="","",B58*36) -> 139.32 | N52: =IF(B58="","",B58*9) -> 34.83 | O52: =IF(B58="","",B58*3.6) -> 13.932 | P52: =IF(B58="","",B58*3.6) -> 13.932 | Q52: =IF(B58="","",B58*0.9) -> 3.483 | R52: =IF(B58="","",B58*0.36) -> 1.3932 | S52: =IF(B58="","",B58*(0.0036)) -> 0.013932 | T52: =IF(B58="","",B58*(0.0009)) -> 0.003483 | U52: =IF(B58="","",B58*(0.00036)) -> 0.0013932
B53: =CONCATENATE($L$48,$F$52) -> mm10 | M53: =IF(B59="","",B59*36) -> 1036.188 | N53: =IF(B59="","",B59*9) -> 259.047 | O53: =IF(B59="","",B59*3.6) -> 103.6188 | P53: =IF(B59="","",B59*3.6) -> 103.6188 | Q53: =IF(B59="","",B59*0.9) -> 25.9047 | R53: =IF(B59="","",B59*0.36) -> 10.36188 | S53: =IF(B59="","",B59*(0.0036)) -> 0.1036188 | T53: =IF(B59="","",B59*(0.0009)) -> 0.0259047 | U53: =IF(B59="","",B59*(0.00036)) -> 0.01036188
B54: =CONCATENATE($L$48," / ",$F$52," x ") -> mm / 10 x | C54: =CONCATENATE($L$48," / ",$F$52," x ") -> mm / 10 x | D54: =CONCATENATE($L$48," / ",$F$52," x ") -> mm / 10 x | E54: =CONCATENATE($L$48," / ",$F$52," x ") -> mm / 10 x | F54: =CONCATENATE($L$48," / ",$F$52," x ") -> mm / 10 x | G54: =CONCATENATE($L$48," / ",$F$52," x ") -> mm / 10 x | H54: =CONCATENATE($L$48," / ",$F$52," x ") -> mm / 10 x | I54: =CONCATENATE($L$48," / ",$F$52," x ") -> mm / 10 x | ... K54: =CONCATENATE($L$48," / ",$F$52," x ") -> mm / 10 x | M54: =IF(B60="","",B60*36) -> 1140.192 | N54: =IF(B60="","",B60*9) -> 285.048 | O54: =IF(B60="","",B60*3.6) -> 114.0192 | P54: =IF(B60="","",B60*3.6) -> 114.0192 | Q54: =IF(B60="","",B60*0.9) -> 28.5048 | R54: =IF(B60="","",B60*0.36) -> 11.40192 | S54: =IF(B60="","",B60*(0.0036)) -> 0.1140192 | T54: =IF(B60="","",B60*(0.0009)) -> 0.0285048 | U54: =IF(B60="","",B60*(0.00036)) -> 0.01140192
B55: 3.48 | C55: 3.015 | D55: 3.33 | E55: 3.84 | F55: 3.675 | G55: 4.8 | H55: 3.12 | I55: 3.12 | M55: =IF(B61="","",B61*36) -> 1147.896 | N55: =IF(B61="","",B61*9) -> 286.974 | O55: =IF(B61="","",B61*3.6) -> 114.7896 | P55: =IF(B61="","",B61*3.6) -> 114.7896 | Q55: =IF(B61="","",B61*0.9) -> 28.6974 | R55: =IF(B61="","",B61*0.36) -> 11.47896 | S55: =IF(B61="","",B61*(0.0036)) -> 0.1147896 | T55: =IF(B61="","",B61*(0.0009)) -> 0.0286974 | U55: =IF(B61="","",B61*(0.00036)) -> 0.01147896
B56: 3.54 | C56: 3.12 | D56: 3.39 | E56: 4.32 | F56: 4.14 | G56: 5.16 | H56: 3.6 | I56: 4.8 | M56: =IF(B62="","",B62*36) -> 1232.64 | N56: =IF(B62="","",B62*9) -> 308.16 | O56: =IF(B62="","",B62*3.6) -> 123.264 | P56: =IF(B62="","",B62*3.6) -> 123.264 | Q56: =IF(B62="","",B62*0.9) -> 30.816 | R56: =IF(B62="","",B62*0.36) -> 12.3264 | S56: =IF(B62="","",B62*(0.0036)) -> 0.123264 | T56: =IF(B62="","",B62*(0.0009)) -> 0.030816 | U56: =IF(B62="","",B62*(0.00036)) -> 0.0123264
B57: 3.72 | C57: 3.12 | D57: 3.96 | E57: 4.8 | F57: 4.32 | G57: 5.52 | H57: 3.6 | I57: 8.28 | M57: =IF(B63="","",B63*36) -> 1232.64 | N57: =IF(B63="","",B63*9) -> 308.16 | O57: =IF(B63="","",B63*3.6) -> 123.264 | P57: =IF(B63="","",B63*3.6) -> 123.264 | Q57: =IF(B63="","",B63*0.9) -> 30.816 | R57: =IF(B63="","",B63*0.36) -> 12.3264 | S57: =IF(B63="","",B63*(0.0036)) -> 0.123264 | T57: =IF(B63="","",B63*(0.0009)) -> 0.030816 | U57: =IF(B63="","",B63*(0.00036)) -> 0.0123264
B58: 3.87 | C58: 3.24 | D58: 3.96 | E58: 5.16 | F58: 4.32 | G58: 5.52 | H58: 3.6 | I58: 40.44 | M58: =IF(B64="","",B64*36) -> 1325.088 | N58: =IF(B64="","",B64*9) -> 331.272 | O58: =IF(B64="","",B64*3.6) -> 132.5088 | P58: =IF(B64="","",B64*3.6) -> 132.5088 | Q58: =IF(B64="","",B64*0.9) -> 33.1272 | R58: =IF(B64="","",B64*0.36) -> 13.25088 | S58: =IF(B64="","",B64*(0.0036)) -> 0.1325088 | T58: =IF(B64="","",B64*(0.0009)) -> 0.0331272 | U58: =IF(B64="","",B64*(0.00036)) -> 0.01325088
B59: 28.783 | C59: 28.248 | D59: 28.248 | E59: 36.808 | F59: 34.24 | G59: 39.376 | H59: 28.248 | I59: 25.8 | M59: =IF(B65="","",B65*36) -> 1325.088 | N59: =IF(B65="","",B65*9) -> 331.272 | O59: =IF(B65="","",B65*3.6) -> 132.5088 | P59: =IF(B65="","",B65*3.6) -> 132.5088 | Q59: =IF(B65="","",B65*0.9) -> 33.1272 | R59: =IF(B65="","",B65*0.36) -> 13.25088 | S59: =IF(B65="","",B65*(0.0036)) -> 0.1325088 | T59: =IF(B65="","",B65*(0.0009)) -> 0.0331272 | U59: =IF(B65="","",B65*(0.00036)) -> 0.01325088
B60: 31.672 | C60: 30.816 | D60: 29.746 | E60: 36.808 | F60: 36.808 | G60: 39.376 | H60: 28.248 | I60: 25.8 | M60: =IF(B66="","",B66*36) -> 1371.312 | N60: =IF(B66="","",B66*9) -> 342.828 | O60: =IF(B66="","",B66*3.6) -> 137.1312 | P60: =IF(B66="","",B66*3.6) -> 137.1312 | Q60: =IF(B66="","",B66*0.9) -> 34.2828 | R60: =IF(B66="","",B66*0.36) -> 13.71312 | S60: =IF(B66="","",B66*(0.0036)) -> 0.1371312 | T60: =IF(B66="","",B66*(0.0009)) -> 0.0342828 | U60: =IF(B66="","",B66*(0.00036)) -> 0.01371312
...

Sheet Diámetro_Medio
B1: DIÁMETRO MEDIO DE PARTÍCULA E INCERTIDUMBRE
B2: Para n > 30:
E3: Datos Obtenidos | I3: Rango
I4: Li Conf | K4: Ls Conf
E5: =Distribución_Frecuencias!D15 -> 154 | F5: ± | G5: =((D20*Ingresar_Datos!E3)/SQRT(Ingresar_Datos!F9)) -> 5.521575 | H5: → | I5: =E5-G5 -> 148.47842 | K5: =E5+G5 -> 159.52158
B9: Donde:
B10: d = Diámetro medio de partícula
B11: Zc = Valor esperado(al % de coeficiente de confianza deseado)
B12: S = Desviación estándar
B13: n = Número de partículas caracterizadas
B16: DESVIACIÓN ESTÁNDAR E INCERTIDUMBRE
D18: Datos Obtenidos | H18: Rango
H19: Li Conf | J19: Ls Conf
D20: =SQRT(Distribución_Frecuencias!AD15/((E40-1))) -> 77.253084 | E20: ± | F20: =(D20*Ingresar_Datos!E23)/100 -> 3.8626542 | H20: =D20-F20 -> 73.39043 | J20: =D20+F20 -> 81.115738
G23: =1/2*((SQRT(2*(E40)-3)+Ingresar_Datos!E22)^2) -> 865.10705
G27: =1/2*((SQRT(2*(E40)-3)-Ingresar_Datos!E22)^2) -> 709.73455
G31: Especificación USP 34 NF 29
G32: Li Conf | I32: Ls Conf
G33: =SQRT((D20^2)*(E40/G23)) -> 73.683164 | I33: =SQRT((D20^2)*(E40/G27)) -> 81.349562
B39: TRATAMIENTO ESTADÍSTICO
B40: Tamaño Muestral (n) | E40: =COUNTIF(B66:K165,">0") -> 787
B41: Tamaño Partícula Mayor en um | E41: =ROUNDUP(MAX(B66:K165),0) -> 349
B42: Tamaño Partícula Menor en um | E42: =ROUNDDOWN(MIN(B66:K165),0) -> 10
B43: Tratamiento | E43: =(3.32*(LOG(E40,10)))+1 -> 10.614636 | F43: =ROUNDUP(E43,0) -> 11
B44: Rango Intervalos (L1) Y (L2) | E44: =(E41-E42)/E43 -> 31.937035 | F44: =ROUNDUP(E44,0) -> 32
B46: Conteo de partículas en los límites estimados
B47: LÍMITE INFERIOR (L1) | C47: LÍMITE SUPERIOR (L2) | D47: # de partículas (mayor o igual a L1) | E47: # de partículas (>= a L1 pero < que L2)
B48: =IF(E42<=E41,E42,N.a) -> 10 | C48: =(B48+$F$44) -> 42 | D48: =G48 -> 787 | E48: =(D48-D49) -> 31 | F48: =FREQUENCY($B$66:$K$165,B48:B49) -> 0 | G48: =$E$40-F48 -> 787
B49: =C48 -> 42 | C49: =(B49+$F$44) -> 74 | D49: =G49 -> 756 | E49: =(D49-D50) -> 4 | F49: =FREQUENCY($B$66:$K$165,B49:B50) -> 31 | G49: =$E$40-F49 -> 756
B50: =C49 -> 74 | C50: =(B50+$F$44) -> 106 | D50: =G50 -> 752 | E50: =(D50-D51) -> 218 | F50: =FREQUENCY($B$66:$K$165,B50:B51) -> 35 | G50: =$E$40-F50 -> 752
B51: =C50 -> 106 | C51: =(B51+$F$44) -> 138 | D51: =G51 -> 534 | E51: =(D51-D52) -> 404 | F51: =FREQUENCY($B$66:$K$165,B51:B52) -> 253 | G51: =$E$40-F51 -> 534
B52: =C51 -> 138 | C52: =(B52+$F$44) -> 170 | D52: =G52 -> 130 | E52: =(D52-D53) -> 85 | F52: =FREQUENCY($B$66:$K$165,B52:B53) -> 657 | G52: =$E$40-F52 -> 130
B53: =C52 -> 170 | C53: =(B53+$F$44) -> 202 | D53: =G53 -> 45 | E53: =(D53-D54) -> 13 | F53: =FREQUENCY($B$66:$K$165,B53:B54) -> 742 | G53: =$E$40-F53 -> 45
B54: =C53 -> 202 | C54: =(B54+$F$44) -> 234 | D54: =G54 -> 32 | E54: =(D54-D55) -> 7 | F54: =FREQUENCY($B$66:$K$165,B54:B55) -> 755 | G54: =$E$40-F54 -> 32
B55: =C54 -> 234 | C55: =(B55+$F$44) -> 266 | D55: =G55 -> 25 | E55: =(D55-D56) -> 8 | F55: =FREQUENCY($B$66:$K$165,B55:B56) -> 762 | G55: =$E$40-F55 -> 25
B56: =C55 -> 266 | C56: =(B56+$F$44) -> 298 | D56: =G56 -> 17 | E56: =(D56-D57) -> 8 | F56: =FREQUENCY($B$66:$K$165,B56:B57) -> 770 | G56: =$E$40-F56 -> 17
B57: =C56 -> 298 | C57: =(B57+$F$44) -> 330 | D57: =G57 -> 9 | E57: =(D57-D58) -> 7 | F57: =FREQUENCY($B$66:$K$165,B57:B58) -> 778 | G57: =$E$40-F57 -> 9
B58: =C57 -> 330 | C58: =(B58+$F$44) -> 362 | D58: =G58 -> 2 | E58: =(D58-D59) -> 2 | F58: =FREQUENCY($B$66:$K$165,B58:B59) -> 785 | G58: =$E$40-F58 -> 2
B59: =C58 -> 362 | C59: =(B59+$F$44) -> 394 | D59: =G59 -> 0 | E59: =(D59-D60) -> 0 | F59: =FREQUENCY($B$66:$K$165,B59:B60) -> 787 | G59: =$E$40-F59 -> 0
B60: =C59 -> 394 | C60: =(B60+$F$44) -> 426 | D60: =G60 -> 0 | E60: =(D60-D61) -> 0 | F60: =FREQUENCY($B$66:$K$165,B60:B61) -> 787 | G60: =$E$40-F60 -> 0
...

Sheet Distribución_Frecuencias
B1: DISTRIBUCIÓN_FRECUENCIAS _DATOS_MUESTREO
B2: Rango | D2: d | E2: n | F2: % n | G2: % (n) acumulado | M2: acumulado log d | N2: % acumulado log d | O2: %acumulado n (log d) | P2: log (nd) | S2: %acumulado log nd | T2: % acumulado | U2: % acumulado | Y2: % n* log d | AC2: %acum.
B3: =IF(Diámetro_Medio!B48<Diámetro_Medio!$E$41,Diámetro_Medio!B48,"N.A") -> 10 | C3: =IF(Diámetro_Medio!B48<Diámetro_Medio!$E$41,(Diámetro_Medio!B48+Diámetro_Medio!$F$44),"N.A") -> 42 | D3: =IF(B3="N.A","",(B3+C3)/2) -> 26 | E3: =IF(B19="N.A","",Diámetro_Medio!E48) -> 31 | F3: =IF(B3="N.A","",(E3/$E$15)*100) -> 3.9390089 | G3: =IF(B3="N.A","",F3) -> 3.9390089 | H3: =IF(B3="N.A","",(E3*D3)) -> 806 | I3: =IF(B3="N.A","",(E3*(D3^2))) -> 20956 | J3: =IF(B3="N.A","",(E3*(D3^3))) -> 544856 | K3: =IF(B3="N.A","",IF(E3=0,"",LOG(D3,10))) -> 1.4149733 | L3: =IF(B3="N.A","",(E3*K3)) -> 43.864174 | M3: =IF(B3="N.A","",K3) -> 1.4149733 | N3: =IF(B3="N.A","",(100/$M$15)*M3) -> 5.9207154 | O3: =IF(B3="N.A","",(100/$L$15)*L3) -> 2.7194385 | P3: =IF(B3="N.A","",IF(E3=0,"",LOG(H3,10))) -> 2.906335 | Q3: =IF(B3="N.A","",IF(E3=0,"",LOG(I3,10))) -> 4.3213084 | R3: =IF(B3="N.A","",IF(E3=0,"",LOG(J3,10))) -> 5.7362817 | S3: =IF(B3="N.A","",(100/P15)*P3) -> 7.6932523 | T3: =IF(B3="N.A","",(100/$Q$15)*Q3) -> 7.0064206 | U3: =IF(B3="N.A","",(100/$R$15)*R3) -> 6.7032141 | V3: =IF(B3="N.A","",PI()*(I3)) -> 65835.216 | W3: =IF(B3="N.A","",PI()*(J3)) -> 1711715.6 | X3: =IF(B3="N.A","",(D3^6)*E3) -> 9576389056 | Y3: =IF(B3="N.A","",F3*K3) -> 5.5735926 | Z3: =IF(B3="N.A","",R3*F3) -> 22.595265 | AA3: =IF(B3="N.A","",(D3^4)*E3) -> 14166256 | AB3: =IF(B3="N.A","",IF(E3=0,,LOG(AA3))) -> 7.1512551 | AC3: =IF(B3="N.A","",(100/$AB$15)*AB3) -> 6.5323906 | AD3: =IF(C3="N.A","",((D3-$I$83)^2)*E3) -> 774575.22
B4: =IF(Diámetro_Medio!B49<Diámetro_Medio!$E$41,Diámetro_Medio!B49,"N.A") -> 42 | C4: =IF(Diámetro_Medio!B49<Diámetro_Medio!$E$41,(Diámetro_Medio!B49+Diámetro_Medio!$F$44),"N.A") -> 74 | D4: =IF(B4="N.A","",(B4+C4)/2) -> 58 | E4: =IF(B20="N.A","",Diámetro_Medio!E49) -> 4 | F4: =IF(B4="N.A","",(E4/$E$15)*100) -> 0.50825921 | G4: =IF(B4="N.A","",(F4+G3)) -> 4.4472681 | H4: =IF(B4="N.A","",(E4*D4)) -> 232 | I4: =IF(B4="N.A","",(E4*(D4^2))) -> 13456 | J4: =IF(B4="N.A","",(E4*(D4^3))) -> 780448 | K4: =IF(B4="N.A","",IF(E4=0,"",LOG(D4,10))) -> 1.763428 | L4: =IF(B4="N.A","",(E4*K4)) -> 7.053712 | M4: =IF(B4="N.A","",(M3+K4)) -> 3.1784013 | N4: =IF(B4="N.A","",(100/$M$15)*M4) -> 13.29948 | O4: =IF(B4="N.A","",((100/$L$15)*L4)+O3) -> 3.1567461 | P4: =IF(B4="N.A","",IF(E4=0,"",LOG(H4,10))) -> 2.365488 | Q4: =IF(B4="N.A","",IF(E4=0,"",LOG(I4,10))) -> 4.128916 | R4: =IF(B4="N.A","",IF(E4=0,"",LOG(J4,10))) -> 5.892344 | S4: =IF(B4="N.A","",((100/$P$15)*P4)+S3) -> 13.954848 | T4: =IF(B4="N.A","",((100/$Q$15)*Q4)+T3) -> 13.700903 | U4: =IF(B4="N.A","",((100/$R$15)*R4)+U3) -> 13.588797 | V4: =IF(B4="N.A","",PI()*(I4)) -> 42273.271 | W4: =IF(B4="N.A","",PI()*(J4)) -> 2451849.7 | X4: =IF(B4="N.A","",(D4^6)*E4) -> 152274770176 | Y4: =IF(B4="N.A","",F4*K4) -> 0.89627852 | Z4: =IF(B4="N.A","",R4*F4) -> 2.9948381 | AA4: =IF(B4="N.A","",(D4^4)*E4) -> 45265984 | AB4: =IF(B4="N.A","",IF(E4=0,,LOG(AA4))) -> 7.655772 | AC4: =IF(B4="N.A","",((100/$AB$15)*AB4)+AC3) -> 13.525638 | AD4: =IF(C4="N.A","",((D4-$I$83)^2)*E4) -> 63575.13
B5: =IF(Diámetro_Medio!B50<Diámetro_Medio!$E$41,Diámetro_Medio!B50,"N.A") -> 74 | C5: =IF(Diámetro_Medio!B50<Diámetro_Medio!$E$41,(Diámetro_Medio!B50+Diámetro_Medio!$F$44),"N.A") -> 106 | D5: =IF(B5="N.A","",(B5+C5)/2) -> 90 | E5: =IF(B21="N.A","",Diámetro_Medio!E50) -> 218 | F5: =IF(B5="N.A","",(E5/$E$15)*100) -> 27.700127 | G5: =IF(B5="N.A","",(F5+G4)) -> 32.147395 | H5: =IF(B5="N.A","",(E5*D5)) -> 19620 | I5: =IF(B5="N.A","",(E5*(D5^2))) -> 1765800 | J5: =IF(B5="N.A","",(E5*(D5^3))) -> 158922000 | K5: =IF(B5="N.A","",IF(E5=0,"",LOG(D5,10))) -> 1.9542425 | L5: =IF(B5="N.A","",(E5*K5)) -> 426.02487 | M5: =IF(B5="N.A","",(M4+K5)) -> 5.1326439 | N5: =IF(B5="N.A","",(100/$M$15)*M5) -> 21.476676 | O5: =IF(B5="N.A","",((100/$L$15)*L5)+O4) -> 29.568925 | P5: =IF(B5="N.A","",IF(E5=0,"",LOG(H5,10))) -> 4.292699 | Q5: =IF(B5="N.A","",IF(E5=0,"",LOG(I5,10))) -> 6.2469415 | R5: =IF(B5="N.A","",IF(E5=0,"",LOG(J5,10))) -> 8.201184 | S5: =IF(B5="N.A","",((100/$P$15)*P5)+S4) -> 25.317893 | T5: =IF(B5="N.A","",((100/$Q$15)*Q5)+T4) -> 23.829479 | U5: =IF(B5="N.A","",((100/$R$15)*R5)+U4) -> 23.172408 | V5: =IF(B5="N.A","",PI()*(I5)) -> 5547424.3 | W5: =IF(B5="N.A","",PI()*(J5)) -> 4.9926819e+08 | X5: =IF(B5="N.A","",(D5^6)*E5) -> 115854138000000 | Y5: =IF(B5="N.A","",F5*K5) -> 54.132766 | Z5: =IF(B5="N.A","",R5*F5) -> 227.17384 | AA5: =IF(B5="N.A","",(D5^4)*E5) -> 14302980000 | AB5: =IF(B5="N.A","",IF(E5=0,,LOG(AA5))) -> 10.155427 | AC5: =IF(B5="N.A","",((100/$AB$15)*AB5)+AC4) -> 22.802221 | AD5: =IF(C5="N.A","",((D5-$I$83)^2)*E5) -> 1929140.3
B6: =IF(Diámetro_Medio!B51<Diámetro_Medio!$E$41,Diámetro_Medio!B51,"N.A") -> 106 | C6: =IF(Diámetro_Medio!B51<Diámetro_Medio!$E$41,(Diámetro_Medio!B51+Diámetro_Medio!$F$44),"N.A") -> 138 | D6: =IF(B6="N.A","",(B6+C6)/2) -> 122 | E6: =IF(B22="N.A","",Diámetro_Medio!E51) -> 404 | F6: =IF(B6="N.A","",(E6/$E$15)*100) -> 51.33418 | G6: =IF(B6="N.A","",(F6+G5)) -> 83.481576 | H6: =IF(B6="N.A","",(E6*D6)) -> 49288 | I6: =IF(B6="N.A","",(E6*(D6^2))) -> 6013136 | J6: =IF(B6="N.A","",(E6*(D6^3))) -> 733602592 | K6: =IF(B6="N.A","",IF(E6=0,"",LOG(D6,10))) -> 2.0863598 | L6: =IF(B6="N.A","",(E6*K6)) -> 842.88937 | M6: =IF(B6="N.A","",(M5+K6)) -> 7.2190037 | N6: =IF(B6="N.A","",(100/$M$15)*M6) -> 30.206694 | O6: =IF(B6="N.A","",((100/$L$15)*L6)+O5) -> 81.825371 | P6: =IF(B6="N.A","",IF(E6=0,"",LOG(H6,10))) -> 4.6927412 | Q6: =IF(B6="N.A","",IF(E6=0,"",LOG(I6,10))) -> 6.779101 | R6: =IF(B6="N.A","",IF(E6=0,"",LOG(J6,10))) -> 8.8654609 | S6: =IF(B6="N.A","",((100/$P$15)*P6)+S5) -> 37.739876 | T6: =IF(B6="N.A","",((100/$Q$15)*Q6)+T5) -> 34.82088 | U6: =IF(B6="N.A","",((100/$R$15)*R6)+U5) -> 33.532269 | V6: =IF(B6="N.A","",PI()*(I6)) -> 18890824 | W6: =IF(B6="N.A","",PI()*(J6)) -> 2.3046805e+09 | X6: =IF(B6="N.A","",(D6^6)*E6) -> 1.3321108e+15 | Y6: =IF(B6="N.A","",F6*K6) -> 107.10157 | Z6: =IF(B6="N.A","",R6*F6) -> 455.10117 | AA6: =IF(B6="N.A","",(D6^4)*E6) -> 89499516224 | AB6: =IF(B6="N.A","",IF(E6=0,,LOG(AA6))) -> 10.951821 | AC6: =IF(B6="N.A","",((100/$AB$15)*AB6)+AC5) -> 32.806279 | AD6: =IF(C6="N.A","",((D6-$I$83)^2)*E6) -> 1556512.1
B7: =IF(Diámetro_Medio!B52<Diámetro_Medio!$E$41,Diámetro_Medio!B52,"N.A") -> 138 | C7: =IF(Diámetro_Medio!B52<Diámetro_Medio!$E$41,(Diámetro_Medio!B52+Diámetro_Medio!$F$44),"N.A") -> 170 | D7: =IF(B7="N.A","",(B7+C7)/2) -> 154 | E7: =IF(B23="N.A","",Diámetro_Medio!E52) -> 85 | F7: =IF(B7="N.A","",(E7/$E$15)*100) -> 10.800508 | G7: =IF(B7="N.A","",(F7+G6)) -> 94.282084 | H7: =IF(B7="N.A","",(E7*D7)) -> 13090 | I7: =IF(B7="N.A","",(E7*(D7^2))) -> 2015860 | J7: =IF(B7="N.A","",(E7*(D7^3))) -> 310442440 | K7: =IF(B7="N.A","",IF(E7=0,"",LOG(D7,10))) -> 2.1875207 | L7: =IF(B7="N.A","",(E7*K7)) -> 185.93926 | M7: =IF(B7="N.A","",(M6+K7)) -> 9.4065244 | N7: =IF(B7="N.A","",(100/$M$15)*M7) -> 39.360002 | O7: =IF(B7="N.A","",((100/$L$15)*L7)+O6) -> 93.353011 | P7: =IF(B7="N.A","",IF(E7=0,"",LOG(H7,10))) -> 4.1169396 | Q7: =IF(B7="N.A","",IF(E7=0,"",LOG(I7,10))) -> 6.3044604 | R7: =IF(B7="N.A","",IF(E7=0,"",LOG(J7,10))) -> 8.4919811 | S7: =IF(B7="N.A","",((100/$P$15)*P7)+S6) -> 48.637675 | T7: =IF(B7="N.A","",((100/$Q$15)*Q7)+T6) -> 45.042715 | U7: =IF(B7="N.A","",((100/$R$15)*R7)+U6) -> 43.455695 | V7: =IF(B7="N.A","",PI()*(I7)) -> 6333011 | W7: =IF(B7="N.A","",PI()*(J7)) -> 9.7528369e+08 | X7: =IF(B7="N.A","",(D7^6)*E7) -> 1.1338177e+15 | Y7: =IF(B7="N.A","",F7*K7) -> 23.626336 | Z7: =IF(B7="N.A","",R7*F7) -> 91.717712 | AA7: =IF(B7="N.A","",(D7^4)*E7) -> 47808135760 | AB7: =IF(B7="N.A","",IF(E7=0,,LOG(AA7))) -> 10.679502 | AC7: =IF(B7="N.A","",((100/$AB$15)*AB7)+AC6) -> 42.561584 | AD7: =IF(C7="N.A","",((D7-$I$83)^2)*E7) -> 76860.204
B8: =IF(Diámetro_Medio!B53<Diámetro_Medio!$E$41,Diámetro_Medio!B53,"N.A") -> 170 | C8: =IF(Diámetro_Medio!B53<Diámetro_Medio!$E$41,(Diámetro_Medio!B53+Diámetro_Medio!$F$44),"N.A") -> 202 | D8: =IF(B8="N.A","",(B8+C8)/2) -> 186 | E8: =IF(B24="N.A","",Diámetro_Medio!E53) -> 13 | F8: =IF(B8="N.A","",(E8/$E$15)*100) -> 1.6518424 | G8: =IF(B8="N.A","",(F8+G7)) -> 95.933926 | H8: =IF(B8="N.A","",(E8*D8)) -> 2418 | I8: =IF(B8="N.A","",(E8*(D8^2))) -> 449748 | J8: =IF(B8="N.A","",(E8*(D8^3))) -> 83653128 | K8: =IF(B8="N.A","",IF(E8=0,"",LOG(D8,10))) -> 2.2695129 | L8: =IF(B8="N.A","",(E8*K8)) -> 29.503668 | M8: =IF(B8="N.A","",(M7+K8)) -> 11.676037 | N8: =IF(B8="N.A","",(100/$M$15)*M8) -> 48.856393 | O8: =IF(B8="N.A","",((100/$L$15)*L8)+O7) -> 95.182144 | P8: =IF(B8="N.A","",IF(E8=0,"",LOG(H8,10))) -> 3.3834563 | Q8: =IF(B8="N.A","",IF(E8=0,"",LOG(I8,10))) -> 5.6529692 | R8: =IF(B8="N.A","",IF(E8=0,"",LOG(J8,10))) -> 7.9224822 | S8: =IF(B8="N.A","",((100/$P$15)*P8)+S7) -> 57.593897 | T8: =IF(B8="N.A","",((100/$Q$15)*Q8)+T7) -> 54.208244 | U8: =IF(B8="N.A","",((100/$R$15)*R8)+U7) -> 52.713625 | V8: =IF(B8="N.A","",PI()*(I8)) -> 1412925 | W8: =IF(B8="N.A","",PI()*(J8)) -> 2.6280405e+08 | X8: =IF(B8="N.A","",(D8^6)*E8) -> 538295832629568 | Y8: =IF(B8="N.A","",F8*K8) -> 3.7488778 | Z8: =IF(B8="N.A","",R8*F8) -> 13.086692 | AA8: =IF(B8="N.A","",(D8^4)*E8) -> 15559481808 | AB8: =IF(B8="N.A","",IF(E8=0,,LOG(AA8))) -> 10.191995 | AC8: =IF(B8="N.A","",((100/$AB$15)*AB8)+AC7) -> 51.871571 | AD8: =IF(C8="N.A","",((D8-$I$83)^2)*E8) -> 48.396337
B9: =IF(Diámetro_Medio!B54<Diámetro_Medio!$E$41,Diámetro_Medio!B54,"N.A") -> 202 | C9: =IF(Diámetro_Medio!B54<Diámetro_Medio!$E$41,(Diámetro_Medio!B54+Diámetro_Medio!$F$44),"N.A") -> 234 | D9: =IF(B9="N.A","",(B9+C9)/2) -> 218 | E9: =IF(B25="N.A","",Diámetro_Medio!E54) -> 7 | F9: =IF(B9="N.A","",(E9/$E$15)*100) -> 0.88945362 | G9: =IF(B9="N.A","",(F9+G8)) -> 96.82338 | H9: =IF(B9="N.A","",(E9*D9)) -> 1526 | I9: =IF(B9="N.A","",(E9*(D9^2))) -> 332668 | J9: =IF(B9="N.A","",(E9*(D9^3))) -> 72521624 | K9: =IF(B9="N.A","",IF(E9=0,"",LOG(D9,10))) -> 2.3384565 | L9: =IF(B9="N.A","",(E9*K9)) -> 16.369195 | M9: =IF(B9="N.A","",(M8+K9)) -> 14.014494 | N9: =IF(B9="N.A","",(100/$M$15)*M9) -> 58.641267 | O9: =IF(B9="N.A","",((100/$L$15)*L9)+O8) -> 96.196981 | P9: =IF(B9="N.A","",IF(E9=0,"",LOG(H9,10))) -> 3.1835545 | Q9: =IF(B9="N.A","",IF(E9=0,"",LOG(I9,10))) -> 5.522011 | R9: =IF(B9="N.A","",IF(E9=0,"",LOG(J9,10))) -> 7.8604675 | S9: =IF(B9="N.A","",((100/$P$15)*P9)+S8) -> 66.020967 | T9: =IF(B9="N.A","",((100/$Q$15)*Q9)+T8) -> 63.161443 | U9: =IF(B9="N.A","",((100/$R$15)*R9)+U8) -> 61.899086 | V9: =IF(B9="N.A","",PI()*(I9)) -> 1045107.3 | W9: =IF(B9="N.A","",PI()*(J9)) -> 2.278334e+08 | X9: =IF(B9="N.A","",(D9^6)*E9) -> 751340849656768 | Y9: =IF(B9="N.A","",F9*K9) -> 2.0799486 | Z9: =IF(B9="N.A","",R9*F9) -> 6.9915213 | AA9: =IF(B9="N.A","",(D9^4)*E9) -> 15809714032 | AB9: =IF(B9="N.A","",IF(E9=0,,LOG(AA9))) -> 10.198924 | AC9: =IF(B9="N.A","",((100/$AB$15)*AB9)+AC8) -> 61.187888 | AD9: =IF(C9="N.A","",((D9-$I$83)^2)*E9) -> 8058.4552
B10: =IF(Diámetro_Medio!B55<Diámetro_Medio!$E$41,Diámetro_Medio!B55,"N.A") -> 234 | C10: =IF(Diámetro_Medio!B55<Diámetro_Medio!$E$41,(Diámetro_Medio!B55+Diámetro_Medio!$F$44),"N.A") -> 266 | D10: =IF(B10="N.A","",(B10+C10)/2) -> 250 | E10: =IF(B26="N.A","",Diámetro_Medio!E55) -> 8 | F10: =IF(B10="N.A","",(E10/$E$15)*100) -> 1.0165184 | G10: =IF(B10="N.A","",(F10+G9)) -> 97.839898 | H10: =IF(B10="N.A","",(E10*D10)) -> 2000 | I10: =IF(B10="N.A","",(E10*(D10^2))) -> 500000 | J10: =IF(B10="N.A","",(E10*(D10^3))) -> 125000000 | K10: =IF(B10="N.A","",IF(E10=0,"",LOG(D10,10))) -> 2.39794 | L10: =IF(B10="N.A","",(E10*K10)) -> 19.18352 | M10: =IF(B10="N.A","",(M9+K10)) -> 16.412434 | N10: =IF(B10="N.A","",(100/$M$15)*M10) -> 68.675039 | O10: =IF(B10="N.A","",((100/$L$15)*L10)+O9) -> 97.386298 | P10: =IF(B10="N.A","",IF(E10=0,"",LOG(H10,10))) -> 3.30103 | Q10: =IF(B10="N.A","",IF(E10=0,"",LOG(I10,10))) -> 5.69897 | R10: =IF(B10="N.A","",IF(E10=0,"",LOG(J10,10))) -> 8.09691 | S10: =IF(B10="N.A","",((100/$P$15)*P10)+S9) -> 74.759001 | T10: =IF(B10="N.A","",((100/$Q$15)*Q10)+T9) -> 72.401557 | U10: =IF(B10="N.A","",((100/$R$15)*R10)+U9) -> 71.360846 | V10: =IF(B10="N.A","",PI()*(I10)) -> 1570796.3 | W10: =IF(B10="N.A","",PI()*(J10)) -> 3.9269908e+08 | X10: =IF(B10="N.A","",(D10^6)*E10) -> 1.953125e+15 | Y10: =IF(B10="N.A","",F10*K10) -> 2.4375502 | Z10: =IF(B10="N.A","",R10*F10) -> 8.2306582 | AA10: =IF(B10="N.A","",(D10^4)*E10) -> 31250000000 | AB10: =IF(B10="N.A","",IF(E10=0,,LOG(AA10))) -> 10.49485 | AC10: =IF(B10="N.A","",((100/$AB$15)*AB10)+AC9) -> 70.774521 | AD10: =IF(C10="N.A","",((D10-$I$83)^2)*E10) -> 34773.544
B11: =IF(Diámetro_Medio!B56<Diámetro_Medio!$E$41,Diámetro_Medio!B56,"N.A") -> 266 | C11: =IF(Diámetro_Medio!B56<Diámetro_Medio!$E$41,(Diámetro_Medio!B56+Diámetro_Medio!$F$44),"N.A") -> 298 | D11: =IF(B11="N.A","",(B11+C11)/2) -> 282 | E11: =IF(B27="N.A","",Diámetro_Medio!E56) -> 8 | F11: =IF(B11="N.A","",(E11/$E$15)*100) -> 1.0165184 | G11: =IF(B11="N.A","",(F11+G10)) -> 98.856417 | H11: =IF(B11="N.A","",(E11*D11)) -> 2256 | I11: =IF(B11="N.A","",(E11*(D11^2))) -> 636192 | J11: =IF(B11="N.A","",(E11*(D11^3))) -> 179406144 | K11: =IF(B11="N.A","",IF(E11=0,"",LOG(D11,10))) -> 2.4502491 | L11: =IF(B11="N.A","",(E11*K11)) -> 19.601993 | M11: =IF(B11="N.A","",(M10+K11)) -> 18.862683 | N11: =IF(B11="N.A","",(100/$M$15)*M11) -> 78.92769 | O11: =IF(B11="N.A","",((100/$L$15)*L11)+O10) -> 98.601559 | P11: =IF(B11="N.A","",IF(E11=0,"",LOG(H11,10))) -> 3.3533391 | Q11: =IF(B11="N.A","",IF(E11=0,"",LOG(I11,10))) -> 5.8035882 | R11: =IF(B11="N.A","",IF(E11=0,"",LOG(J11,10))) -> 8.2538373 | S11: =IF(B11="N.A","",((100/$P$15)*P11)+S10) -> 83.635502 | T11: =IF(B11="N.A","",((100/$Q$15)*Q11)+T10) -> 81.811295 | U11: =IF(B11="N.A","",((100/$R$15)*R11)+U10) -> 81.005986 | V11: =IF(B11="N.A","",PI()*(I11)) -> 1998656.1 | W11: =IF(B11="N.A","",PI()*(J11)) -> 5.6362102e+08 | X11: =IF(B11="N.A","",(D11^6)*E11) -> 4.0233206e+15 | Y11: =IF(B11="N.A","",F11*K11) -> 2.4907234 | Z11: =IF(B11="N.A","",R11*F11) -> 8.3901777 | AA11: =IF(B11="N.A","",(D11^4)*E11) -> 50592532608 | AB11: =IF(B11="N.A","",IF(E11=0,,LOG(AA11))) -> 10.704086 | AC11: =IF(B11="N.A","",((100/$AB$15)*AB11)+AC10) -> 80.552283 | AD11: =IF(C11="N.A","",((D11-$I$83)^2)*E11) -> 76721.425
B12: =IF(Diámetro_Medio!B57<Diámetro_Medio!$E$41,Diámetro_Medio!B57,"N.A") -> 298 | C12: =IF(Diámetro_Medio!B57<Diámetro_Medio!$E$41,(Diámetro_Medio!B57+Diámetro_Medio!$F$44),"N.A") -> 330 | D12: =IF(B12="N.A","",(B12+C12)/2) -> 314 | E12: =IF(B28="N.A","",Diámetro_Medio!E57) -> 7 | F12: =IF(B12="N.A","",(E12/$E$15)*100) -> 0.88945362 | G12: =IF(B12="N.A","",(F12+G11)) -> 99.74587 | H12: =IF(B12="N.A","",(E12*D12)) -> 2198 | I12: =IF(B12="N.A","",(E12*(D12^2))) -> 690172 | J12: =IF(B12="N.A","",(E12*(D12^3))) -> 216714008 | K12: =IF(B12="N.A","",IF(E12=0,"",LOG(D12,10))) -> 2.4969296 | L12: =IF(B12="N.A","",(E12*K12)) -> 17.478508 | M12: =IF(B12="N.A","",(M11+K12)) -> 21.359613 | N12: =IF(B12="N.A","",(100/$M$15)*M12) -> 89.375668 | O12: =IF(B12="N.A","",((100/$L$15)*L12)+O11) -> 99.685171 | P12: =IF(B12="N.A","",IF(E12=0,"",LOG(H12,10))) -> 3.3420277 | Q12: =IF(B12="N.A","",IF(E12=0,"",LOG(I12,10))) -> 5.8389573 | R12: =IF(B12="N.A","",IF(E12=0,"",LOG(J12,10))) -> 8.335887 | S12: =IF(B12="N.A","",((100/$P$15)*P12)+S11) -> 92.48206 | T12: =IF(B12="N.A","",((100/$Q$15)*Q12)+T11) -> 91.278379 | U12: =IF(B12="N.A","",((100/$R$15)*R12)+U11) -> 90.747006 | V12: =IF(B12="N.A","",PI()*(I12)) -> 2168239.3 | W12: =IF(B12="N.A","",PI()*(J12)) -> 6.8082714e+08 | X12: =IF(B12="N.A","",(D12^6)*E12) -> 6.7092802e+15 | Y12: =IF(B12="N.A","",F12*K12) -> 2.2209031 | Z12: =IF(B12="N.A","",R12*F12) -> 7.4143849 | AA12: =IF(B12="N.A","",(D12^4)*E12) -> 68048198512 | AB12: =IF(B12="N.A","",IF(E12=0,,LOG(AA12))) -> 10.832817 | AC12: =IF(B12="N.A","",((100/$AB$15)*AB12)+AC11) -> 90.447636 | AD12: =IF(C12="N.A","",((D12-$I$83)^2)*E12) -> 118171.64
B13: =IF(Diámetro_Medio!B58<Diámetro_Medio!$E$41,Diámetro_Medio!B58,"N.A") -> 330 | C13: =IF(Diámetro_Medio!B58<Diámetro_Medio!$E$41,(Diámetro_Medio!B58+Diámetro_Medio!$F$44),"N.A") -> 362 | D13: =IF(B13="N.A","",(B13+C13)/2) -> 346 | E13: =IF(B29="N.A","",Diámetro_Medio!E58) -> 2 | F13: =IF(B13="N.A","",(E13/$E$15)*100) -> 0.25412961 | G13: =IF(B13="N.A","",(F13+G12)) -> 100 | H13: =IF(B13="N.A","",(E13*D13)) -> 692 | I13: =IF(B13="N.A","",(E13*(D13^2))) -> 239432 | J13: =IF(B13="N.A","",(E13*(D13^3))) -> 82843472 | K13: =IF(B13="N.A","",IF(E13=0,"",LOG(D13,10))) -> 2.5390761 | L13: =IF(B13="N.A","",(E13*K13)) -> 5.0781522 | M13: =IF(B13="N.A","",(M12+K13)) -> 23.898689 | N13: =IF(B13="N.A","",(100/$M$15)*M13) -> 100 | O13: =IF(B13="N.A","",((100/$L$15)*L13)+O12) -> 100 | P13: =IF(B13="N.A","",IF(E13=0,"",LOG(H13,10))) -> 2.8401061 | Q13: =IF(B13="N.A","",IF(E13=0,"",LOG(I13,10))) -> 5.3791822 | R13: =IF(B13="N.A","",IF(E13=0,"",LOG(J13,10))) -> 7.9182583 | S13: =IF(B13="N.A","",((100/$P$15)*P13)+S12) -> 100 | T13: =IF(B13="N.A","",((100/$Q$15)*Q13)+T12) -> 100 | U13: =IF(B13="N.A","",((100/$R$15)*R13)+U12) -> 100 | V13: =IF(B13="N.A","",PI()*(I13)) -> 752197.81 | W13: =IF(B13="N.A","",PI()*(J13)) -> 2.6026044e+08 | X13: =IF(B13="N.A","",(D13^6)*E13) -> 3.4315204e+15 | Y13: =IF(B13="N.A","",F13*K13) -> 0.64525441 | Z13: =IF(B13="N.A","",R13*F13) -> 2.0122639 | AA13: =IF(B13="N.A","",(D13^4)*E13) -> 28663841312 | AB13: =IF(B13="N.A","",IF(E13=0,,LOG(AA13))) -> 10.457334 | AC13: =IF(B13="N.A","",((100/$AB$15)*AB13)+AC12) -> 100 | AD13: =IF(C13="N.A","",((D13-$I$83)^2)*E13) -> 52442.297
B14: =IF(Diámetro_Medio!B59<Diámetro_Medio!$E$41,Diámetro_Medio!B59,"N.A") -> N.A | C14: =IF(Diámetro_Medio!B59<Diámetro_Medio!$E$41,(Diámetro_Medio!B59+Diámetro_Medio!$F$44),"N.A") -> N.A | D14: =IF(B14="N.A","",(B14+C14)/2) | E14: =IF(B30="N.A","",Diámetro_Medio!E59) | F14: =IF(B14="N.A","",(E14/$E$15)*100) | G14: =IF(B14="N.A","",(F14+G13)) | H14: =IF(B14="N.A","",(E14*D14)) | I14: =IF(B14="N.A","",(E14*(D14^2))) | J14: =IF(B14="N.A","",(E14*(D14^3))) | K14: =IF(B14="N.A","",IF(E14=0,"",LOG(D14,10))) | L14: =IF(B14="N.A","",(E14*K14)) | M14: =IF(B14="N.A","",(M13+K14)) | N14: =IF(B14="N.A","",(100/$M$15)*M14) | O14: =IF(B14="N.A","",((100/$L$15)*L14)+O13) | P14: =IF(B14="N.A","",IF(E14=0,"",LOG(H14,10))) | Q14: =IF(B14="N.A","",IF(E14=0,"",LOG(I14,10))) | R14: =IF(B14="N.A","",IF(E14=0,"",LOG(J14,10))) | S14: =IF(B14="N.A","",((100/$P$15)*P14)+S13) | T14: =IF(B14="N.A","",((100/$Q$15)*Q14)+T13) | U14: =IF(B14="N.A","",((100/$R$15)*R14)+U13) | V14: =IF(B14="N.A","",PI()*(I14)) | W14: =IF(B14="N.A","",PI()*(J14)) | X14: =IF(B14="N.A","",(D14^6)*E14) | Y14: =IF(B14="N.A","",F14*K14) | Z14: =IF(B14="N.A","",R14*F14) | AA14: =IF(B14="N.A","",(D14^4)*E14) | AB14: =IF(B14="N.A","",IF(E14=0,,LOG(AA14))) | AC14: =IF(B14="N.A","",((100/$AB$15)*AB14)+AC13) | AD14: =IF(C14="N.A","",((D14-$I$83)^2)*E14)
B15: TOTAL= | D15: =SUM(D3:D11)/9 -> 154 | E15: =SUM(E3:E14) -> 787 | F15: =SUM(F3:F14) -> 100 | G15: =MAX(G3:G14) -> 100 | H15: =SUM(H3:H14) -> 94126 | I15: =SUM(I3:I14) -> 12677420 | J15: =SUM(J3:J14) -> 1964430712 | K15: =SUM(K3:K14) -> 23.898689 | L15: =SUM(L3:L14) -> 1612.9864 | M15: =IF(M14="",IF(M13="",IF(M12="",IF(M11="",IF(M10="",IF(M9="",IF(M8="",IF(M7="",M6,M7),M8),M9),M10),M11),M12),M13),M14) -> 23.898689 | N15: =IF(N14="",IF(N13="",IF(N12="",IF(N11="",IF(N10="",IF(N9="",IF(N8="",IF(N7="",N6,N7),N8),N9),N10),N11),N12),N13),N14) -> 100 | O15: =IF(O14="",IF(O13="",IF(O12="",IF(O11="",IF(O10="",IF(O9="",IF(O8="",IF(O7="",O6,O7),O8),O9),O10),O11),O12),O13),O14) -> 100 | P15: =SUM(P3:P14) -> 37.777717 | Q15: =SUM(Q3:Q14) -> 61.676405 | R15: =SUM(R3:R14) -> 85.575094 | S15: =IF(S14="",IF(S13="",IF(S12="",IF(S11="",IF(S10="",IF(S9="",IF(S8="",IF(S7="",S6,S7),S8),S9),S10),S11),S12),S13),S14) -> 100 | T15: =IF(T14="",IF(T13="",IF(T12="",IF(T11="",IF(T10="",IF(T9="",IF(T8="",IF(T7="",T6,T7),T8),T9),T10),T11),T12),T13),T14) -> 100 | U15: =IF(U14="",IF(U13="",IF(U12="",IF(U11="",IF(U10="",IF(U9="",IF(U8="",IF(U7="",U6,U7),U8),U9),U10),U11),U12),U13),U14) -> 100 | V15: =SUM(V3:V14) -> 39827290 | W15: =SUM(W3:W14) -> 6.1714411e+09 | X15: =SUM(X3:X14) -> 1.9988827e+16 | Y15: =SUM(Y3:Y14) -> 204.9538 | Z15: =SUM(Z3:Z14) -> 845.70852 | AA15: =SUM(AA3:AA14) -> 361593832496 | AB15: =SUM(AB3:AB14) -> 109.47378 | AC15: =IF(AC14="",IF(AC13="",IF(AC12="",IF(AC11="",IF(AC10="",IF(AC9="",IF(AC8="",IF(AC7="",AC6,AC7),AC8),AC9),AC10),AC11),AC12),AC13),AC14) -> 100 | AD15: =SUM(AD3:AD14) -> 4690878.7
B17: DISTRIBUCIÓN_FRECUENCIAS _EXPONENCIALES_DATOS_MUESTREO
B18: Rango | D18: d | E18: n | K18: %acum.
B19: =IF(Diámetro_Medio!B48<Diámetro_Medio!$E$41,Diámetro_Medio!B48,"N.A") -> 10 | C19: =IF(Diámetro_Medio!B48<Diámetro_Medio!$E$41,(Diámetro_Medio!B48+Diámetro_Medio!$F$44),"N.A") -> 42 | D19: =IF(B19="N.A","",(B19+C19)/2) -> 26 | E19: =IF(B19="N.A","",Diámetro_Medio!E48) -> 31 | F19: =IF(B19="N.A","",(E19*D19)) -> 806 | G19: =IF(B19="N.A","",(E19*(D19^2))) -> 20956 | H19: =IF(B19="N.A","",(E19*(D19^3))) -> 544856 | I19: =IF(B19="N.A","",(D19^4)*E19) -> 14166256 | J19: =IF(B19="N.A","",(D19^6)*E19) -> 9576389056 | K19: =AC3 -> 6.5323906
B20: =IF(Diámetro_Medio!B49<Diámetro_Medio!$E$41,Diámetro_Medio!B49,"N.A") -> 42 | C20: =IF(Diámetro_Medio!B49<Diámetro_Medio!$E$41,(Diámetro_Medio!B49+Diámetro_Medio!$F$44),"N.A") -> 74 | D20: =IF(B20="N.A","",(B20+C20)/2) -> 58 | E20: =IF(B20="N.A","",Diámetro_Medio!E49) -> 4 | F20: =IF(B20="N.A","",(E20*D20)) -> 232 | G20: =IF(B20="N.A","",(E20*(D20^2))) -> 13456 | H20: =IF(B20="N.A","",(E20*(D20^3))) -> 780448 | I20: =IF(B20="N.A","",(D20^4)*E20) -> 45265984 | J20: =IF(B20="N.A","",(D20^6)*E20) -> 152274770176 | K20: =AC4 -> 13.525638
B21: =IF(Diámetro_Medio!B50<Diámetro_Medio!$E$41,Diámetro_Medio!B50,"N.A") -> 74 | C21: =IF(Diámetro_Medio!B50<Diámetro_Medio!$E$41,(Diámetro_Medio!B50+Diámetro_Medio!$F$44),"N.A") -> 106 | D21: =IF(B21="N.A","",(B21+C21)/2) -> 90 | E21: =IF(B21="N.A","",Diámetro_Medio!E50) -> 218 | F21: =IF(B21="N.A","",(E21*D21)) -> 19620 | G21: =IF(B21="N.A","",(E21*(D21^2))) -> 1765800 | H21: =IF(B21="N.A","",(E21*(D21^3))) -> 158922000 | I21: =IF(B21="N.A","",(D21^4)*E21) -> 14302980000 | J21: =IF(B21="N.A","",(D21^6)*E21) -> 115854138000000 | K21: =AC5 -> 22.802221
B22: =IF(Diámetro_Medio!B51<Diámetro_Medio!$E$41,Diámetro_Medio!B51,"N.A") -> 106 | C22: =IF(Diámetro_Medio!B51<Diámetro_Medio!$E$41,(Diámetro_Medio!B51+Diámetro_Medio!$F$44),"N.A") -> 138 | D22: =IF(B22="N.A","",(B22+C22)/2) -> 122 | E22: =IF(B22="N.A","",Diámetro_Medio!E51) -> 404 | F22: =IF(B22="N.A","",(E22*D22)) -> 49288 | G22: =IF(B22="N.A","",(E22*(D22^2))) -> 6013136 | H22: =IF(B22="N.A","",(E22*(D22^3))) -> 733602592 | I22: =IF(B22="N.A","",(D22^4)*E22) -> 89499516224 | J22: =IF(B22="N.A","",(D22^6)*E22) -> 1.3321108e+15 | K22: =AC6 -> 32.806279
B23: =IF(Diámetro_Medio!B52<Diámetro_Medio!$E$41,Diámetro_Medio!B52,"N.A") -> 138 | C23: =IF(Diámetro_Medio!B52<Diámetro_Medio!$E$41,(Diámetro_Medio!B52+Diámetro_Medio!$F$44),"N.A") -> 170 | D23: =IF(B23="N.A","",(B23+C23)/2) -> 154 | E23: =IF(B23="N.A","",Diámetro_Medio!E52) -> 85 | F23: =IF(B23="N.A","",(E23*D23)) -> 13090 | G23: =IF(B23="N.A","",(E23*(D23^2))) -> 2015860 | H23: =IF(B23="N.A","",(E23*(D23^3))) -> 310442440 | I23: =IF(B23="N.A","",(D23^4)*E23) -> 47808135760 | J23: =IF(B23="N.A","",(D23^6)*E23) -> 1.1338177e+15 | K23: =AC7 -> 42.561584
B24: =IF(Diámetro_Medio!B53<Diámetro_Medio!$E$41,Diámetro_Medio!B53,"N.A") -> 170 | C24: =IF(Diámetro_Medio!B53<Diámetro_Medio!$E$41,(Diámetro_Medio!B53+Diámetro_Medio!$F$44),"N.A") -> 202 | D24: =IF(B24="N.A","",(B24+C24)/2) -> 186 | E24: =IF(B24="N.A","",Diámetro_Medio!E53) -> 13 | F24: =IF(B24="N.A","",(E24*D24)) -> 2418 | G24: =IF(B24="N.A","",(E24*(D24^2))) -> 449748 | H24: =IF(B24="N.A","",(E24*(D24^3))) -> 83653128 | I24: =IF(B24="N.A","",(D24^4)*E24) -> 15559481808 | J24: =IF(B24="N.A","",(D24^6)*E24) -> 538295832629568 | K24: =AC8 -> 51.871571
B25: =IF(Diámetro_Medio!B54<Diámetro_Medio!$E$41,Diámetro_Medio!B54,"N.A") -> 202 | C25: =IF(Diámetro_Medio!B54<Diámetro_Medio!$E$41,(Diámetro_Medio!B54+Diámetro_Medio!$F$44),"N.A") -> 234 | D25: =IF(B25="N.A","",(B25+C25)/2) -> 218 | E25: =IF(B25="N.A","",Diámetro_Medio!E54) -> 7 | F25: =IF(B25="N.A","",(E25*D25)) -> 1526 | G25: =IF(B25="N.A","",(E25*(D25^2))) -> 332668 | H25: =IF(B25="N.A","",(E25*(D25^3))) -> 72521624 | I25: =IF(B25="N.A","",(D25^4)*E25) -> 15809714032 | J25: =IF(B25="N.A","",(D25^6)*E25) -> 751340849656768 | K25: =AC9 -> 61.187888
B26: =IF(Diámetro_Medio!B55<Diámetro_Medio!$E$41,Diámetro_Medio!B55,"N.A") -> 234 | C26: =IF(Diámetro_Medio!B55<Diámetro_Medio!$E$41,(Diámetro_Medio!B55+Diámetro_Medio!$F$44),"N.A") -> 266 | D26: =IF(B26="N.A","",(B26+C26)/2) -> 250 | E26: =IF(B26="N.A","",Diámetro_Medio!E55) -> 8 | F26: =IF(B26="N.A","",(E26*D26)) -> 2000 | G26: =IF(B26="N.A","",(E26*(D26^2))) -> 500000 | H26: =IF(B26="N.A","",(E26*(D26^3))) -> 125000000 | I26: =IF(B26="N.A","",(D26^4)*E26) -> 31250000000 | J26: =IF(B26="N.A","",(D26^6)*E26) -> 1.953125e+15 | K26: =AC10 -> 70.774521
B27: =IF(Diámetro_Medio!B56<Diámetro_Medio!$E$41,Diámetro_Medio!B56,"N.A") -> 266 | C27: =IF(Diámetro_Medio!B56<Diámetro_Medio!$E$41,(Diámetro_Medio!B56+Diámetro_Medio!$F$44),"N.A") -> 298 | D27: =IF(B27="N.A","",(B27+C27)/2) -> 282 | E27: =IF(B27="N.A","",Diámetro_Medio!E56) -> 8 | F27: =IF(B27="N.A","",(E27*D27)) -> 2256 | G27: =IF(B27="N.A","",(E27*(D27^2))) -> 636192 | H27: =IF(B27="N.A","",(E27*(D27^3))) -> 179406144 | I27: =IF(B27="N.A","",(D27^4)*E27) -> 50592532608 | J27: =IF(B27="N.A","",(D27^6)*E27) -> 4.0233206e+15 | K27: =AC11 -> 80.552283
B28: =IF(Diámetro_Medio!B57<Diámetro_Medio!$E$41,Diámetro_Medio!B57,"N.A") -> 298 | C28: =IF(Diámetro_Medio!B57<Diámetro_Medio!$E$41,(Diámetro_Medio!B57+Diámetro_Medio!$F$44),"N.A") -> 330 | D28: =IF(B28="N.A","",(B28+C28)/2) -> 314 | E28: =IF(B28="N.A","",Diámetro_Medio!E57) -> 7 | F28: =IF(B28="N.A","",(E28*D28)) -> 2198 | G28: =IF(B28="N.A","",(E28*(D28^2))) -> 690172 | H28: =IF(B28="N.A","",(E28*(D28^3))) -> 216714008 | I28: =IF(B28="N.A","",(D28^4)*E28) -> 68048198512 | J28: =IF(B28="N.A","",(D28^6)*E28) -> 6.7092802e+15 | K28: =AC12 -> 90.447636
B29: =IF(Diámetro_Medio!B58<Diámetro_Medio!$E$41,Diámetro_Medio!B58,"N.A") -> 330 | C29: =IF(Diámetro_Medio!B58<Diámetro_Medio!$E$41,(Diámetro_Medio!B58+Diámetro_Medio!$F$44),"N.A") -> 362 | D29: =IF(B29="N.A","",(B29+C29)/2) -> 346 | E29: =IF(B29="N.A","",Diámetro_Medio!E58) -> 2 | F29: =IF(B29="N.A","",(E29*D29)) -> 692 | G29: =IF(B29="N.A","",(E29*(D29^2))) -> 239432 | H29: =IF(B29="N.A","",(E29*(D29^3))) -> 82843472 | I29: =IF(B29="N.A","",(D29^4)*E29) -> 28663841312 | J29: =IF(B29="N.A","",(D29^6)*E29) -> 3.4315204e+15 | K29: =AC13 -> 100
B30: =IF(Diámetro_Medio!B59<Diámetro_Medio!$E$41,Diámetro_Medio!B59,"N.A") -> N.A | C30: =IF(Diámetro_Medio!B59<Diámetro_Medio!$E$41,(Diámetro_Medio!B59+Diámetro_Medio!$F$44),"N.A") -> N.A | D30: =IF(B30="N.A","",(B30+C30)/2) | E30: =IF(B30="N.A","",Diámetro_Medio!E59) | F30: =IF(B30="N.A","",(E30*D30)) | G30: =IF(B30="N.A","",(E30*(D30^2))) | H30: =IF(B30="N.A","",(E30*(D30^3))) | I30: =IF(B30="N.A","",(D30^4)*E30) | J30: =IF(B30="N.A","",(D30^6)*E30) | K30: =AC14
B31: TOTAL= | D31: =SUM(D19:D27)/9 -> 154 | E31: =SUM(E19:E30) -> 787 | F31: =SUM(F19:F30) -> 94126 | G31: =SUM(G19:G30) -> 12677420 | H31: =SUM(H19:H30) -> 1964430712 | I31: =SUM(I19:I30) -> 361593832496 | J31: =SUM(J19:J30) -> 1.9988827e+16 | K31: =AC15 -> 100
B33: DISTRIBUCIÓN_FRECUENCIAS _LOGARÍTMICAS_DATOS_MUESTREO
B34: Rango | D34: d | E34: n | F34: log n (d) | J34: %acumulado log nd | K34: % acumulado | L34: % acumulado
B35: =IF(Diámetro_Medio!B48<Diámetro_Medio!$E$41,Diámetro_Medio!B48,"N.A") -> 10 | C35: =IF(Diámetro_Medio!B48<Diámetro_Medio!$E$41,(Diámetro_Medio!B48+Diámetro_Medio!$F$44),"N.A") -> 42 | D35: =IF(B35="N.A","",(B35+C35)/2) -> 26 | E35: =IF(B35="N.A","",Diámetro_Medio!E48) -> 31 | F35: =IF(B35="N.A","",IF(E35=0,"",LOG(F19,10))) -> 2.906335 | G35: =IF(B35="N.A","",IF(E35=0,"",LOG(G19,10))) -> 4.3213084 | H35: =IF(B35="N.A","",IF(E35=0,"",LOG(H19,10))) -> 5.7362817 | I35: =IF(B35="N.A","",IF(E35=0,,LOG(I19))) -> 7.1512551 | J35: =S3 -> 7.6932523 | K35: =T3 -> 7.0064206 | L35: =U3 -> 6.7032141
B36: =IF(Diámetro_Medio!B49<Diámetro_Medio!$E$41,Diámetro_Medio!B49,"N.A") -> 42 | C36: =IF(Diámetro_Medio!B49<Diámetro_Medio!$E$41,(Diámetro_Medio!B49+Diámetro_Medio!$F$44),"N.A") -> 74 | D36: =IF(B36="N.A","",(B36+C36)/2) -> 58 | E36: =IF(B36="N.A","",Diámetro_Medio!E49) -> 4 | F36: =IF(B36="N.A","",IF(E36=0,"",LOG(F20,10))) -> 2.365488 | G36: =IF(B36="N.A","",IF(E36=0,"",LOG(G20,10))) -> 4.128916 | H36: =IF(B36="N.A","",IF(E36=0,"",LOG(H20,10))) -> 5.892344 | I36: =IF(B36="N.A","",IF(E36=0,,LOG(I20))) -> 7.655772 | J36: =S4 -> 13.954848 | K36: =T4 -> 13.700903 | L36: =U4 -> 13.588797
B37: =IF(Diámetro_Medio!B50<Diámetro_Medio!$E$41,Diámetro_Medio!B50,"N.A") -> 74 | C37: =IF(Diámetro_Medio!B50<Diámetro_Medio!$E$41,(Diámetro_Medio!B50+Diámetro_Medio!$F$44),"N.A") -> 106 | D37: =IF(B37="N.A","",(B37+C37)/2) -> 90 | E37: =IF(B37="N.A","",Diámetro_Medio!E50) -> 218 | F37: =IF(B37="N.A","",IF(E37=0,"",LOG(F21,10))) -> 4.292699 | G37: =IF(B37="N.A","",IF(E37=0,"",LOG(G21,10))) -> 6.2469415 | H37: =IF(B37="N.A","",IF(E37=0,"",LOG(H21,10))) -> 8.201184 | I37: =IF(B37="N.A","",IF(E37=0,,LOG(I21))) -> 10.155427 | J37: =S5 -> 25.317893 | K37: =T5 -> 23.829479 | L37: =U5 -> 23.172408
B38: =IF(Diámetro_Medio!B51<Diámetro_Medio!$E$41,Diámetro_Medio!B51,"N.A") -> 106 | C38: =IF(Diámetro_Medio!B51<Diámetro_Medio!$E$41,(Diámetro_Medio!B51+Diámetro_Medio!$F$44),"N.A") -> 138 | D38: =IF(B38="N.A","",(B38+C38)/2) -> 122 | E38: =IF(B38="N.A","",Diámetro_Medio!E51) -> 404 | F38: =IF(B38="N.A","",IF(E38=0,"",LOG(F22,10))) -> 4.6927412 | G38: =IF(B38="N.A","",IF(E38=0,"",LOG(G22,10))) -> 6.779101 | H38: =IF(B38="N.A","",IF(E38=0,"",LOG(H22,10))) -> 8.8654609 | I38: =IF(B38="N.A","",IF(E38=0,,LOG(I22))) -> 10.951821 | J38: =S6 -> 37.739876 | K38: =T6 -> 34.82088 | L38: =U6 -> 33.532269
B39: =IF(Diámetro_Medio!B52<Diámetro_Medio!$E$41,Diámetro_Medio!B52,"N.A") -> 138 | C39: =IF(Diámetro_Medio!B52<Diámetro_Medio!$E$41,(Diámetro_Medio!B52+Diámetro_Medio!$F$44),"N.A") -> 170 | D39: =IF(B39="N.A","",(B39+C39)/2) -> 154 | E39: =IF(B39="N.A","",Diámetro_Medio!E52) -> 85 | F39: =IF(B39="N.A","",IF(E39=0,"",LOG(F23,10))) -> 4.1169396 | G39: =IF(B39="N.A","",IF(E39=0,"",LOG(G23,10))) -> 6.3044604 | H39: =IF(B39="N.A","",IF(E39=0,"",LOG(H23,10))) -> 8.4919811 | I39: =IF(B39="N.A","",IF(E39=0,,LOG(I23))) -> 10.679502 | J39: =S7 -> 48.637675 | K39: =T7 -> 45.042715 | L39: =U7 -> 43.455695
B40: =IF(Diámetro_Medio!B53<Diámetro_Medio!$E$41,Diámetro_Medio!B53,"N.A") -> 170 | C40: =IF(Diámetro_Medio!B53<Diámetro_Medio!$E$41,(Diámetro_Medio!B53+Diámetro_Medio!$F$44),"N.A") -> 202 | D40: =IF(B40="N.A","",(B40+C40)/2) -> 186 | E40: =IF(B40="N.A","",Diámetro_Medio!E53) -> 13 | F40: =IF(B40="N.A","",IF(E40=0,"",LOG(F24,10))) -> 3.3834563 | G40: =IF(B40="N.A","",IF(E40=0,"",LOG(G24,10))) -> 5.6529692 | H40: =IF(B40="N.A","",IF(E40=0,"",LOG(H24,10))) -> 7.9224822 | I40: =IF(B40="N.A","",IF(E40=0,,LOG(I24))) -> 10.191995 | J40: =S8 -> 57.593897 | K40: =T8 -> 54.208244 | L40: =U8 -> 52.713625
B41: =IF(Diámetro_Medio!B54<Diámetro_Medio!$E$41,Diámetro_Medio!B54,"N.A") -> 202 | C41: =IF(Diámetro_Medio!B54<Diámetro_Medio!$E$41,(Diámetro_Medio!B54+Diámetro_Medio!$F$44),"N.A") -> 234 | D41: =IF(B41="N.A","",(B41+C41)/2) -> 218 | E41: =IF(B41="N.A","",Diámetro_Medio!E54) -> 7 | F41: =IF(B41="N.A","",IF(E41=0,"",LOG(F25,10))) -> 3.1835545 | G41: =IF(B41="N.A","",IF(E41=0,"",LOG(G25,10))) -> 5.522011 | H41: =IF(B41="N.A","",IF(E41=0,"",LOG(H25,10))) -> 7.8604675 | I41: =IF(B41="N.A","",IF(E41=0,,LOG(I25))) -> 10.198924 | J41: =S9 -> 66.020967 | K41: =T9 -> 63.161443 | L41: =U9 -> 61.899086
B42: =IF(Diámetro_Medio!B55<Diámetro_Medio!$E$41,Diámetro_Medio!B55,"N.A") -> 234 | C42: =IF(Diámetro_Medio!B55<Diámetro_Medio!$E$41,(Diámetro_Medio!B55+Diámetro_Medio!$F$44),"N.A") -> 266 | D42: =IF(B42="N.A","",(B42+C42)/2) -> 250 | E42: =IF(B42="N.A","",Diámetro_Medio!E55) -> 8 | F42: =IF(B42="N.A","",IF(E42=0,"",LOG(F26,10))) -> 3.30103 | G42: =IF(B42="N.A","",IF(E42=0,"",LOG(G26,10))) -> 5.69897 | H42: =IF(B42="N.A","",IF(E42=0,"",LOG(H26,10))) -> 8.09691 | I42: =IF(B42="N.A","",IF(E42=0,,LOG(I26))) -> 10.49485 | J42: =S10 -> 74.759001 | K42: =T10 -> 72.401557 | L42: =U10 -> 71.360846
...

Sheet Figuras

Sheet PRE-Informe
A1: PRE-INFORME TAMAÑO DE PARTÍCULA
A2: MATERIA PRIMA ANALIZADA
A3: NOMBRE: | D3: =IF(Materia_Prima!D18="","N.A",Materia_Prima!D18) -> ACTIVO
A4: LOTE: | D4: =IF(Materia_Prima!D19="","N.A",Materia_Prima!D19) -> LT20110812
A5: CONTROL: | D5: =IF(Materia_Prima!D20="","N.A",Materia_Prima!D20) -> C20110812
A6: PUREZA: | D6: =IF(Materia_Prima!D21="","N.A",Materia_Prima!D21) -> 1.0012
A7: PRESENTACIÓN: | D7: =IF(Materia_Prima!D22="","N.A",Materia_Prima!D22) -> N.A
A8: LABORATORIO: | D8: =IF(Materia_Prima!F26="","N.A",Materia_Prima!F26) -> NODOFARMA
A10: PARÁMETROS DE ANÁLISIS
A11: OBJETIVO UTILIZADO: | H11: =CONCATENATE(Ingresar_Datos!F52," X") -> 10 X
A12: INCERTIDUMBRE DE LA MEDIA: | H12: =CONCATENATE(Ingresar_Datos!E4," %") -> 3 %
A13: COEFICIENTE DE CONFIANZA PARA LA MEDIA: | H13: =CONCATENATE(Ingresar_Datos!E2," %") -> 95 %
A14: INCERTIDUMBRE DE LA DESVIACIÓN STÁNDAR: | H14: =CONCATENATE(Ingresar_Datos!E23," %") -> 5 %
A15: COEF. DE CONFIANZA DE LA DESV. ESTÁNDAR: | H15: =CONCATENATE(Ingresar_Datos!E21," %") -> 95 %
A17: TABLA 1
A18: Rango | C18: T. medio (d) | D18: Cantidad (n) | E18: % | F18: % acumulado | G18: nd | J18: log d
A19: =Distribución_Frecuencias!B3 -> 10 | B19: =Distribución_Frecuencias!C3 -> 42 | C19: =Distribución_Frecuencias!D3 -> 26 | D19: =Distribución_Frecuencias!E3 -> 31 | E19: =Distribución_Frecuencias!F3 -> 3.9390089 | F19: =Distribución_Frecuencias!G3 -> 3.9390089 | G19: =Distribución_Frecuencias!H3 -> 806 | H19: =Distribución_Frecuencias!I3 -> 20956 | ... J19: =Distribución_Frecuencias!K3 -> 1.4149733
A20: =Distribución_Frecuencias!B4 -> 42 | B20: =Distribución_Frecuencias!C4 -> 74 | C20: =Distribución_Frecuencias!D4 -> 58 | D20: =Distribución_Frecuencias!E4 -> 4 | E20: =Distribución_Frecuencias!F4 -> 0.50825921 | F20: =Distribución_Frecuencias!G4 -> 4.4472681 | G20: =Distribución_Frecuencias!H4 -> 232 | H20: =Distribución_Frecuencias!I4 -> 13456 | ... J20: =Distribución_Frecuencias!K4 -> 1.763428
A21: =Distribución_Frecuencias!B5 -> 74 | B21: =Distribución_Frecuencias!C5 -> 106 | C21: =Distribución_Frecuencias!D5 -> 90 | D21: =Distribución_Frecuencias!E5 -> 218 | E21: =Distribución_Frecuencias!F5 -> 27.700127 | F21: =Distribución_Frecuencias!G5 -> 32.147395 | G21: =Distribución_Frecuencias!H5 -> 19620 | H21: =Distribución_Frecuencias!I5 -> 1765800 | ... J21: =Distribución_Frecuencias!K5 -> 1.9542425
A22: =Distribución_Frecuencias!B6 -> 106 | B22: =Distribución_Frecuencias!C6 -> 138 | C22: =Distribución_Frecuencias!D6 -> 122 | D22: =Distribución_Frecuencias!E6 -> 404 | E22: =Distribución_Frecuencias!F6 -> 51.33418 | F22: =Distribución_Frecuencias!G6 -> 83.481576 | G22: =Distribución_Frecuencias!H6 -> 49288 | H22: =Distribución_Frecuencias!I6 -> 6013136 | ... J22: =Distribución_Frecuencias!K6 -> 2.0863598
A23: =Distribución_Frecuencias!B7 -> 138 | B23: =Distribución_Frecuencias!C7 -> 170 | C23: =Distribución_Frecuencias!D7 -> 154 | D23: =Distribución_Frecuencias!E7 -> 85 | E23: =Distribución_Frecuencias!F7 -> 10.800508 | F23: =Distribución_Frecuencias!G7 -> 94.282084 | G23: =Distribución_Frecuencias!H7 -> 13090 | H23: =Distribución_Frecuencias!I7 -> 2015860 | ... J23: =Distribución_Frecuencias!K7 -> 2.1875207
A24: =Distribución_Frecuencias!B8 -> 170 | B24: =Distribución_Frecuencias!C8 -> 202 | C24: =Distribución_Frecuencias!D8 -> 186 | D24: =Distribución_Frecuencias!E8 -> 13 | E24: =Distribución_Frecuencias!F8 -> 1.6518424 | F24: =Distribución_Frecuencias!G8 -> 95.933926 | G24: =Distribución_Frecuencias!H8 -> 2418 | H24: =Distribución_Frecuencias!I8 -> 449748 | ... J24: =Distribución_Frecuencias!K8 -> 2.2695129
A25: =Distribución_Frecuencias!B9 -> 202 | B25: =Distribución_Frecuencias!C9 -> 234 | C25: =Distribución_Frecuencias!D9 -> 218 | D25: =Distribución_Frecuencias!E9 -> 7 | E25: =Distribución_Frecuencias!F9 -> 0.88945362 | F25: =Distribución_Frecuencias!G9 -> 96.82338 | G25: =Distribución_Frecuencias!H9 -> 1526 | H25: =Distribución_Frecuencias!I9 -> 332668 | ... J25: =Distribución_Frecuencias!K9 -> 2.3384565
A26: =Distribución_Frecuencias!B10 -> 234 | B26: =Distribución_Frecuencias!C10 -> 266 | C26: =Distribución_Frecuencias!D10 -> 250 | D26: =Distribución_Frecuencias!E10 -> 8 | E26: =Distribución_Frecuencias!F10 -> 1.0165184 | F26: =Distribución_Frecuencias!G10 -> 97.839898 | G26: =Distribución_Frecuencias!H10 -> 2000 | H26: =Distribución_Frecuencias!I10 -> 500000 | ... J26: =Distribución_Frecuencias!K10 -> 2.39794
A27: =Distribución_Frecuencias!B11 -> 266 | B27: =Distribución_Frecuencias!C11 -> 298 | C27: =Distribución_Frecuencias!D11 -> 282 | D27: =Distribución_Frecuencias!E11 -> 8 | E27: =Distribución_Frecuencias!F11 -> 1.0165184 | F27: =Distribución_Frecuencias!G11 -> 98.856417 | G27: =Distribución_Frecuencias!H11 -> 2256 | H27: =Distribución_Frecuencias!I11 -> 636192 | ... J27: =Distribución_Frecuencias!K11 -> 2.4502491
A28: =Distribución_Frecuencias!B12 -> 298 | B28: =Distribución_Frecuencias!C12 -> 330 | C28: =Distribución_Frecuencias!D12 -> 314 | D28: =Distribución_Frecuencias!E12 -> 7 | E28: =Distribución_Frecuencias!F12 -> 0.88945362 | F28: =Distribución_Frecuencias!G12 -> 99.74587 | G28: =Distribución_Frecuencias!H12 -> 2198 | H28: =Distribución_Frecuencias!I12 -> 690172 | ... J28: =Distribución_Frecuencias!K12 -> 2.4969296
A29: =Distribución_Frecuencias!B13 -> 330 | B29: =Distribución_Frecuencias!C13 -> 362 | C29: =Distribución_Frecuencias!D13 -> 346 | D29: =Distribución_Frecuencias!E13 -> 2 | E29: =Distribución_Frecuencias!F13 -> 0.25412961 | F29: =Distribución_Frecuencias!G13 -> 100 | G29: =Distribución_Frecuencias!H13 -> 692 | H29: =Distribución_Frecuencias!I13 -> 239432 | ... J29: =Distribución_Frecuencias!K13 -> 2.5390761
A30: =Distribución_Frecuencias!B14 -> N.A | B30: =Distribución_Frecuencias!C14 -> N.A | C30: =Distribución_Frecuencias!D14 | D30: =Distribución_Frecuencias!E14 | E30: =Distribución_Frecuencias!F14 | F30: =Distribución_Frecuencias!G14 | G30: =Distribución_Frecuencias!H14 | H30: =Distribución_Frecuencias!I14 | ... J30: =Distribución_Frecuencias!K14
A31: TOTAL= | C31: =Distribución_Frecuencias!D15 -> 154 | D31: =Distribución_Frecuencias!E15 -> 787 | E31: =Distribución_Frecuencias!F15 -> 100 | F31: =Distribución_Frecuencias!G15 -> 100 | G31: =Distribución_Frecuencias!H15 -> 94126 | H31: =Distribución_Frecuencias!I15 -> 12677420 | I31: =Distribución_Frecuencias!J15 -> 1964430712 | J31: =Distribución_Frecuencias!K15 -> 23.898689
A33: TABLA 2
A34: Diametro superficie | F34: =CONCATENATE(Distribución_Frecuencias!B83," um") -> 126.919418351822 um
A35: Diametro volumen | F35: =CONCATENATE(Distribución_Frecuencias!D83," um") -> 135.650269517162 um
A36: Diametro longitud | F36: =CONCATENATE(Distribución_Frecuencias!E83," um") -> 119.601016518424 um
A37: Diametro longitud (by log) | F37: =CONCATENATE(Distribución_Frecuencias!G83," um") -> 112.082554483737 um
A38: Diametro volumen (by log) | F38: =CONCATENATE(Distribución_Frecuencias!H83, "um") -> 316.918478824204um
A39: Diamentro Vol.Num./Vol. | F39: =CONCATENATE("( ",Distribución_Frecuencias!I83," ",Distribución_Frecuencias!J83," ",Distribución_Frecuencias!K83," )"," um") -> ( 184.07054536826 ± 5.52211636104781 ) um
A40: Diámetro Vol./Sup | F40: =CONCATENATE(Distribución_Frecuencias!L83," um") -> 154.955086445034 um
A41: Area superficial total | F41: =CONCATENATE(Distribución_Frecuencias!M83,"um2") -> 39827289.5384723um2
A43: TABLA 3
A44: Desviación estándar: | I44: =CONCATENATE(ROUND(Diámetro_Medio!D20,8)," ") -> 77.25308427
...
