Workbook

Sheet Materia_Prima
B17: MATERIA PRIMA _PROPIEDADES
B18: NOMBRE | D18: ACTIVO
B19: LOTE | D19: LT20110812
B20: CONTROL | D20: C20110812 | G20: JUAN PABLO HERRERA SIERRA
B21: PUREZA | D21: 1.0012 | G21: http://www.nodointeractivo.com/
G22: juanherrera@nodointeractivo.com
B25: ANALISTA | F25: JUAN HERRERA
B26: EMPRESA QUE SOLICITA EL ANÁLISIS | F26: NODOFARMA
B27: FECHA INICIO ANÁLISIS | F27: 44781
B28: FECHA TERMINACIÓN ANÁLISIS | F28: 44782

Sheet Ingresar_Datos
B1: PARÁMETROS DE ANÁLISIS PARA LA MEDIA
B2: Coeficiente de confianza (90/95/97/99) % | E2: 95
B3: =CONCATENATE("Valor esperado al ",E2, "%") -> Valor esperado al 95% | E3: =IF(E2=90,1.645,IF(E2=95,1.96,IF(E2=97,2.2,IF(E2=99,2.58,"Coef. inválido")))) -> 1.96 | F3: ESPECÍFICACIÓN 1
B4: =CONCATENATE("Incertidumbre de la media ",E4," %") -> Incertidumbre de la media 3 % | E4: 3 | F4: =IF(((((Diámetro_Medio!D20^2)*(F9)/((1/2)*((E22+((2*(F9)-3)^(1/2)))^2)))^(1/2)))<Diámetro_Medio!H20,"No Cumple","Si Cumple") -> Si Cumple
F9: =ROUND((((Diámetro_Medio!D20*E3)/(Distribución_Frecuencias!K83))^2),0) -> 752 | I9: =F9 -> 752
B13: Donde:
B14: S=Desviación estándar de la muestra
B15: Z=Valor esperado
B16: n=Tamaño muestral
B17: d=Diámetro medio
B18: IM=% de incertidumbre de la media
B20: PARÁMETROS DE ANÁLISIS PARA LA DESVIACIÓN ESTÁNDAR
B21: Coeficiente de confianza (90/95/97/99) % | E21: 95
B22: =CONCATENATE("Valor esperado al ",E21, "%") -> Valor esperado al 95% | E22: =IF(E21=90,1.645,IF(E21=95,1.96,IF(E21=97,2.2,IF(E21=99,2.58,"Coef. invalido")))) -> 1.96 | F22: ESPECIFICACIÓN 2
B23: =CONCATENATE("Incertidumbre de la desviación estandar ",E23," %") -> Incertidumbre de la desviación estandar 5 % | E23: 5 | F23: =IF(((((Diámetro_Medio!D20^2)*(COUNT(B55:K154))/((1/2)*((E22+((2*(COUNT(B55:K154))-3)^(1/2)))^2)))^(1/2)))<Diámetro_Medio!H20,"No cumple","Si Cumple") -> Si Cumple
B26: a= | C26: =(-4-((4*(Diámetro_Medio!D20^4))/(Diámetro_Medio!H20^4))+((8*(Diámetro_Medio!D20^2))/(Diámetro_Medio!H20^2))) -> -0.046684725
B28: b= | C28: =(12+(4*(E22^2)))-((12*(Diámetro_Medio!D20^2))/(Diámetro_Medio!H20^2))+((4*(Diámetro_Medio!D20^2)*(E22^2))/(Diámetro_Medio!H20^2)) -> 31.096483
B30: c= | C30: =(-6*(E22^2))-(E22^4)-9 -> -46.807491
E33: =((-C28)-(((C28^2)-(4*(C26*C30)))^(1/2)))/(2*C26) -> 664.58681
E35: =((-C28)+(((C28^2)-(4*(C26*C30)))^(1/2)))/(2*C26) -> 1.5086512
B37: # De Partículas a medir = | D37: =E33 -> 664.58681 | E37: ¿Cumple? : | I37: =D37 -> 664.58681
B40: Número (n) mínimo de partículas a caracterizar: | F40: =IF(I37>I9,ROUND((I37),0),IF(I37<I9,ROUND((I9),0),IF(I37=I9,ROUND((I37),0),""))) -> 752
B41: Número (n) de partículas medidas hasta el momento: | F41: =COUNTIF(B55:K154,">0") -> 787 | G41: =IF(F41=F40,"El numero de partículas medidas hasta el momento es suficiente",IF(F41<F40," El numero de partículas medidas hasta el momento es insuficiente",IF(F41>F40,"El numero de partículas medidas hasta el momento, es más que suficiente"))) -> El numero de partículas medidas hasta el momento, es más que suficiente
B42: =IF(F4="Si Cumple","LA ESPECÍFICACIÓN 1 CUMPLE CON LOS PARÁMETROS ESTADÍSTICOS"," ¡ATENCIÓN! LA ESPECÍFICACIÓN 1 NO CUMPLE") -> LA ESPECÍFICACIÓN 1 CUMPLE CON LOS PARÁMETROS ESTADÍSTICOS
B43: =IF(F23="Si Cumple","LA ESPECÍFICACIÓN 2 CUMPLE CON LOS PARÁMETROS ESTADÍSTICOS "," ¡ATENCIÓN! LA ESPECÍFICACIÓN 2 NO CUMPLE") -> LA ESPECÍFICACIÓN 2 CUMPLE CON LOS PARÁMETROS ESTADÍSTICOS
B45: MEDIDAS OBTENIDAS DE LAS PARTÍCULAS CARACTERIZADAS
M46: cm | P46: mm | S46: um
B48: INGRESE LA UNIDADAD DE MEDIDA cm / mm: | F48: mm | G48: =IF(F48="CM","",IF(F48="MM","","Unidad de medida no soportada ó no valida")) | L48: =LOWER(F48) -> mm | M48: 10X | N48: 40X | O48: 100X | P48: 10X | Q48: 40X | R48: 100X | S48: 10X | T48: 40X | U48: 100X
M49: =IF(B55="","",B55*36) -> 125.28 | N49: =IF(B55="","",B55*9) -> 31.32 | O49: =IF(B55="","",B55*3.6) -> 12.528 | P49: =IF(B55="","",B55*3.6) -> 12.528 | Q49: =IF(B55="","",B55*0.9) -> 3.132 | R49: =IF(B55="","",B55*0.36) -> 1.2528 | S49: =IF(B55="","",B55*(0.0036)) -> 0.012528 | T49: =IF(B55="","",B55*(0.0009)) -> 0.003132 | U49: =IF(B55="","",B55*(0.00036)) -> 0.0012528
B50: INGRESE EL MÉTODO DE MEDIDA FERET/AREA: | F50: FERET | G50: =IF(F50="FERET","",IF(F50="AREA","Método en proceso de validación, favor utilizar Feret","Método de medida no soportado ó no válido")) | M50: =IF(B56="","",B56*36) -> 127.44 | N50: =IF(B56="","",B56*9) -> 31.86 | O50: =IF(B56="","",B56*3.6) -> 12.744 | P50: =IF(B56="","",B56*3.6) -> 12.744 | Q50: =IF(B56="","",B56*0.9) -> 3.186 | R50: =IF(B56="","",B56*0.36) -> 1.2744 | S50: =IF(B56="","",B56*(0.0036)) -> 0.012744 | T50: =IF(B56="","",B56*(0.0009)) -> 0.003186 | U50: =IF(B56="","",B56*(0.00036)) -> 0.0012744
M51: =IF(B57="","",B57*36) -> 133.92 | N51: =IF(B57="","",B57*9) -> 33.48 | O51: =IF(B57="","",B57*3.6) -> 13.392 | P51: =IF(B57="","",B57*3.6) -> 13.392 | Q51: =IF(B57="","",B57*0.9) -> 3.348 | R51: =IF(B57="","",B57*0.36) -> 1.3392 | S51: =IF(B57="","",B57*(0.0036)) -> 0.013392 | T51: =IF(B57="","",B57*(0.0009)) -> 0.003348 | U51: =IF(B57="","",B57*(0.00036)) -> 0.0013392
B52: AUMENTO OBJETIVO UTILIZADO (10 / 40 / 100) X: | F52: 10 | G52: =IF(F52=10,"",IF(F52=40,"",IF(F52=100,"","Escala de objetivo no calibrada [valor no válido]"))) | M52: =IF(B58="","",B58*36) -> 139.32 | N52: =IF(B58="","",B58*9) -> 34.83 | O52: =IF(B58="","",B58*3.6) -> 13.932 | P52: =IF(B58="","",B58*3.6) -> 13.932 | Q52: =IF(B58="","",B58*0.9) -> 3.483 | R52: =IF(B58="","",B58*0.36) -> 1.3932 | S52: =IF(B58="","",B58*(0.0036)) -> 0.013932 | T52: =IF(B58="","",B58*(0.0009)) -> 0.003483 | U52: =IF(B58="","",B58*(0.00036)) -> 0.0013932
B53: =CONCATENATE($L$48,$F$52) -> mm10 | M53: =IF(B59="","",B59*36) -> 1036.188 | N53: =IF(B59="","",B59*9) -> 259.047 | O53: =IF(B59="","",B59*3.6) -> 103.6188 | P53: =IF(B59="","",B59*3.6) -> 103.6188 | Q53: =IF(B59="","",B59*0.9) -> 25.9047 | R53: =IF(B59="","",B59*0.36) -> 10.36188 | S53: =IF(B59="","",B59*(0.0036)) -> 0.1036188 | T53: =IF(B59="","",B59*(0.0009)) -> 0.0259047 | U53: =IF(B59="","",B59*(0.00036)) -> 0.01036188
B54: =CONCATENATE($L$48," / ",$F$52," x ") -> mm / 10 x | C54: =CONCATENATE($L$48," / ",$F$52," x ") -> mm / 10 x | D54: =CONCATENATE($L$48," / ",$F$52," x ") -> mm / 10 x | E54: =CONCATENATE($L$48," / ",$F$52," x ") -> mm / 10 x | F54: =CONCATENATE($L$48," / ",$F$52," x ") -> mm / 10 x | G54: =CONCATENATE($L$48," / ",$F$52," x ") -> mm / 10 x | H54: =CONCATENATE($L$48," / ",$F$52," x ") -> mm / 10 x | I54: =CONCATENATE($L$48," / ",$F$52," x ") -> mm / 10 x | ... K54: =CONCATENATE($L$48," / ",$F$52," x ") -> mm / 10 x | M54: =IF(B60="","",B60*36) -> 1140.192 | N54: =IF(B60="","",B60*9) -> 285.048 | O54: =IF(B60="","",B60*3.6) -> 114.0192 | P54: =IF(B60="","",B60*3.6) -> 114.0192 | Q54: =IF(B60="","",B60*0.9) -> 28.5048 | R54: =IF(B60="","",B60*0.36) -> 11.40192 | S54: =IF(B60="","",B60*(0.0036)) -> 0.1140192 | T54: =IF(B60="","",B60*(0.0009)) -> 0.0285048 | U54: =IF(B60="","",B60*(0.00036)) -> 0.01140192
B55: 3.48 | C55: 3.015 | D55: 3.33 | E55: 3.84 | F55: 3.675 | G55: 4.8 | H55: 3.12 | I55: 3.12 | M55: =IF(B61="","",B61*36) -> 1147.896 | N55: =IF(B61="","",B61*9) -> 286.974 | O55: =IF(B61="","",B61*3.6) -> 114.7896 | P55: =IF(B61="","",B61*3.6) -> 114.7896 | Q55: =IF(B61="","",B61*0.9) -> 28.6974 | R55: =IF(B61="","",B61*0.36) -> 11.47896 | S55: =IF(B61="","",B61*(0.0036)) -> 0.1147896 | T55: =IF(B61="","",B61*(0.0009)) -> 0.0286974 | U55: =IF(B61="","",B61*(0.00036)) -> 0.01147896
B56: 3.54 | C56: 3.12 | D56: 3.39 | E56: 4.32 | F56: 4.14 | G56: 5.16 | H56: 3.6 | I56: 4.8 | M56: =IF(B62="","",B62*36) -> 1232.64 | N56: =IF(B62="","",B62*9) -> 308.16 | O56: =IF(B62="","",B62*3.6) -> 123.264 | P56: =IF(B62="","",B62*3.6) -> 123.264 | Q56: =IF(B62="","",B62*0.9) -> 30.816 | R56: =IF(B62="","",B62*0.36) -> 12.3264 | S56: =IF(B62="","",B62*(0.0036)) -> 0.123264 | T56: =IF(B62="","",B62*(0.0009)) -> 0.030816 | U56: =IF(B62="","",B62*(0.00036)) -> 0.0123264
B57: 3.72 | C57: 3.12 | D57: 3.96 | E57: 4.8 | F57: 4.32 | G57: 5.52 | H57: 3.6 | I57: 8.28 | M57: =IF(B63="","",B63*36) -> 1232.64 | N57: =IF(B63="","",B63*9) -> 308.16 | O57: =IF(B63="","",B63*3.6) -> 123.264 | P57: =IF(B63="","",B63*3.6) -> 123.264 | Q57: =IF(B63="","",B63*0.9) -> 30.816 | R57: =IF(B63="","",B63*0.36) -> 12.3264 | S57: =IF(B63="","",B63*(0.0036)) -> 0.123264 | T57: =IF(B63="","",B63*(0.0009)) -> 0.030816 | U57: =IF(B63="","",B63*(0.00036)) -> 0.0123264
B58: 3.87 | C58: 3.24 | D58: 3.96 | E58: 5.16 | F58: 4.32 | G58: 5.52 | H58: 3.6 | I58: 40.44 | M58: =IF(B64="","",B64*36) -> 1325.088 | N58: =IF(B64="","",B64*9) -> 331.272 | O58: =IF(B64="","",B64*3.6) -> 132.5088 | P58: =IF(B64="","",B64*3.6) -> 132.5088 | Q58: =IF(B64="","",B64*0.9) -> 33.1272 | R58: =IF(B64="","",B64*0.36) -> 13.25088 | S58: =IF(B64="","",B64*(0.0036)) -> 0.1325088 | T58: =IF(B64="","",B64*(0.0009)) -> 0.0331272 | U58: =IF(B64="","",B64*(0.00036)) -> 0.01325088
B59: 28.783 | C59: 28.248 | D59: 28.248 | E59: 36.808 | F59: 34.24 | G59: 39.376 | H59: 28.248 | I59: 25.8 | M59: =IF(B65="","",B65*36) -> 1325.088 | N59: =IF(B65="","",B65*9) -> 331.272 | O59: =IF(B65="","",B65*3.6) -> 132.5088 | P59: =IF(B65="","",B65*3.6) -> 132.5088 | Q59: =IF(B65="","",B65*0.9) -> 33.1272 | R59: =IF(B65="","",B65*0.36) -> 13.25088 | S59: =IF(B65="","",B65*(0.0036)) -> 0.1325088 | T59: =IF(B65="","",B65*(0.0009)) -> 0.0331272 | U59: =IF(B65="","",B65*(0.00036)) -> 0.01325088
B60: 31.672 | C60: 30.816 | D60: 29.746 | E60: 36.808 | F60: 36.808 | G60: 39.376 | H60: 28.248 | I60: 25.8 | M60: =IF(B66="","",B66*36) -> 1371.312 | N60: =IF(B66="","",B66*9) -> 342.828 | O60: =IF(B66="","",B66*3.6) -> 137.1312 | P60: =IF(B66="","",B66*3.6) -> 137.1312 | Q60: =IF(B66="","",B66*0.9) -> 34.2828 | R60: =IF(B66="","",B66*0.36) -> 13.71312 | S60: =IF(B66="","",B66*(0.0036)) -> 0.1371312 | T60: =IF(B66="","",B66*(0.0009)) -> 0.0342828 | U60: =IF(B66="","",B66*(0.00036)) -> 0.01371312
B61: 31.886 | C61: 30.816 | D61: 30.816 | E61: 38.948 | F61: 36.808 | G61: 42.8 | H61: 30.816 | I61: 25.8 | M61: =IF(B67="","",B67*36) -> 1015.2 | N61: =IF(B67="","",B67*9) -> 253.8 | O61: =IF(B67="","",B67*3.6) -> 101.52 | P61: =IF(B67="","",B67*3.6) -> 101.52 | Q61: =IF(B67="","",B67*0.9) -> 25.38 | R61: =IF(B67="","",B67*0.36) -> 10.152 | S61: =IF(B67="","",B67*(0.0036)) -> 0.10152 | T61: =IF(B67="","",B67*(0.0009)) -> 0.02538 | U61: =IF(B67="","",B67*(0.00036)) -> 0.010152
B62: 34.24 | C62: 33.384 | D62: 30.816 | E62: 41.409 | F62: 36.808 | G62: 42.8 | H62: 30.816 | I62: 27.6 | M62: =IF(B68="","",B68*36) -> 1015.2 | N62: =IF(B68="","",B68*9) -> 253.8 | O62: =IF(B68="","",B68*3.6) -> 101.52 | P62: =IF(B68="","",B68*3.6) -> 101.52 | Q62: =IF(B68="","",B68*0.9) -> 25.38 | R62: =IF(B68="","",B68*0.36) -> 10.152 | S62: =IF(B68="","",B68*(0.0036)) -> 0.10152 | T62: =IF(B68="","",B68*(0.0009)) -> 0.02538 | U62: =IF(B68="","",B68*(0.00036)) -> 0.010152
B63: 34.24 | C63: 34.24 | D63: 30.816 | E63: 42.586 | F63: 39.376 | G63: 44.512 | H63: 34.24 | I63: 28.2 | M63: =IF(B69="","",B69*36) -> 1039.5 | N63: =IF(B69="","",B69*9) -> 259.875 | O63: =IF(B69="","",B69*3.6) -> 103.95 | P63: =IF(B69="","",B69*3.6) -> 103.95 | Q63: =IF(B69="","",B69*0.9) -> 25.9875 | R63: =IF(B69="","",B69*0.36) -> 10.395 | S63: =IF(B69="","",B69*(0.0036)) -> 0.10395 | T63: =IF(B69="","",B69*(0.0009)) -> 0.0259875 | U63: =IF(B69="","",B69*(0.00036)) -> 0.010395
B64: 36.808 | C64: 34.668 | D64: 34.775 | E64: 42.8 | F64: 41.516 | G64: 44.512 | H64: 34.24 | I64: 30 | M64: =IF(B70="","",B70*36) -> 1080 | N64: =IF(B70="","",B70*9) -> 270 | O64: =IF(B70="","",B70*3.6) -> 108 | P64: =IF(B70="","",B70*3.6) -> 108 | Q64: =IF(B70="","",B70*0.9) -> 27 | R64: =IF(B70="","",B70*0.36) -> 10.8 | S64: =IF(B70="","",B70*(0.0036)) -> 0.108 | T64: =IF(B70="","",B70*(0.0009)) -> 0.027 | U64: =IF(B70="","",B70*(0.00036)) -> 0.0108
B65: 36.808 | C65: 36.808 | D65: 34.775 | E65: 45.368 | F65: 41.944 | G65: 45.368 | H65: 34.24 | I65: 30 | M65: =IF(B71="","",B71*36) -> 1080 | N65: =IF(B71="","",B71*9) -> 270 | O65: =IF(B71="","",B71*3.6) -> 108 | P65: =IF(B71="","",B71*3.6) -> 108 | Q65: =IF(B71="","",B71*0.9) -> 27 | R65: =IF(B71="","",B71*0.36) -> 10.8 | S65: =IF(B71="","",B71*(0.0036)) -> 0.108 | T65: =IF(B71="","",B71*(0.0009)) -> 0.027 | U65: =IF(B71="","",B71*(0.00036)) -> 0.0108
B66: 38.092 | C66: 39.376 | D66: 35.203 | E66: 45.368 | F66: 42.8 | G66: 45.368 | H66: 36.808 | I66: 31.2 | M66: =IF(B72="","",B72*36) -> 1093.5 | N66: =IF(B72="","",B72*9) -> 273.375 | O66: =IF(B72="","",B72*3.6) -> 109.35 | P66: =IF(B72="","",B72*3.6) -> 109.35 | Q66: =IF(B72="","",B72*0.9) -> 27.3375 | R66: =IF(B72="","",B72*0.36) -> 10.935 | S66: =IF(B72="","",B72*(0.0036)) -> 0.10935 | T66: =IF(B72="","",B72*(0.0009)) -> 0.0273375 | U66: =IF(B72="","",B72*(0.00036)) -> 0.010935
... B141: 33.488 | C141: 30.935 | D141: 35.098 | E141: 33.58 | F141: 31.648 | G141: 26.68 | H141: 28.152 | I141: 31.648 | M141: =IF(B147="","",B147*36) -> 1821.6 | N141: =IF(B147="","",B147*9) -> 455.4 | O141: =IF(B147="","",B147*3.6) -> 182.16 | P141: =IF(B147="","",B147*3.6) -> 182.16 | Q141: =IF(B147="","",B147*0.9) -> 45.54 | R141: =IF(B147="","",B147*0.36) -> 18.216 | S141: =IF(B147="","",B147*(0.0036)) -> 0.18216 | T141: =IF(B147="","",B147*(0.0009)) -> 0.04554 | U141: =IF(B147="","",B147*(0.00036)) -> 0.018216
B142: 34.776 | C142: 31.648 | D142: 35.144 | E142: 34.04 | F142: 32.936 | G142: 26.864 | H142: 28.704 | M142: =IF(B148="","",B148*36) -> 1861.344 | N142: =IF(B148="","",B148*9) -> 465.336 | O142: =IF(B148="","",B148*3.6) -> 186.1344 | P142: =IF(B148="","",B148*3.6) -> 186.1344 | Q142: =IF(B148="","",B148*0.9) -> 46.5336 | R142: =IF(B148="","",B148*0.36) -> 18.61344 | S142: =IF(B148="","",B148*(0.0036)) -> 0.1861344 | T142: =IF(B148="","",B148*(0.0009)) -> 0.0465336 | U142: =IF(B148="","",B148*(0.00036)) -> 0.01861344
B143: 40.848 | C143: 32.2 | D143: 35.328 | E143: 35.328 | F143: 34.04 | G143: 26.864 | H143: 28.704 | M143: =IF(B149="","",B149*36) -> 2430 | N143: =IF(B149="","",B149*9) -> 607.5 | O143: =IF(B149="","",B149*3.6) -> 243 | P143: =IF(B149="","",B149*3.6) -> 243 | Q143: =IF(B149="","",B149*0.9) -> 60.75 | R143: =IF(B149="","",B149*0.36) -> 24.3 | S143: =IF(B149="","",B149*(0.0036)) -> 0.243 | T143: =IF(B149="","",B149*(0.0009)) -> 0.06075 | U143: =IF(B149="","",B149*(0.00036)) -> 0.0243
B144: 42.136 | C144: 35.144 | D144: 35.88 | E144: 40.664 | F144: 35.029 | G144: 28.152 | H144: 28.704 | M144: =IF(B150="","",B150*36) -> 2488.32 | N144: =IF(B150="","",B150*9) -> 622.08 | O144: =IF(B150="","",B150*3.6) -> 248.832 | P144: =IF(B150="","",B150*3.6) -> 248.832 | Q144: =IF(B150="","",B150*0.9) -> 62.208 | R144: =IF(B150="","",B150*0.36) -> 24.8832 | S144: =IF(B150="","",B150*(0.0036)) -> 0.248832 | T144: =IF(B150="","",B150*(0.0009)) -> 0.062208 | U144: =IF(B150="","",B150*(0.00036)) -> 0.0248832
B145: 48.76 | C145: 35.328 | D145: 38.824 | E145: 45.632 | F145: 36.064 | G145: 31.096 | H145: 28.704 | M145: =IF(B151="","",B151*36) -> 2489.4 | N145: =IF(B151="","",B151*9) -> 622.35 | O145: =IF(B151="","",B151*3.6) -> 248.94 | P145: =IF(B151="","",B151*3.6) -> 248.94 | Q145: =IF(B151="","",B151*0.9) -> 62.235 | R145: =IF(B151="","",B151*0.36) -> 24.894 | S145: =IF(B151="","",B151*(0.0036)) -> 0.24894 | T145: =IF(B151="","",B151*(0.0009)) -> 0.062235 | U145: =IF(B151="","",B151*(0.00036)) -> 0.024894
B146: 49.128 | C146: 37.72 | D146: 40.388 | E146: 45.632 | F146: 36.616 | G146: 31.648 | H146: 29.256 | M146: =IF(B152="","",B152*36) -> 2721.6 | N146: =IF(B152="","",B152*9) -> 680.4 | O146: =IF(B152="","",B152*3.6) -> 272.16 | P146: =IF(B152="","",B152*3.6) -> 272.16 | Q146: =IF(B152="","",B152*0.9) -> 68.04 | R146: =IF(B152="","",B152*0.36) -> 27.216 | S146: =IF(B152="","",B152*(0.0036)) -> 0.27216 | T146: =IF(B152="","",B152*(0.0009)) -> 0.06804 | U146: =IF(B152="","",B152*(0.00036)) -> 0.027216
B147: 50.6 | C147: 39.008 | D147: 53.475 | E147: 48.576 | F147: 36.984 | G147: 31.648 | H147: 33.488 | M147: =IF(B153="","",B153*36) -> 3058.56 | N147: =IF(B153="","",B153*9) -> 764.64 | O147: =IF(B153="","",B153*3.6) -> 305.856 | P147: =IF(B153="","",B153*3.6) -> 305.856 | Q147: =IF(B153="","",B153*0.9) -> 76.464 | R147: =IF(B153="","",B153*0.36) -> 30.5856 | S147: =IF(B153="","",B153*(0.0036)) -> 0.305856 | T147: =IF(B153="","",B153*(0.0009)) -> 0.076464 | U147: =IF(B153="","",B153*(0.00036)) -> 0.0305856
B148: 51.704 | C148: 39.56 | D148: 57.247 | E148: 48.76 | F148: 37.168 | G148: 31.648 | H148: 34.224 | M148: =IF(B154="","",B154*36) -> 3257.28 | N148: =IF(B154="","",B154*9) -> 814.32 | O148: =IF(B154="","",B154*3.6) -> 325.728 | P148: =IF(B154="","",B154*3.6) -> 325.728 | Q148: =IF(B154="","",B154*0.9) -> 81.432 | R148: =IF(B154="","",B154*0.36) -> 32.5728 | S148: =IF(B154="","",B154*(0.0036)) -> 0.325728 | T148: =IF(B154="","",B154*(0.0009)) -> 0.081432 | U148: =IF(B154="","",B154*(0.00036)) -> 0.0325728
B149: 67.5 | C149: 54 | D149: 75.36 | E149: 69.12 | F149: 51.6 | G149: 42.96 | H149: 44.64 | M149: =IF(C55="","",C55*36) -> 108.54 | N149: =IF(C55="","",C55*9) -> 27.135 | O149: =IF(C55="","",C55*3.6) -> 10.854 | P149: =IF(C55="","",C55*3.6) -> 10.854 | Q149: =IF(C55="","",C55*0.9) -> 2.7135 | R149: =IF(C55="","",C55*0.36) -> 1.0854 | S149: =IF(C55="","",C55*(0.0036)) -> 0.010854 | T149: =IF(C55="","",C55*(0.0009)) -> 0.0027135 | U149: =IF(C55="","",C55*(0.00036)) -> 0.0010854
B150: 69.12 | C150: 54 | D150: 75.9 | E150: 71.52 | F150: 59.52 | G150: 43.44 | H150: 47.04 | M150: =IF(C56="","",C56*36) -> 112.32 | N150: =IF(C56="","",C56*9) -> 28.08 | O150: =IF(C56="","",C56*3.6) -> 11.232 | P150: =IF(C56="","",C56*3.6) -> 11.232 | Q150: =IF(C56="","",C56*0.9) -> 2.808 | R150: =IF(C56="","",C56*0.36) -> 1.1232 | S150: =IF(C56="","",C56*(0.0036)) -> 0.011232 | T150: =IF(C56="","",C56*(0.0009)) -> 0.002808 | U150: =IF(C56="","",C56*(0.00036)) -> 0.0011232
B151: 69.15 | C151: 58.8 | D151: 79.2 | E151: 72 | F151: 60.48 | G151: 45.12 | H151: 50.16 | M151: =IF(C57="","",C57*36) -> 112.32 | N151: =IF(C57="","",C57*9) -> 28.08 | O151: =IF(C57="","",C57*3.6) -> 11.232 | P151: =IF(C57="","",C57*3.6) -> 11.232 | Q151: =IF(C57="","",C57*0.9) -> 2.808 | R151: =IF(C57="","",C57*0.36) -> 1.1232 | S151: =IF(C57="","",C57*(0.0036)) -> 0.011232 | T151: =IF(C57="","",C57*(0.0009)) -> 0.002808 | U151: =IF(C57="","",C57*(0.00036)) -> 0.0011232
B152: 75.6 | C152: 70.8 | D152: 84.42 | E152: 78.72 | F152: 61.2 | G152: 49.2 | H152: 59.52 | M152: =IF(C58="","",C58*36) -> 116.64 | N152: =IF(C58="","",C58*9) -> 29.16 | O152: =IF(C58="","",C58*3.6) -> 11.664 | P152: =IF(C58="","",C58*3.6) -> 11.664 | Q152: =IF(C58="","",C58*0.9) -> 2.916 | R152: =IF(C58="","",C58*0.36) -> 1.1664 | S152: =IF(C58="","",C58*(0.0036)) -> 0.011664 | T152: =IF(C58="","",C58*(0.0009)) -> 0.002916 | U152: =IF(C58="","",C58*(0.00036)) -> 0.0011664
B153: 84.96 | C153: 71.52 | D153: 84.96 | E153: 84.24 | F153: 64.32 | G153: 53.28 | H153: 80.88 | M153: =IF(C59="","",C59*36) -> 1016.928 | N153: =IF(C59="","",C59*9) -> 254.232 | O153: =IF(C59="","",C59*3.6) -> 101.6928 | P153: =IF(C59="","",C59*3.6) -> 101.6928 | Q153: =IF(C59="","",C59*0.9) -> 25.4232 | R153: =IF(C59="","",C59*0.36) -> 10.16928 | S153: =IF(C59="","",C59*(0.0036)) -> 0.1016928 | T153: =IF(C59="","",C59*(0.0009)) -> 0.0254232 | U153: =IF(C59="","",C59*(0.00036)) -> 0.01016928
B154: 90.48 | C154: 96.72 | D154: 87.12 | E154: 93.6 | F154: 79.2 | G154: 87.36 | H154: 80.88 | M154: =IF(C60="","",C60*36) -> 1109.376 | N154: =IF(C60="","",C60*9) -> 277.344 | O154: =IF(C60="","",C60*3.6) -> 110.9376 | P154: =IF(C60="","",C60*3.6) -> 110.9376 | Q154: =IF(C60="","",C60*0.9) -> 27.7344 | R154: =IF(C60="","",C60*0.36) -> 11.09376 | S154: =IF(C60="","",C60*(0.0036)) -> 0.1109376 | T154: =IF(C60="","",C60*(0.0009)) -> 0.0277344 | U154: =IF(C60="","",C60*(0.00036)) -> 0.01109376
A155: Mayor= | B155: =CONCATENATE(MAX(B55:B154),$L$48) -> 90.48mm | C155: =CONCATENATE(MAX(C55:C154),$L$48) -> 96.72mm | D155: =CONCATENATE(MAX(D55:D154),$L$48) -> 87.12mm | E155: =CONCATENATE(MAX(E55:E154),$L$48) -> 93.6mm | F155: =CONCATENATE(MAX(F55:F154),$L$48) -> 79.2mm | G155: =CONCATENATE(MAX(G55:G154),$L$48) -> 87.36mm | H155: =CONCATENATE(MAX(H55:H154),$L$48) -> 80.88mm | I155: =CONCATENATE(MAX(I55:I154),$L$48) -> 45.6mm | ... K155: =CONCATENATE(MAX(K55:K154),$L$48) -> 0mm | M155: =IF(C61="","",C61*36) -> 1109.376 | N155: =IF(C61="","",C61*9) -> 277.344 | O155: =IF(C61="","",C61*3.6) -> 110.9376 | P155: =IF(C61="","",C61*3.6) -> 110.9376 | Q155: =IF(C61="","",C61*0.9) -> 27.7344 | R155: =IF(C61="","",C61*0.36) -> 11.09376 | S155: =IF(C61="","",C61*(0.0036)) -> 0.1109376 | T155: =IF(C61="","",C61*(0.0009)) -> 0.0277344 | U155: =IF(C61="","",C61*(0.00036)) -> 0.01109376
A156: Menor= | B156: =CONCATENATE(MIN(B55:B154),$L$48) -> 3.48mm | C156: =CONCATENATE(MIN(C55:C154),$L$48) -> 3.015mm | D156: =CONCATENATE(MIN(D55:D154),$L$48) -> 3.33mm | E156: =CONCATENATE(MIN(E55:E154),$L$48) -> 3.84mm | F156: =CONCATENATE(MIN(F55:F154),$L$48) -> 3.675mm | G156: =CONCATENATE(MIN(G55:G154),$L$48) -> 4.8mm | H156: =CONCATENATE(MIN(H55:H154),$L$48) -> 3.12mm | I156: =CONCATENATE(MIN(I55:I154),$L$48) -> 3.12mm | ... K156: =CONCATENATE(MIN(K55:K154),$L$48) -> 0mm | M156: =IF(C62="","",C62*36) -> 1201.824 | N156: =IF(C62="","",C62*9) -> 300.456 | O156: =IF(C62="","",C62*3.6) -> 120.1824 | P156: =IF(C62="","",C62*3.6) -> 120.1824 | Q156: =IF(C62="","",C62*0.9) -> 30.0456 | R156: =IF(C62="","",C62*0.36) -> 12.01824 | S156: =IF(C62="","",C62*(0.0036)) -> 0.1201824 | T156: =IF(C62="","",C62*(0.0009)) -> 0.0300456 | U156: =IF(C62="","",C62*(0.00036)) -> 0.01201824
A157: # Datos (n) en cada coloumna | B157: =COUNTIF(B55:B154,">0") -> 100 | C157: =COUNTIF(C55:C154,">0") -> 100 | D157: =COUNTIF(D55:D154,">0") -> 100 | E157: =COUNTIF(E55:E154,">0") -> 100 | F157: =COUNTIF(F55:F154,">0") -> 100 | G157: =COUNTIF(G55:G154,">0") -> 100 | H157: =COUNTIF(H55:H154,">0") -> 100 | I157: =COUNTIF(I55:I154,">0") -> 87 | ... K157: =COUNTIF(K55:K154,">0") -> 0 | M157: =IF(C63="","",C63*36) -> 1232.64 | N157: =IF(C63="","",C63*9) -> 308.16 | O157: =IF(C63="","",C63*3.6) -> 123.264 | P157: =IF(C63="","",C63*3.6) -> 123.264 | Q157: =IF(C63="","",C63*0.9) -> 30.816 | R157: =IF(C63="","",C63*0.36) -> 12.3264 | S157: =IF(C63="","",C63*(0.0036)) -> 0.123264 | T157: =IF(C63="","",C63*(0.0009)) -> 0.030816 | U157: =IF(C63="","",C63*(0.00036)) -> 0.0123264
A158: Datos excluidos= | B158: 264 mm | C158: 46.37 mm | M158: =IF(C64="","",C64*36) -> 1248.048 | N158: =IF(C64="","",C64*9) -> 312.012 | O158: =IF(C64="","",C64*3.6) -> 124.8048 | P158: =IF(C64="","",C64*3.6) -> 124.8048 | Q158: =IF(C64="","",C64*0.9) -> 31.2012 | R158: =IF(C64="","",C64*0.36) -> 12.48048 | S158: =IF(C64="","",C64*(0.0036)) -> 0.1248048 | T158: =IF(C64="","",C64*(0.0009)) -> 0.0312012 | U158: =IF(C64="","",C64*(0.00036)) -> 0.01248048
M159: =IF(C65="","",C65*36) -> 1325.088 | N159: =IF(C65="","",C65*9) -> 331.272 | O159: =IF(C65="","",C65*3.6) -> 132.5088 | P159: =IF(C65="","",C65*3.6) -> 132.5088 | Q159: =IF(C65="","",C65*0.9) -> 33.1272 | R159: =IF(C65="","",C65*0.36) -> 13.25088 | S159: =IF(C65="","",C65*(0.0036)) -> 0.1325088 | T159: =IF(C65="","",C65*(0.0009)) -> 0.0331272 | U159: =IF(C65="","",C65*(0.00036)) -> 0.01325088
M160: =IF(C66="","",C66*36) -> 1417.536 | N160: =IF(C66="","",C66*9) -> 354.384 | O160: =IF(C66="","",C66*3.6) -> 141.7536 | P160: =IF(C66="","",C66*3.6) -> 141.7536 | Q160: =IF(C66="","",C66*0.9) -> 35.4384 | R160: =IF(C66="","",C66*0.36) -> 14.17536 | S160: =IF(C66="","",C66*(0.0036)) -> 0.1417536 | T160: =IF(C66="","",C66*(0.0009)) -> 0.0354384 | U160: =IF(C66="","",C66*(0.00036)) -> 0.01417536
M161: =IF(C67="","",C67*36) -> 993.6 | N161: =IF(C67="","",C67*9) -> 248.4 | O161: =IF(C67="","",C67*3.6) -> 99.36 | P161: =IF(C67="","",C67*3.6) -> 99.36 | Q161: =IF(C67="","",C67*0.9) -> 24.84 | R161: =IF(C67="","",C67*0.36) -> 9.936 | S161: =IF(C67="","",C67*(0.0036)) -> 0.09936 | T161: =IF(C67="","",C67*(0.0009)) -> 0.02484 | U161: =IF(C67="","",C67*(0.00036)) -> 0.009936
M162: =IF(C68="","",C68*36) -> 1080 | N162: =IF(C68="","",C68*9) -> 270 | O162: =IF(C68="","",C68*3.6) -> 108 | P162: =IF(C68="","",C68*3.6) -> 108 | Q162: =IF(C68="","",C68*0.9) -> 27 | R162: =IF(C68="","",C68*0.36) -> 10.8 | S162: =IF(C68="","",C68*(0.0036)) -> 0.108 | T162: =IF(C68="","",C68*(0.0009)) -> 0.027 | U162: =IF(C68="","",C68*(0.00036)) -> 0.0108
M163: =IF(C69="","",C69*36) -> 1209.6 | N163: =IF(C69="","",C69*9) -> 302.4 | O163: =IF(C69="","",C69*3.6) -> 120.96 | P163: =IF(C69="","",C69*3.6) -> 120.96 | Q163: =IF(C69="","",C69*0.9) -> 30.24 | R163: =IF(C69="","",C69*0.36) -> 12.096 | S163: =IF(C69="","",C69*(0.0036)) -> 0.12096 | T163: =IF(C69="","",C69*(0.0009)) -> 0.03024 | U163: =IF(C69="","",C69*(0.00036)) -> 0.012096
M164: =IF(C70="","",C70*36) -> 1231.2 | N164: =IF(C70="","",C70*9) -> 307.8 | O164: =IF(C70="","",C70*3.6) -> 123.12 | P164: =IF(C70="","",C70*3.6) -> 123.12 | Q164: =IF(C70="","",C70*0.9) -> 30.78 | R164: =IF(C70="","",C70*0.36) -> 12.312 | S164: =IF(C70="","",C70*(0.0036)) -> 0.12312 | T164: =IF(C70="","",C70*(0.0009)) -> 0.03078 | U164: =IF(C70="","",C70*(0.00036)) -> 0.012312
M165: =IF(C71="","",C71*36) -> 1296 | N165: =IF(C71="","",C71*9) -> 324 | O165: =IF(C71="","",C71*3.6) -> 129.6 | P165: =IF(C71="","",C71*3.6) -> 129.6 | Q165: =IF(C71="","",C71*0.9) -> 32.4 | R165: =IF(C71="","",C71*0.36) -> 12.96 | S165: =IF(C71="","",C71*(0.0036)) -> 0.1296 | T165: =IF(C71="","",C71*(0.0009)) -> 0.0324 | U165: =IF(C71="","",C71*(0.00036)) -> 0.01296
M166: =IF(C72="","",C72*36) -> 1296 | N166: =IF(C72="","",C72*9) -> 324 | O166: =IF(C72="","",C72*3.6) -> 129.6 | P166: =IF(C72="","",C72*3.6) -> 129.6 | Q166: =IF(C72="","",C72*0.9) -> 32.4 | R166: =IF(C72="","",C72*0.36) -> 12.96 | S166: =IF(C72="","",C72*(0.0036)) -> 0.1296 | T166: =IF(C72="","",C72*(0.0009)) -> 0.0324 | U166: =IF(C72="","",C72*(0.00036)) -> 0.01296
M167: =IF(C73="","",C73*36) -> 1360.8 | N167: =IF(C73="","",C73*9) -> 340.2 | O167: =IF(C73="","",C73*3.6) -> 136.08 | P167: =IF(C73="","",C73*3.6) -> 136.08 | Q167: =IF(C73="","",C73*0.9) -> 34.02 | R167: =IF(C73="","",C73*0.36) -> 13.608 | S167: =IF(C73="","",C73*(0.0036)) -> 0.13608 | T167: =IF(C73="","",C73*(0.0009)) -> 0.03402 | U167: =IF(C73="","",C73*(0.00036)) -> 0.013608
M168: =IF(C74="","",C74*36) -> 1360.8 | N168: =IF(C74="","",C74*9) -> 340.2 | O168: =IF(C74="","",C74*3.6) -> 136.08 | P168: =IF(C74="","",C74*3.6) -> 136.08 | Q168: =IF(C74="","",C74*0.9) -> 34.02 | R168: =IF(C74="","",C74*0.36) -> 13.608 | S168: =IF(C74="","",C74*(0.0036)) -> 0.13608 | T168: =IF(C74="","",C74*(0.0009)) -> 0.03402 | U168: =IF(C74="","",C74*(0.00036)) -> 0.013608
M169: =IF(C75="","",C75*36) -> 1360.8 | N169: =IF(C75="","",C75*9) -> 340.2 | O169: =IF(C75="","",C75*3.6) -> 136.08 | P169: =IF(C75="","",C75*3.6) -> 136.08 | Q169: =IF(C75="","",C75*0.9) -> 34.02 | R169: =IF(C75="","",C75*0.36) -> 13.608 | S169: =IF(C75="","",C75*(0.0036)) -> 0.13608 | T169: =IF(C75="","",C75*(0.0009)) -> 0.03402 | U169: =IF(C75="","",C75*(0.00036)) -> 0.013608
M170: =IF(C76="","",C76*36) -> 1425.6 | N170: =IF(C76="","",C76*9) -> 356.4 | O170: =IF(C76="","",C76*3.6) -> 142.56 | P170: =IF(C76="","",C76*3.6) -> 142.56 | Q170: =IF(C76="","",C76*0.9) -> 35.64 | R170: =IF(C76="","",C76*0.36) -> 14.256 | S170: =IF(C76="","",C76*(0.0036)) -> 0.14256 | T170: =IF(C76="","",C76*(0.0009)) -> 0.03564 | U170: =IF(C76="","",C76*(0.00036)) -> 0.014256
... M248: =IF(C154="","",C154*36) -> 3481.92 | N248: =IF(C154="","",C154*9) -> 870.48 | O248: =IF(C154="","",C154*3.6) -> 348.192 | P248: =IF(C154="","",C154*3.6) -> 348.192 | Q248: =IF(C154="","",C154*0.9) -> 87.048 | R248: =IF(C154="","",C154*0.36) -> 34.8192 | S248: =IF(C154="","",C154*(0.0036)) -> 0.348192 | T248: =IF(C154="","",C154*(0.0009)) -> 0.087048 | U248: =IF(C154="","",C154*(0.00036)) -> 0.0348192
M249: =IF(D55="","",D55*36) -> 119.88 | N249: =IF(D55="","",D55*9) -> 29.97 | O249: =IF(D55="","",D55*3.6) -> 11.988 | P249: =IF(D55="","",D55*3.6) -> 11.988 | Q249: =IF(D55="","",D55*0.9) -> 2.997 | R249: =IF(D55="","",D55*0.36) -> 1.1988 | S249: =IF(D55="","",D55*(0.0036)) -> 0.011988 | T249: =IF(D55="","",D55*(0.0009)) -> 0.002997 | U249: =IF(D55="","",D55*(0.00036)) -> 0.0011988
M250: =IF(D56="","",D56*36) -> 122.04 | N250: =IF(D56="","",D56*9) -> 30.51 | O250: =IF(D56="","",D56*3.6) -> 12.204 | P250: =IF(D56="","",D56*3.6) -> 12.204 | Q250: =IF(D56="","",D56*0.9) -> 3.051 | R250: =IF(D56="","",D56*0.36) -> 1.2204 | S250: =IF(D56="","",D56*(0.0036)) -> 0.012204 | T250: =IF(D56="","",D56*(0.0009)) -> 0.003051 | U250: =IF(D56="","",D56*(0.00036)) -> 0.0012204
M251: =IF(D57="","",D57*36) -> 142.56 | N251: =IF(D57="","",D57*9) -> 35.64 | O251: =IF(D57="","",D57*3.6) -> 14.256 | P251: =IF(D57="","",D57*3.6) -> 14.256 | Q251: =IF(D57="","",D57*0.9) -> 3.564 | R251: =IF(D57="","",D57*0.36) -> 1.4256 | S251: =IF(D57="","",D57*(0.0036)) -> 0.014256 | T251: =IF(D57="","",D57*(0.0009)) -> 0.003564 | U251: =IF(D57="","",D57*(0.00036)) -> 0.0014256
M252: =IF(D58="","",D58*36) -> 142.56 | N252: =IF(D58="","",D58*9) -> 35.64 | O252: =IF(D58="","",D58*3.6) -> 14.256 | P252: =IF(D58="","",D58*3.6) -> 14.256 | Q252: =IF(D58="","",D58*0.9) -> 3.564 | R252: =IF(D58="","",D58*0.36) -> 1.4256 | S252: =IF(D58="","",D58*(0.0036)) -> 0.014256 | T252: =IF(D58="","",D58*(0.0009)) -> 0.003564 | U252: =IF(D58="","",D58*(0.00036)) -> 0.0014256
M253: =IF(D59="","",D59*36) -> 1016.928 | N253: =IF(D59="","",D59*9) -> 254.232 | O253: =IF(D59="","",D59*3.6) -> 101.6928 | P253: =IF(D59="","",D59*3.6) -> 101.6928 | Q253: =IF(D59="","",D59*0.9) -> 25.4232 | R253: =IF(D59="","",D59*0.36) -> 10.16928 | S253: =IF(D59="","",D59*(0.0036)) -> 0.1016928 | T253: =IF(D59="","",D59*(0.0009)) -> 0.0254232 | U253: =IF(D59="","",D59*(0.00036)) -> 0.01016928
M254: =IF(D60="","",D60*36) -> 1070.856 | N254: =IF(D60="","",D60*9) -> 267.714 | O254: =IF(D60="","",D60*3.6) -> 107.0856 | P254: =IF(D60="","",D60*3.6) -> 107.0856 | Q254: =IF(D60="","",D60*0.9) -> 26.7714 | R254: =IF(D60="","",D60*0.36) -> 10.70856 | S254: =IF(D60="","",D60*(0.0036)) -> 0.1070856 | T254: =IF(D60="","",D60*(0.0009)) -> 0.0267714 | U254: =IF(D60="","",D60*(0.00036)) -> 0.01070856
M255: =IF(D61="","",D61*36) -> 1109.376 | N255: =IF(D61="","",D61*9) -> 277.344 | O255: =IF(D61="","",D61*3.6) -> 110.9376 | P255: =IF(D61="","",D61*3.6) -> 110.9376 | Q255: =IF(D61="","",D61*0.9) -> 27.7344 | R255: =IF(D61="","",D61*0.36) -> 11.09376 | S255: =IF(D61="","",D61*(0.0036)) -> 0.1109376 | T255: =IF(D61="","",D61*(0.0009)) -> 0.0277344 | U255: =IF(D61="","",D61*(0.00036)) -> 0.01109376
M256: =IF(D62="","",D62*36) -> 1109.376 | N256: =IF(D62="","",D62*9) -> 277.344 | O256: =IF(D62="","",D62*3.6) -> 110.9376 | P256: =IF(D62="","",D62*3.6) -> 110.9376 | Q256: =IF(D62="","",D62*0.9) -> 27.7344 | R256: =IF(D62="","",D62*0.36) -> 11.09376 | S256: =IF(D62="","",D62*(0.0036)) -> 0.1109376 | T256: =IF(D62="","",D62*(0.0009)) -> 0.0277344 | U256: =IF(D62="","",D62*(0.00036)) -> 0.01109376
M257: =IF(D63="","",D63*36) -> 1109.376 | N257: =IF(D63="","",D63*9) -> 277.344 | O257: =IF(D63="","",D63*3.6) -> 110.9376 | P257: =IF(D63="","",D63*3.6) -> 110.9376 | Q257: =IF(D63="","",D63*0.9) -> 27.7344 | R257: =IF(D63="","",D63*0.36) -> 11.09376 | S257: =IF(D63="","",D63*(0.0036)) -> 0.1109376 | T257: =IF(D63="","",D63*(0.0009)) -> 0.0277344 | U257: =IF(D63="","",D63*(0.00036)) -> 0.01109376
M258: =IF(D64="","",D64*36) -> 1251.9 | N258: =IF(D64="","",D64*9) -> 312.975 | O258: =IF(D64="","",D64*3.6) -> 125.19 | P258: =IF(D64="","",D64*3.6) -> 125.19 | Q258: =IF(D64="","",D64*0.9) -> 31.2975 | R258: =IF(D64="","",D64*0.36) -> 12.519 | S258: =IF(D64="","",D64*(0.0036)) -> 0.12519 | T258: =IF(D64="","",D64*(0.0009)) -> 0.0312975 | U258: =IF(D64="","",D64*(0.00036)) -> 0.012519
M259: =IF(D65="","",D65*36) -> 1251.9 | N259: =IF(D65="","",D65*9) -> 312.975 | O259: =IF(D65="","",D65*3.6) -> 125.19 | P259: =IF(D65="","",D65*3.6) -> 125.19 | Q259: =IF(D65="","",D65*0.9) -> 31.2975 | R259: =IF(D65="","",D65*0.36) -> 12.519 | S259: =IF(D65="","",D65*(0.0036)) -> 0.12519 | T259: =IF(D65="","",D65*(0.0009)) -> 0.0312975 | U259: =IF(D65="","",D65*(0.00036)) -> 0.012519
M260: =IF(D66="","",D66*36) -> 1267.308 | N260: =IF(D66="","",D66*9) -> 316.827 | O260: =IF(D66="","",D66*3.6) -> 126.7308 | P260: =IF(D66="","",D66*3.6) -> 126.7308 | Q260: =IF(D66="","",D66*0.9) -> 31.6827 | R260: =IF(D66="","",D66*0.36) -> 12.67308 | S260: =IF(D66="","",D66*(0.0036)) -> 0.1267308 | T260: =IF(D66="","",D66*(0.0009)) -> 0.0316827 | U260: =IF(D66="","",D66*(0.00036)) -> 0.01267308
... M348: =IF(D154="","",D154*36) -> 3136.32 | N348: =IF(D154="","",D154*9) -> 784.08 | O348: =IF(D154="","",D154*3.6) -> 313.632 | P348: =IF(D154="","",D154*3.6) -> 313.632 | Q348: =IF(D154="","",D154*0.9) -> 78.408 | R348: =IF(D154="","",D154*0.36) -> 31.3632 | S348: =IF(D154="","",D154*(0.0036)) -> 0.313632 | T348: =IF(D154="","",D154*(0.0009)) -> 0.078408 | U348: =IF(D154="","",D154*(0.00036)) -> 0.0313632
M349: =IF(E55="","",E55*36) -> 138.24 | N349: =IF(E55="","",E55*9) -> 34.56 | O349: =IF(E55="","",E55*3.6) -> 13.824 | P349: =IF(E55="","",E55*3.6) -> 13.824 | Q349: =IF(E55="","",E55*0.9) -> 3.456 | R349: =IF(E55="","",E55*0.36) -> 1.3824 | S349: =IF(E55="","",E55*(0.0036)) -> 0.013824 | T349: =IF(E55="","",E55*(0.0009)) -> 0.003456 | U349: =IF(E55="","",E55*(0.00036)) -> 0.0013824
M350: =IF(E56="","",E56*36) -> 155.52 | N350: =IF(E56="","",E56*9) -> 38.88 | O350: =IF(E56="","",E56*3.6) -> 15.552 | P350: =IF(E56="","",E56*3.6) -> 15.552 | Q350: =IF(E56="","",E56*0.9) -> 3.888 | R350: =IF(E56="","",E56*0.36) -> 1.5552 | S350: =IF(E56="","",E56*(0.0036)) -> 0.015552 | T350: =IF(E56="","",E56*(0.0009)) -> 0.003888 | U350: =IF(E56="","",E56*(0.00036)) -> 0.0015552
M351: =IF(E57="","",E57*36) -> 172.8 | N351: =IF(E57="","",E57*9) -> 43.2 | O351: =IF(E57="","",E57*3.6) -> 17.28 | P351: =IF(E57="","",E57*3.6) -> 17.28 | Q351: =IF(E57="","",E57*0.9) -> 4.32 | R351: =IF(E57="","",E57*0.36) -> 1.728 | S351: =IF(E57="","",E57*(0.0036)) -> 0.01728 | T351: =IF(E57="","",E57*(0.0009)) -> 0.00432 | U351: =IF(E57="","",E57*(0.00036)) -> 0.001728
M352: =IF(E58="","",E58*36) -> 185.76 | N352: =IF(E58="","",E58*9) -> 46.44 | O352: =IF(E58="","",E58*3.6) -> 18.576 | P352: =IF(E58="","",E58*3.6) -> 18.576 | Q352: =IF(E58="","",E58*0.9) -> 4.644 | R352: =IF(E58="","",E58*0.36) -> 1.8576 | S352: =IF(E58="","",E58*(0.0036)) -> 0.018576 | T352: =IF(E58="","",E58*(0.0009)) -> 0.004644 | U352: =IF(E58="","",E58*(0.00036)) -> 0.0018576
M353: =IF(E59="","",E59*36) -> 1325.088 | N353: =IF(E59="","",E59*9) -> 331.272 | O353: =IF(E59="","",E59*3.6) -> 132.5088 | P353: =IF(E59="","",E59*3.6) -> 132.5088 | Q353: =IF(E59="","",E59*0.9) -> 33.1272 | R353: =IF(E59="","",E59*0.36) -> 13.25088 | S353: =IF(E59="","",E59*(0.0036)) -> 0.1325088 | T353: =IF(E59="","",E59*(0.0009)) -> 0.0331272 | U353: =IF(E59="","",E59*(0.00036)) -> 0.01325088
M354: =IF(E60="","",E60*36) -> 1325.088 | N354: =IF(E60="","",E60*9) -> 331.272 | O354: =IF(E60="","",E60*3.6) -> 132.5088 | P354: =IF(E60="","",E60*3.6) -> 132.5088 | Q354: =IF(E60="","",E60*0.9) -> 33.1272 | R354: =IF(E60="","",E60*0.36) -> 13.25088 | S354: =IF(E60="","",E60*(0.0036)) -> 0.1325088 | T354: =IF(E60="","",E60*(0.0009)) -> 0.0331272 | U354: =IF(E60="","",E60*(0.00036)) -> 0.01325088
M355: =IF(E61="","",E61*36) -> 1402.128 | N355: =IF(E61="","",E61*9) -> 350.532 | O355: =IF(E61="","",E61*3.6) -> 140.2128 | P355: =IF(E61="","",E61*3.6) -> 140.2128 | Q355: =IF(E61="","",E61*0.9) -> 35.0532 | R355: =IF(E61="","",E61*0.36) -> 14.02128 | S355: =IF(E61="","",E61*(0.0036)) -> 0.1402128 | T355: =IF(E61="","",E61*(0.0009)) -> 0.0350532 | U355: =IF(E61="","",E61*(0.00036)) -> 0.01402128
M356: =IF(E62="","",E62*36) -> 1490.724 | N356: =IF(E62="","",E62*9) -> 372.681 | O356: =IF(E62="","",E62*3.6) -> 149.0724 | P356: =IF(E62="","",E62*3.6) -> 149.0724 | Q356: =IF(E62="","",E62*0.9) -> 37.2681 | R356: =IF(E62="","",E62*0.36) -> 14.90724 | S356: =IF(E62="","",E62*(0.0036)) -> 0.1490724 | T356: =IF(E62="","",E62*(0.0009)) -> 0.0372681 | U356: =IF(E62="","",E62*(0.00036)) -> 0.01490724
M357: =IF(E63="","",E63*36) -> 1533.096 | N357: =IF(E63="","",E63*9) -> 383.274 | O357: =IF(E63="","",E63*3.6) -> 153.3096 | P357: =IF(E63="","",E63*3.6) -> 153.3096 | Q357: =IF(E63="","",E63*0.9) -> 38.3274 | R357: =IF(E63="","",E63*0.36) -> 15.33096 | S357: =IF(E63="","",E63*(0.0036)) -> 0.1533096 | T357: =IF(E63="","",E63*(0.0009)) -> 0.0383274 | U357: =IF(E63="","",E63*(0.00036)) -> 0.01533096
M358: =IF(E64="","",E64*36) -> 1540.8 | N358: =IF(E64="","",E64*9) -> 385.2 | O358: =IF(E64="","",E64*3.6) -> 154.08 | P358: =IF(E64="","",E64*3.6) -> 154.08 | Q358: =IF(E64="","",E64*0.9) -> 38.52 | R358: =IF(E64="","",E64*0.36) -> 15.408 | S358: =IF(E64="","",E64*(0.0036)) -> 0.15408 | T358: =IF(E64="","",E64*(0.0009)) -> 0.03852 | U358: =IF(E64="","",E64*(0.00036)) -> 0.015408
...

Sheet Diámetro_Medio
B1: DIÁMETRO MEDIO DE PARTÍCULA E INCERTIDUMBRE
B2: Para n > 30:
E3: Datos Obtenidos | I3: Rango
I4: Li Conf | K4: Ls Conf
E5: =Distribución_Frecuencias!D15 -> 154 | F5: ± | G5: =((D20*Ingresar_Datos!E3)/SQRT(Ingresar_Datos!F9)) -> 5.521575 | H5: → | I5: =E5-G5 -> 148.47842 | K5: =E5+G5 -> 159.52158
B9: Donde:
B10: d = Diámetro medio de partícula
B11: Zc = Valor esperado(al % de coeficiente de confianza deseado)
B12: S = Desviación estándar
B13: n = Número de partículas caracterizadas
B16: DESVIACIÓN ESTÁNDAR E INCERTIDUMBRE
D18: Datos Obtenidos | H18: Rango
H19: Li Conf | J19: Ls Conf
D20: =SQRT(Distribución_Frecuencias!AD15/((E40-1))) -> 77.253084 | E20: ± | F20: =(D20*Ingresar_Datos!E23)/100 -> 3.8626542 | H20: =D20-F20 -> 73.39043 | J20: =D20+F20 -> 81.115738
G23: =1/2*((SQRT(2*(E40)-3)+Ingresar_Datos!E22)^2) -> 865.10705
G27: =1/2*((SQRT(2*(E40)-3)-Ingresar_Datos!E22)^2) -> 709.73455
G31: Especificación USP 34 NF 29
G32: Li Conf | I32: Ls Conf
G33: =SQRT((D20^2)*(E40/G23)) -> 73.683164 | I33: =SQRT((D20^2)*(E40/G27)) -> 81.349562
B39: TRATAMIENTO ESTADÍSTICO
B40: Tamaño Muestral (n) | E40: =COUNTIF(B66:K165,">0") -> 787
B41: Tamaño Partícula Mayor en um | E41: =ROUNDUP(MAX(B66:K165),0) -> 349
B42: Tamaño Partícula Menor en um | E42: =ROUNDDOWN(MIN(B66:K165),0) -> 10
B43: Tratamiento | E43: =(3.32*(LOG(E40,10)))+1 -> 10.614636 | F43: =ROUNDUP(E43,0) -> 11
B44: Rango Intervalos (L1) Y (L2) | E44: =(E41-E42)/E43 -> 31.937035 | F44: =ROUNDUP(E44,0) -> 32
B46: Conteo de partículas en los límites estimados
B47: LÍMITE INFERIOR (L1) | C47: LÍMITE SUPERIOR (L2) | D47: # de partículas (mayor o igual a L1) | E47: # de partículas (>= a L1 pero < que L2)
B48: =IF(E42<=E41,E42,N.a) -> 10 | C48: =(B48+$F$44) -> 42 | D48: =G48 -> 787 | E48: =(D48-D49) -> 31 | F48: =FREQUENCY($B$66:$K$165,B48:B49) -> 0 | G48: =$E$40-F48 -> 787
B49: =C48 -> 42 | C49: =(B49+$F$44) -> 74 | D49: =G49 -> 756 | E49: =(D49-D50) -> 4 | F49: =FREQUENCY($B$66:$K$165,B49:B50) -> 31 | G49: =$E$40-F49 -> 756
B50: =C49 -> 74 | C50: =(B50+$F$44) -> 106 | D50: =G50 -> 752 | E50: =(D50-D51) -> 218 | F50: =FREQUENCY($B$66:$K$165,B50:B51) -> 35 | G50: =$E$40-F50 -> 752
B51: =C50 -> 106 | C51: =(B51+$F$44) -> 138 | D51: =G51 -> 534 | E51: =(D51-D52) -> 404 | F51: =FREQUENCY($B$66:$K$165,B51:B52) -> 253 | G51: =$E$40-F51 -> 534
B52: =C51 -> 138 | C52: =(B52+$F$44) -> 170 | D52: =G52 -> 130 | E52: =(D52-D53) -> 85 | F52: =FREQUENCY($B$66:$K$165,B52:B53) -> 657 | G52: =$E$40-F52 -> 130
B53: =C52 -> 170 | C53: =(B53+$F$44) -> 202 | D53: =G53 -> 45 | E53: =(D53-D54) -> 13 | F53: =FREQUENCY($B$66:$K$165,B53:B54) -> 742 | G53: =$E$40-F53 -> 45
B54: =C53 -> 202 | C54: =(B54+$F$44) -> 234 | D54: =G54 -> 32 | E54: =(D54-D55) -> 7 | F54: =FREQUENCY($B$66:$K$165,B54:B55) -> 755 | G54: =$E$40-F54 -> 32
B55: =C54 -> 234 | C55: =(B55+$F$44) -> 266 | D55: =G55 -> 25 | E55: =(D55-D56) -> 8 | F55: =FREQUENCY($B$66:$K$165,B55:B56) -> 762 | G55: =$E$40-F55 -> 25
B56: =C55 -> 266 | C56: =(B56+$F$44) -> 298 | D56: =G56 -> 17 | E56: =(D56-D57) -> 8 | F56: =FREQUENCY($B$66:$K$165,B56:B57) -> 770 | G56: =$E$40-F56 -> 17
B57: =C56 -> 298 | C57: =(B57+$F$44) -> 330 | D57: =G57 -> 9 | E57: =(D57-D58) -> 7 | F57: =FREQUENCY($B$66:$K$165,B57:B58) -> 778 | G57: =$E$40-F57 -> 9
B58: =C57 -> 330 | C58: =(B58+$F$44) -> 362 | D58: =G58 -> 2 | E58: =(D58-D59) -> 2 | F58: =FREQUENCY($B$66:$K$165,B58:B59) -> 785 | G58: =$E$40-F58 -> 2
B59: =C58 -> 362 | C59: =(B59+$F$44) -> 394 | D59: =G59 -> 0 | E59: =(D59-D60) -> 0 | F59: =FREQUENCY($B$66:$K$165,B59:B60) -> 787 | G59: =$E$40-F59 -> 0
B60: =C59 -> 394 | C60: =(B60+$F$44) -> 426 | D60: =G60 -> 0 | E60: =(D60-D61) -> 0 | F60: =FREQUENCY($B$66:$K$165,B60:B61) -> 787 | G60: =$E$40-F60 -> 0
B61: =C60 -> 426 | C61: =(B61+$F$44) -> 458 | D61: =G61 -> 0 | E61: =(D61-D62) -> 0 | F61: =FREQUENCY($B$66:$K$165,B61:B62) -> 787 | G61: =$E$40-F61 -> 0
B62: TOTAL PARTÍCULAS = | E62: =SUM(E48:E61) -> 787 | F62: =IF(E62=E40,"El número de partículas se a contado en forma correcta","El numero de partículas se a contado en forma incorrecta") -> El número de partículas se a contado en forma correcta
B64: =CONCATENATE("CONVERSIÓN A um DE LAS MEDIDAS REALIZADAS EN ",Ingresar_Datos!L48," CON EL OBJETIVO ",Ingresar_Datos!F52,"x POR EL MÉTODO DE ",Ingresar_Datos!F50) -> CONVERSIÓN A um DE LAS MEDIDAS REALIZADAS EN mm CON EL OBJETIVO 10x POR EL MÉTODO DE FERET
B65: =CONCATENATE(Ingresar_Datos!$F$50," / ","um") -> FERET / um | C65: =CONCATENATE(Ingresar_Datos!$F$50," / ","um") -> FERET / um | D65: =CONCATENATE(Ingresar_Datos!$F$50," / ","um") -> FERET / um | E65: =CONCATENATE(Ingresar_Datos!$F$50," / ","um") -> FERET / um | F65: =CONCATENATE(Ingresar_Datos!$F$50," / ","um") -> FERET / um | G65: =CONCATENATE(Ingresar_Datos!$F$50," / ","um") -> FERET / um | H65: =CONCATENATE(Ingresar_Datos!$F$50," / ","um") -> FERET / um | I65: =CONCATENATE(Ingresar_Datos!$F$50," / ","um") -> FERET / um | ... K65: =CONCATENATE(Ingresar_Datos!$F$50," / ","um") -> FERET / um
B66: =IF(Ingresar_Datos!$B$53="cm10",Ingresar_Datos!M49,IF(Ingresar_Datos!$B$53="cm40",Ingresar_Datos!N49,IF(Ingresar_Datos!$B$53="cm100",Ingresar_Datos!O49,IF(Ingresar_Datos!$B$53="mm10",Ingresar_Datos!P49,IF(Ingresar_Datos!$B$53="mm40",Ingresar_Datos!Q49,IF(Ingresar_Datos!$B$53="mm100",Ingresar_Datos!R49,"Conv.Inválida")))))) -> 12.528 | C66: =IF(Ingresar_Datos!$B$53="cm10",Ingresar_Datos!M149,IF(Ingresar_Datos!$B$53="cm40",Ingresar_Datos!N149,IF(Ingresar_Datos!$B$53="cm100",Ingresar_Datos!O149,IF(Ingresar_Datos!$B$53="mm10",Ingresar_Datos!P149,IF(Ingresar_Datos!$B$53="mm40",Ingresar_Datos!Q149,IF(Ingresar_Datos!$B$53="mm100",Ingresar_Datos!R149,"Conv.Inválida")))))) -> 10.854 | D66: =IF(Ingresar_Datos!$B$53="cm10",Ingresar_Datos!M249,IF(Ingresar_Datos!$B$53="cm40",Ingresar_Datos!N249,IF(Ingresar_Datos!$B$53="cm100",Ingresar_Datos!O249,IF(Ingresar_Datos!$B$53="mm10",Ingresar_Datos!P249,IF(Ingresar_Datos!$B$53="mm40",Ingresar_Datos!Q249,IF(Ingresar_Datos!$B$53="mm100",Ingresar_Datos!R249,"Conv.Inválida")))))) -> 11.988 | E66: =IF(Ingresar_Datos!$B$53="cm10",Ingresar_Datos!M349,IF(Ingresar_Datos!$B$53="cm40",Ingresar_Datos!N349,IF(Ingresar_Datos!$B$53="cm100",Ingresar_Datos!O349,IF(Ingresar_Datos!$B$53="mm10",Ingresar_Datos!P349,IF(Ingresar_Datos!$B$53="mm40",Ingresar_Datos!Q349,IF(Ingresar_Datos!$B$53="mm100",Ingresar_Datos!R349,"Conv.Inválida")))))) -> 13.824 | F66: =IF(Ingresar_Datos!$B$53="cm10",Ingresar_Datos!M449,IF(Ingresar_Datos!$B$53="cm40",Ingresar_Datos!N449,IF(Ingresar_Datos!$B$53="cm100",Ingresar_Datos!O449,IF(Ingresar_Datos!$B$53="mm10",Ingresar_Datos!P449,IF(Ingresar_Datos!$B$53="mm40",Ingresar_Datos!Q449,IF(Ingresar_Datos!$B$53="mm100",Ingresar_Datos!R449,"Conv.Inválida")))))) -> 13.23 | G66: =IF(Ingresar_Datos!$B$53="cm10",Ingresar_Datos!M549,IF(Ingresar_Datos!$B$53="cm40",Ingresar_Datos!N549,IF(Ingresar_Datos!$B$53="cm100",Ingresar_Datos!O549,IF(Ingresar_Datos!$B$53="mm10",Ingresar_Datos!P549,IF(Ingresar_Datos!$B$53="mm40",Ingresar_Datos!Q549,IF(Ingresar_Datos!$B$53="mm100",Ingresar_Datos!R549,"Conv.Inválida")))))) -> 17.28 | H66: =IF(Ingresar_Datos!$B$53="cm10",Ingresar_Datos!M649,IF(Ingresar_Datos!$B$53="cm40",Ingresar_Datos!N649,IF(Ingresar_Datos!$B$53="cm100",Ingresar_Datos!O649,IF(Ingresar_Datos!$B$53="mm10",Ingresar_Datos!P649,IF(Ingresar_Datos!$B$53="mm40",Ingresar_Datos!Q649,IF(Ingresar_Datos!$B$53="mm100",Ingresar_Datos!R649,"Conv.Inválida")))))) -> 11.232 | I66: =IF(Ingresar_Datos!$B$53="cm10",Ingresar_Datos!M749,IF(Ingresar_Datos!$B$53="cm40",Ingresar_Datos!N749,IF(Ingresar_Datos!$B$53="cm100",Ingresar_Datos!O749,IF(Ingresar_Datos!$B$53="mm10",Ingresar_Datos!P749,IF(Ingresar_Datos!$B$53="mm40",Ingresar_Datos!Q749,IF(Ingresar_Datos!$B$53="mm100",Ingresar_Datos!R749,"Conv.Inválida")))))) -> 11.232 | J66: =IF(Ingresar_Datos!$B$53="cm10",Ingresar_Datos!M849,IF(Ingresar_Datos!$B$53="cm40",Ingresar_Datos!N849,IF(Ingresar_Datos!$B$53="cm100",Ingresar_Datos!O849,IF(Ingresar_Datos!$B$53="mm10",Ingresar_Datos!P849,IF(Ingresar_Datos!$B$53="mm40",Ingresar_Datos!Q849,IF(Ingresar_Datos!$B$53="mm100",Ingresar_Datos!R849,"Conv.Inválida")))))) | K66: =IF(Ingresar_Datos!$B$53="cm10",Ingresar_Datos!M949,IF(Ingresar_Datos!$B$53="cm40",Ingresar_Datos!N949,IF(Ingresar_Datos!$B$53="cm100",Ingresar_Datos!O949,IF(Ingresar_Datos!$B$53="mm10",Ingresar_Datos!P949,IF(Ingresar_Datos!$B$53="mm40",Ingresar_Datos!Q949,IF(Ingresar_Datos!$B$53="mm100",Ingresar_Datos!R949,"Conv.Inválida"))))))
B67: =IF(Ingresar_Datos!$B$53="cm10",Ingresar_Datos!M50,IF(Ingresar_Datos!$B$53="cm40",Ingresar_Datos!N50,IF(Ingresar_Datos!$B$53="cm100",Ingresar_Datos!O50,IF(Ingresar_Datos!$B$53="mm10",Ingresar_Datos!P50,IF(Ingresar_Datos!$B$53="mm40",Ingresar_Datos!Q50,IF(Ingresar_Datos!$B$53="mm100",Ingresar_Datos!R50,"Conv.Inválida")))))) -> 12.744 | C67: =IF(Ingresar_Datos!$B$53="cm10",Ingresar_Datos!M150,IF(Ingresar_Datos!$B$53="cm40",Ingresar_Datos!N150,IF(Ingresar_Datos!$B$53="cm100",Ingresar_Datos!O150,IF(Ingresar_Datos!$B$53="mm10",Ingresar_Datos!P150,IF(Ingresar_Datos!$B$53="mm40",Ingresar_Datos!Q150,IF(Ingresar_Datos!$B$53="mm100",Ingresar_Datos!R150,"Conv.Inválida")))))) -> 11.232 | D67: =IF(Ingresar_Datos!$B$53="cm10",Ingresar_Datos!M250,IF(Ingresar_Datos!$B$53="cm40",Ingresar_Datos!N250,IF(Ingresar_Datos!$B$53="cm100",Ingresar_Datos!O250,IF(Ingresar_Datos!$B$53="mm10",Ingresar_Datos!P250,IF(Ingresar_Datos!$B$53="mm40",Ingresar_Datos!Q250,IF(Ingresar_Datos!$B$53="mm100",Ingresar_Datos!R250,"Conv.Inválida")))))) -> 12.204 | E67: =IF(Ingresar_Datos!$B$53="cm10",Ingresar_Datos!M350,IF(Ingresar_Datos!$B$53="cm40",Ingresar_Datos!N350,IF(Ingresar_Datos!$B$53="cm100",Ingresar_Datos!O350,IF(Ingresar_Datos!$B$53="mm10",Ingresar_Datos!P350,IF(Ingresar_Datos!$B$53="mm40",Ingresar_Datos!Q350,IF(Ingresar_Datos!$B$53="mm100",Ingresar_Datos!R350,"Conv.Inválida")))))) -> 15.552 | F67: =IF(Ingresar_Datos!$B$53="cm10",Ingresar_Datos!M450,IF(Ingresar_Datos!$B$53="cm40",Ingresar_Datos!N450,IF(Ingresar_Datos!$B$53="cm100",Ingresar_Datos!O450,IF(Ingresar_Datos!$B$53="mm10",Ingresar_Datos!P450,IF(Ingresar_Datos!$B$53="mm40",Ingresar_Datos!Q450,IF(Ingresar_Datos!$B$53="mm100",Ingresar_Datos!R450,"Conv.Inválida")))))) -> 14.904 | G67: =IF(Ingresar_Datos!$B$53="cm10",Ingresar_Datos!M550,IF(Ingresar_Datos!$B$53="cm40",Ingresar_Datos!N550,IF(Ingresar_Datos!$B$53="cm100",Ingresar_Datos!O550,IF(Ingresar_Datos!$B$53="mm10",Ingresar_Datos!P550,IF(Ingresar_Datos!$B$53="mm40",Ingresar_Datos!Q550,IF(Ingresar_Datos!$B$53="mm100",Ingresar_Datos!R550,"Conv.Inválida")))))) -> 18.576 | H67: =IF(Ingresar_Datos!$B$53="cm10",Ingresar_Datos!M650,IF(Ingresar_Datos!$B$53="cm40",Ingresar_Datos!N650,IF(Ingresar_Datos!$B$53="cm100",Ingresar_Datos!O650,IF(Ingresar_Datos!$B$53="mm10",Ingresar_Datos!P650,IF(Ingresar_Datos!$B$53="mm40",Ingresar_Datos!Q650,IF(Ingresar_Datos!$B$53="mm100",Ingresar_Datos!R650,"Conv.Inválida")))))) -> 12.96 | I67: =IF(Ingresar_Datos!$B$53="cm10",Ingresar_Datos!M750,IF(Ingresar_Datos!$B$53="cm40",Ingresar_Datos!N750,IF(Ingresar_Datos!$B$53="cm100",Ingresar_Datos!O750,IF(Ingresar_Datos!$B$53="mm10",Ingresar_Datos!P750,IF(Ingresar_Datos!$B$53="mm40",Ingresar_Datos!Q750,IF(Ingresar_Datos!$B$53="mm100",Ingresar_Datos!R750,"Conv.Inválida")))))) -> 17.28 | J67: =IF(Ingresar_Datos!$B$53="cm10",Ingresar_Datos!M850,IF(Ingresar_Datos!$B$53="cm40",Ingresar_Datos!N850,IF(Ingresar_Datos!$B$53="cm100",Ingresar_Datos!O850,IF(Ingresar_Datos!$B$53="mm10",Ingresar_Datos!P850,IF(Ingresar_Datos!$B$53="mm40",Ingresar_Datos!Q850,IF(Ingresar_Datos!$B$53="mm100",Ingresar_Datos!R850,"Conv.Inválida")))))) | K67: =IF(Ingresar_Datos!$B$53="cm10",Ingresar_Datos!M950,IF(Ingresar_Datos!$B$53="cm40",Ingresar_Datos!N950,IF(Ingresar_Datos!$B$53="cm100",Ingresar_Datos!O950,IF(Ingresar_Datos!$B$53="mm10",Ingresar_Datos!P950,IF(Ingresar_Datos!$B$53="mm40",Ingresar_Datos!Q950,IF(Ingresar_Datos!$B$53="mm100",Ingresar_Datos!R950,"Conv.Inválida"))))))
B68: =IF(Ingresar_Datos!$B$53="cm10",Ingresar_Datos!M51,IF(Ingresar_Datos!$B$53="cm40",Ingresar_Datos!N51,IF(Ingresar_Datos!$B$53="cm100",Ingresar_Datos!O51,IF(Ingresar_Datos!$B$53="mm10",Ingresar_Datos!P51,IF(Ingresar_Datos!$B$53="mm40",Ingresar_Datos!Q51,IF(Ingresar_Datos!$B$53="mm100",Ingresar_Datos!R51,"Conv.Inválida")))))) -> 13.392 | C68: =IF(Ingresar_Datos!$B$53="cm10",Ingresar_Datos!M151,IF(Ingresar_Datos!$B$53="cm40",Ingresar_Datos!N151,IF(Ingresar_Datos!$B$53="cm100",Ingresar_Datos!O151,IF(Ingresar_Datos!$B$53="mm10",Ingresar_Datos!P151,IF(Ingresar_Datos!$B$53="mm40",Ingresar_Datos!Q151,IF(Ingresar_Datos!$B$53="mm100",Ingresar_Datos!R151,"Conv.Inválida")))))) -> 11.232 | D68: =IF(Ingresar_Datos!$B$53="cm10",Ingresar_Datos!M251,IF(Ingresar_Datos!$B$53="cm40",Ingresar_Datos!N251,IF(Ingresar_Datos!$B$53="cm100",Ingresar_Datos!O251,IF(Ingresar_Datos!$B$53="mm10",Ingresar_Datos!P251,IF(Ingresar_Datos!$B$53="mm40",Ingresar_Datos!Q251,IF(Ingresar_Datos!$B$53="mm100",Ingresar_Datos!R251,"Conv.Inválida")))))) -> 14.256 | E68: =IF(Ingresar_Datos!$B$53="cm10",Ingresar_Datos!M351,IF(Ingresar_Datos!$B$53="cm40",Ingresar_Datos!N351,IF(Ingresar_Datos!$B$53="cm100",Ingresar_Datos!O351,IF(Ingresar_Datos!$B$53="mm10",Ingresar_Datos!P351,IF(Ingresar_Datos!$B$53="mm40",Ingresar_Datos!Q351,IF(Ingresar_Datos!$B$53="mm100",Ingresar_Datos!R351,"Conv.Inválida")))))) -> 17.28 | F68: =IF(Ingresar_Datos!$B$53="cm10",Ingresar_Datos!M451,IF(Ingresar_Datos!$B$53="cm40",Ingresar_Datos!N451,IF(Ingresar_Datos!$B$53="cm100",Ingresar_Datos!O451,IF(Ingresar_Datos!$B$53="mm10",Ingresar_Datos!P451,IF(Ingresar_Datos!$B$53="mm40",Ingresar_Datos!Q451,IF(Ingresar_Datos!$B$53="mm100",Ingresar_Datos!R451,"Conv.Inválida")))))) -> 15.552 | G68: =IF(Ingresar_Datos!$B$53="cm10",Ingresar_Datos!M551,IF(Ingresar_Datos!$B$53="cm40",Ingresar_Datos!N551,IF(Ingresar_Datos!$B$53="cm100",Ingresar_Datos!O551,IF(Ingresar_Datos!$B$53="mm10",Ingresar_Datos!P551,IF(Ingresar_Datos!$B$53="mm40",Ingresar_Datos!Q551,IF(Ingresar_Datos!$B$53="mm100",Ingresar_Datos!R551,"Conv.Inválida")))))) -> 19.872 | H68: =IF(Ingresar_Datos!$B$53="cm10",Ingresar_Datos!M651,IF(Ingresar_Datos!$B$53="cm40",Ingresar_Datos!N651,IF(Ingresar_Datos!$B$53="cm100",Ingresar_Datos!O651,IF(Ingresar_Datos!$B$53="mm10",Ingresar_Datos!P651,IF(Ingresar_Datos!$B$53="mm40",Ingresar_Datos!Q651,IF(Ingresar_Datos!$B$53="mm100",Ingresar_Datos!R651,"Conv.Inválida")))))) -> 12.96 | I68: =IF(Ingresar_Datos!$B$53="cm10",Ingresar_Datos!M751,IF(Ingresar_Datos!$B$53="cm40",Ingresar_Datos!N751,IF(Ingresar_Datos!$B$53="cm100",Ingresar_Datos!O751,IF(Ingresar_Datos!$B$53="mm10",Ingresar_Datos!P751,IF(Ingresar_Datos!$B$53="mm40",Ingresar_Datos!Q751,IF(Ingresar_Datos!$B$53="mm100",Ingresar_Datos!R751,"Conv.Inválida")))))) -> 29.808 | J68: =IF(Ingresar_Datos!$B$53="cm10",Ingresar_Datos!M851,IF(Ingresar_Datos!$B$53="cm40",Ingresar_Datos!N851,IF(Ingresar_Datos!$B$53="cm100",Ingresar_Datos!O851,IF(Ingresar_Datos!$B$53="mm10",Ingresar_Datos!P851,IF(Ingresar_Datos!$B$53="mm40",Ingresar_Datos!Q851,IF(Ingresar_Datos!$B$53="mm100",Ingresar_Datos!R851,"Conv.Inválida")))))) | K68: =IF(Ingresar_Datos!$B$53="cm10",Ingresar_Datos!M951,IF(Ingresar_Datos!$B$53="cm40",Ingresar_Datos!N951,IF(Ingresar_Datos!$B$53="cm100",Ingresar_Datos!O951,IF(Ingresar_Datos!$B$53="mm10",Ingresar_Datos!P951,IF(Ingresar_Datos!$B$53="mm40",Ingresar_Datos!Q951,IF(Ingresar_Datos!$B$53="mm100",Ingresar_Datos!R951,"Conv.Inválida"))))))
B69: =IF(Ingresar_Datos!$B$53="cm10",Ingresar_Datos!M52,IF(Ingresar_Datos!$B$53="cm40",Ingresar_Datos!N52,IF(Ingresar_Datos!$B$53="cm100",Ingresar_Datos!O52,IF(Ingresar_Datos!$B$53="mm10",Ingresar_Datos!P52,IF(Ingresar_Datos!$B$53="mm40",Ingresar_Datos!Q52,IF(Ingresar_Datos!$B$53="mm100",Ingresar_Datos!R52,"Conv.Inválida")))))) -> 13.932 | C69: =IF(Ingresar_Datos!$B$53="cm10",Ingresar_Datos!M152,IF(Ingresar_Datos!$B$53="cm40",Ingresar_Datos!N152,IF(Ingresar_Datos!$B$53="cm100",Ingresar_Datos!O152,IF(Ingresar_Datos!$B$53="mm10",Ingresar_Datos!P152,IF(Ingresar_Datos!$B$53="mm40",Ingresar_Datos!Q152,IF(Ingresar_Datos!$B$53="mm100",Ingresar_Datos!R152,"Conv.Inválida")))))) -> 11.664 | D69: =IF(Ingresar_Datos!$B$53="cm10",Ingresar_Datos!M252,IF(Ingresar_Datos!$B$53="cm40",Ingresar_Datos!N252,IF(Ingresar_Datos!$B$53="cm100",Ingresar_Datos!O252,IF(Ingresar_Datos!$B$53="mm10",Ingresar_Datos!P252,IF(Ingresar_Datos!$B$53="mm40",Ingresar_Datos!Q252,IF(Ingresar_Datos!$B$53="mm100",Ingresar_Datos!R252,"Conv.Inválida")))))) -> 14.256 | E69: =IF(Ingresar_Datos!$B$53="cm10",Ingresar_Datos!M352,IF(Ingresar_Datos!$B$53="cm40",Ingresar_Datos!N352,IF(Ingresar_Datos!$B$53="cm100",Ingresar_Datos!O352,IF(Ingresar_Datos!$B$53="mm10",Ingresar_Datos!P352,IF(Ingresar_Datos!$B$53="mm40",Ingresar_Datos!Q352,IF(Ingresar_Datos!$B$53="mm100",Ingresar_Datos!R352,"Conv.Inválida")))))) -> 18.576 | F69: =IF(Ingresar_Datos!$B$53="cm10",Ingresar_Datos!M452,IF(Ingresar_Datos!$B$53="cm40",Ingresar_Datos!N452,IF(Ingresar_Datos!$B$53="cm100",Ingresar_Datos!O452,IF(Ingresar_Datos!$B$53="mm10",Ingresar_Datos!P452,IF(Ingresar_Datos!$B$53="mm40",Ingresar_Datos!Q452,IF(Ingresar_Datos!$B$53="mm100",Ingresar_Datos!R452,"Conv.Inválida")))))) -> 15.552 | G69: =IF(Ingresar_Datos!$B$53="cm10",Ingresar_Datos!M552,IF(Ingresar_Datos!$B$53="cm40",Ingresar_Datos!N552,IF(Ingresar_Datos!$B$53="cm100",Ingresar_Datos!O552,IF(Ingresar_Datos!$B$53="mm10",Ingresar_Datos!P552,IF(Ingresar_Datos!$B$53="mm40",Ingresar_Datos!Q552,IF(Ingresar_Datos!$B$53="mm100",Ingresar_Datos!R552,"Conv.Inválida")))))) -> 19.872 | H69: =IF(Ingresar_Datos!$B$53="cm10",Ingresar_Datos!M652,IF(Ingresar_Datos!$B$53="cm40",Ingresar_Datos!N652,IF(Ingresar_Datos!$B$53="cm100",Ingresar_Datos!O652,IF(Ingresar_Datos!$B$53="mm10",Ingresar_Datos!P652,IF(Ingresar_Datos!$B$53="mm40",Ingresar_Datos!Q652,IF(Ingresar_Datos!$B$53="mm100",Ingresar_Datos!R652,"Conv.Inválida")))))) -> 12.96 | I69: =IF(Ingresar_Datos!$B$53="cm10",Ingresar_Datos!M752,IF(Ingresar_Datos!$B$53="cm40",Ingresar_Datos!N752,IF(Ingresar_Datos!$B$53="cm100",Ingresar_Datos!O752,IF(Ingresar_Datos!$B$53="mm10",Ingresar_Datos!P752,IF(Ingresar_Datos!$B$53="mm40",Ingresar_Datos!Q752,IF(Ingresar_Datos!$B$53="mm100",Ingresar_Datos!R752,"Conv.Inválida")))))) -> 145.584 | J69: =IF(Ingresar_Datos!$B$53="cm10",Ingresar_Datos!M852,IF(Ingresar_Datos!$B$53="cm40",Ingresar_Datos!N852,IF(Ingresar_Datos!$B$53="cm100",Ingresar_Datos!O852,IF(Ingresar_Datos!$B$53="mm10",Ingresar_Datos!P852,IF(Ingresar_Datos!$B$53="mm40",Ingresar_Datos!Q852,IF(Ingresar_Datos!$B$53="mm100",Ingresar_Datos!R852,"Conv.Inválida")))))) | K69: =IF(Ingresar_Datos!$B$53="cm10",Ingresar_Datos!M952,IF(Ingresar_Datos!$B$53="cm40",Ingresar_Datos!N952,IF(Ingresar_Datos!$B$53="cm100",Ingresar_Datos!O952,IF(Ingresar_Datos!$B$53="mm10",Ingresar_Datos!P952,IF(Ingresar_Datos!$B$53="mm40",Ingresar_Datos!Q952,IF(Ingresar_Datos!$B$53="mm100",Ingresar_Datos!R952,"Conv.Inválida"))))))
B70: =IF(Ingresar_Datos!$B$53="cm10",Ingresar_Datos!M53,IF(Ingresar_Datos!$B$53="cm40",Ingresar_Datos!N53,IF(Ingresar_Datos!$B$53="cm100",Ingresar_Datos!O53,IF(Ingresar_Datos!$B$53="mm10",Ingresar_Datos!P53,IF(Ingresar_Datos!$B$53="mm40",Ingresar_Datos!Q53,IF(Ingresar_Datos!$B$53="mm100",Ingresar_Datos!R53,"Conv.Inválida")))))) -> 103.6188 | C70: =IF(Ingresar_Datos!$B$53="cm10",Ingresar_Datos!M153,IF(Ingresar_Datos!$B$53="cm40",Ingresar_Datos!N153,IF(Ingresar_Datos!$B$53="cm100",Ingresar_Datos!O153,IF(Ingresar_Datos!$B$53="mm10",Ingresar_Datos!P153,IF(Ingresar_Datos!$B$53="mm40",Ingresar_Datos!Q153,IF(Ingresar_Datos!$B$53="mm100",Ingresar_Datos!R153,"Conv.Inválida")))))) -> 101.6928 | D70: =IF(Ingresar_Datos!$B$53="cm10",Ingresar_Datos!M253,IF(Ingresar_Datos!$B$53="cm40",Ingresar_Datos!N253,IF(Ingresar_Datos!$B$53="cm100",Ingresar_Datos!O253,IF(Ingresar_Datos!$B$53="mm10",Ingresar_Datos!P253,IF(Ingresar_Datos!$B$53="mm40",Ingresar_Datos!Q253,IF(Ingresar_Datos!$B$53="mm100",Ingresar_Datos!R253,"Conv.Inválida")))))) -> 101.6928 | E70: =IF(Ingresar_Datos!$B$53="cm10",Ingresar_Datos!M353,IF(Ingresar_Datos!$B$53="cm40",Ingresar_Datos!N353,IF(Ingresar_Datos!$B$53="cm100",Ingresar_Datos!O353,IF(Ingresar_Datos!$B$53="mm10",Ingresar_Datos!P353,IF(Ingresar_Datos!$B$53="mm40",Ingresar_Datos!Q353,IF(Ingresar_Datos!$B$53="mm100",Ingresar_Datos!R353,"Conv.Inválida")))))) -> 132.5088 | F70: =IF(Ingresar_Datos!$B$53="cm10",Ingresar_Datos!M453,IF(Ingresar_Datos!$B$53="cm40",Ingresar_Datos!N453,IF(Ingresar_Datos!$B$53="cm100",Ingresar_Datos!O453,IF(Ingresar_Datos!$B$53="mm10",Ingresar_Datos!P453,IF(Ingresar_Datos!$B$53="mm40",Ingresar_Datos!Q453,IF(Ingresar_Datos!$B$53="mm100",Ingresar_Datos!R453,"Conv.Inválida")))))) -> 123.264 | G70: =IF(Ingresar_Datos!$B$53="cm10",Ingresar_Datos!M553,IF(Ingresar_Datos!$B$53="cm40",Ingresar_Datos!N553,IF(Ingresar_Datos!$B$53="cm100",Ingresar_Datos!O553,IF(Ingresar_Datos!$B$53="mm10",Ingresar_Datos!P553,IF(Ingresar_Datos!$B$53="mm40",Ingresar_Datos!Q553,IF(Ingresar_Datos!$B$53="mm100",Ingresar_Datos!R553,"Conv.Inválida")))))) -> 141.7536 | H70: =IF(Ingresar_Datos!$B$53="cm10",Ingresar_Datos!M653,IF(Ingresar_Datos!$B$53="cm40",Ingresar_Datos!N653,IF(Ingresar_Datos!$B$53="cm100",Ingresar_Datos!O653,IF(Ingresar_Datos!$B$53="mm10",Ingresar_Datos!P653,IF(Ingresar_Datos!$B$53="mm40",Ingresar_Datos!Q653,IF(Ingresar_Datos!$B$53="mm100",Ingresar_Datos!R653,"Conv.Inválida")))))) -> 101.6928 | I70: =IF(Ingresar_Datos!$B$53="cm10",Ingresar_Datos!M753,IF(Ingresar_Datos!$B$53="cm40",Ingresar_Datos!N753,IF(Ingresar_Datos!$B$53="cm100",Ingresar_Datos!O753,IF(Ingresar_Datos!$B$53="mm10",Ingresar_Datos!P753,IF(Ingresar_Datos!$B$53="mm40",Ingresar_Datos!Q753,IF(Ingresar_Datos!$B$53="mm100",Ingresar_Datos!R753,"Conv.Inválida")))))) -> 92.88 | J70: =IF(Ingresar_Datos!$B$53="cm10",Ingresar_Datos!M853,IF(Ingresar_Datos!$B$53="cm40",Ingresar_Datos!N853,IF(Ingresar_Datos!$B$53="cm100",Ingresar_Datos!O853,IF(Ingresar_Datos!$B$53="mm10",Ingresar_Datos!P853,IF(Ingresar_Datos!$B$53="mm40",Ingresar_Datos!Q853,IF(Ingresar_Datos!$B$53="mm100",Ingresar_Datos!R853,"Conv.Inválida")))))) | K70: =IF(Ingresar_Datos!$B$53="cm10",Ingresar_Datos!M953,IF(Ingresar_Datos!$B$53="cm40",Ingresar_Datos!N953,IF(Ingresar_Datos!$B$53="cm100",Ingresar_Datos!O953,IF(Ingresar_Datos!$B$53="mm10",Ingresar_Datos!P953,IF(Ingresar_Datos!$B$53="mm40",Ingresar_Datos!Q953,IF(Ingresar_Datos!$B$53="mm100",Ingresar_Datos!R953,"Conv.Inválida"))))))
B71: =IF(Ingresar_Datos!$B$53="cm10",Ingresar_Datos!M54,IF(Ingresar_Datos!$B$53="cm40",Ingresar_Datos!N54,IF(Ingresar_Datos!$B$53="cm100",Ingresar_Datos!O54,IF(Ingresar_Datos!$B$53="mm10",Ingresar_Datos!P54,IF(Ingresar_Datos!$B$53="mm40",Ingresar_Datos!Q54,IF(Ingresar_Datos!$B$53="mm100",Ingresar_Datos!R54,"Conv.Inválida")))))) -> 114.0192 | C71: =IF(Ingresar_Datos!$B$53="cm10",Ingresar_Datos!M154,IF(Ingresar_Datos!$B$53="cm40",Ingresar_Datos!N154,IF(Ingresar_Datos!$B$53="cm100",Ingresar_Datos!O154,IF(Ingresar_Datos!$B$53="mm10",Ingresar_Datos!P154,IF(Ingresar_Datos!$B$53="mm40",Ingresar_Datos!Q154,IF(Ingresar_Datos!$B$53="mm100",Ingresar_Datos!R154,"Conv.Inválida")))))) -> 110.9376 | D71: =IF(Ingresar_Datos!$B$53="cm10",Ingresar_Datos!M254,IF(Ingresar_Datos!$B$53="cm40",Ingresar_Datos!N254,IF(Ingresar_Datos!$B$53="cm100",Ingresar_Datos!O254,IF(Ingresar_Datos!$B$53="mm10",Ingresar_Datos!P254,IF(Ingresar_Datos!$B$53="mm40",Ingresar_Datos!Q254,IF(Ingresar_Datos!$B$53="mm100",Ingresar_Datos!R254,"Conv.Inválida")))))) -> 107.0856 | E71: =IF(Ingresar_Datos!$B$53="cm10",Ingresar_Datos!M354,IF(Ingresar_Datos!$B$53="cm40",Ingresar_Datos!N354,IF(Ingresar_Datos!$B$53="cm100",Ingresar_Datos!O354,IF(Ingresar_Datos!$B$53="mm10",Ingresar_Datos!P354,IF(Ingresar_Datos!$B$53="mm40",Ingresar_Datos!Q354,IF(Ingresar_Datos!$B$53="mm100",Ingresar_Datos!R354,"Conv.Inválida")))))) -> 132.5088 | F71: =IF(Ingresar_Datos!$B$53="cm10",Ingresar_Datos!M454,IF(Ingresar_Datos!$B$53="cm40",Ingresar_Datos!N454,IF(Ingresar_Datos!$B$53="cm100",Ingresar_Datos!O454,IF(Ingresar_Datos!$B$53="mm10",Ingresar_Datos!P454,IF(Ingresar_Datos!$B$53="mm40",Ingresar_Datos!Q454,IF(Ingresar_Datos!$B$53="mm100",Ingresar_Datos!R454,"Conv.Inválida")))))) -> 132.5088 | G71: =IF(Ingresar_Datos!$B$53="cm10",Ingresar_Datos!M554,IF(Ingresar_Datos!$B$53="cm40",Ingresar_Datos!N554,IF(Ingresar_Datos!$B$53="cm100",Ingresar_Datos!O554,IF(Ingresar_Datos!$B$53="mm10",Ingresar_Datos!P554,IF(Ingresar_Datos!$B$53="mm40",Ingresar_Datos!Q554,IF(Ingresar_Datos!$B$53="mm100",Ingresar_Datos!R554,"Conv.Inválida")))))) -> 141.7536 | H71: =IF(Ingresar_Datos!$B$53="cm10",Ingresar_Datos!M654,IF(Ingresar_Datos!$B$53="cm40",Ingresar_Datos!N654,IF(Ingresar_Datos!$B$53="cm100",Ingresar_Datos!O654,IF(Ingresar_Datos!$B$53="mm10",Ingresar_Datos!P654,IF(Ingresar_Datos!$B$53="mm40",Ingresar_Datos!Q654,IF(Ingresar_Datos!$B$53="mm100",Ingresar_Datos!R654,"Conv.Inválida")))))) -> 101.6928 | I71: =IF(Ingresar_Datos!$B$53="cm10",Ingresar_Datos!M754,IF(Ingresar_Datos!$B$53="cm40",Ingresar_Datos!N754,IF(Ingresar_Datos!$B$53="cm100",Ingresar_Datos!O754,IF(Ingresar_Datos!$B$53="mm10",Ingresar_Datos!P754,IF(Ingresar_Datos!$B$53="mm40",Ingresar_Datos!Q754,IF(Ingresar_Datos!$B$53="mm100",Ingresar_Datos!R754,"Conv.Inválida")))))) -> 92.88 | J71: =IF(Ingresar_Datos!$B$53="cm10",Ingresar_Datos!M854,IF(Ingresar_Datos!$B$53="cm40",Ingresar_Datos!N854,IF(Ingresar_Datos!$B$53="cm100",Ingresar_Datos!O854,IF(Ingresar_Datos!$B$53="mm10",Ingresar_Datos!P854,IF(Ingresar_Datos!$B$53="mm40",Ingresar_Datos!Q854,IF(Ingresar_Datos!$B$53="mm100",Ingresar_Datos!R854,"Conv.Inválida")))))) | K71: =IF(Ingresar_Datos!$B$53="cm10",Ingresar_Datos!M954,IF(Ingresar_Datos!$B$53="cm40",Ingresar_Datos!N954,IF(Ingresar_Datos!$B$53="cm100",Ingresar_Datos!O954,IF(Ingresar_Datos!$B$53="mm10",Ingresar_Datos!P954,IF(Ingresar_Datos!$B$53="mm40",Ingresar_Datos!Q954,IF(Ingresar_Datos!$B$53="mm100",Ingresar_Datos!R954,"Conv.Inválida"))))))
B72: =IF(Ingresar_Datos!$B$53="cm10",Ingresar_Datos!M55,IF(Ingresar_Datos!$B$53="cm40",Ingresar_Datos!N55,IF(Ingresar_Datos!$B$53="cm100",Ingresar_Datos!O55,IF(Ingresar_Datos!$B$53="mm10",Ingresar_Datos!P55,IF(Ingresar_Datos!$B$53="mm40",Ingresar_Datos!Q55,IF(Ingresar_Datos!$B$53="mm100",Ingresar_Datos!R55,"Conv.Inválida")))))) -> 114.7896 | C72: =IF(Ingresar_Datos!$B$53="cm10",Ingresar_Datos!M155,IF(Ingresar_Datos!$B$53="cm40",Ingresar_Datos!N155,IF(Ingresar_Datos!$B$53="cm100",Ingresar_Datos!O155,IF(Ingresar_Datos!$B$53="mm10",Ingresar_Datos!P155,IF(Ingresar_Datos!$B$53="mm40",Ingresar_Datos!Q155,IF(Ingresar_Datos!$B$53="mm100",Ingresar_Datos!R155,"Conv.Inválida")))))) -> 110.9376 | D72: =IF(Ingresar_Datos!$B$53="cm10",Ingresar_Datos!M255,IF(Ingresar_Datos!$B$53="cm40",Ingresar_Datos!N255,IF(Ingresar_Datos!$B$53="cm100",Ingresar_Datos!O255,IF(Ingresar_Datos!$B$53="mm10",Ingresar_Datos!P255,IF(Ingresar_Datos!$B$53="mm40",Ingresar_Datos!Q255,IF(Ingresar_Datos!$B$53="mm100",Ingresar_Datos!R255,"Conv.Inválida")))))) -> 110.9376 | E72: =IF(Ingresar_Datos!$B$53="cm10",Ingresar_Datos!M355,IF(Ingresar_Datos!$B$53="cm40",Ingresar_Datos!N355,IF(Ingresar_Datos!$B$53="cm100",Ingresar_Datos!O355,IF(Ingresar_Datos!$B$53="mm10",Ingresar_Datos!P355,IF(Ingresar_Datos!$B$53="mm40",Ingresar_Datos!Q355,IF(Ingresar_Datos!$B$53="mm100",Ingresar_Datos!R355,"Conv.Inválida")))))) -> 140.2128 | F72: =IF(Ingresar_Datos!$B$53="cm10",Ingresar_Datos!M455,IF(Ingresar_Datos!$B$53="cm40",Ingresar_Datos!N455,IF(Ingresar_Datos!$B$53="cm100",Ingresar_Datos!O455,IF(Ingresar_Datos!$B$53="mm10",Ingresar_Datos!P455,IF(Ingresar_Datos!$B$53="mm40",Ingresar_Datos!Q455,IF(Ingresar_Datos!$B$53="mm100",Ingresar_Datos!R455,"Conv.Inválida")))))) -> 132.5088 | G72: =IF(Ingresar_Datos!$B$53="cm10",Ingresar_Datos!M555,IF(Ingresar_Datos!$B$53="cm40",Ingresar_Datos!N555,IF(Ingresar_Datos!$B$53="cm100",Ingresar_Datos!O555,IF(Ingresar_Datos!$B$53="mm10",Ingresar_Datos!P555,IF(Ingresar_Datos!$B$53="mm40",Ingresar_Datos!Q555,IF(Ingresar_Datos!$B$53="mm100",Ingresar_Datos!R555,"Conv.Inválida")))))) -> 154.08 | H72: =IF(Ingresar_Datos!$B$53="cm10",Ingresar_Datos!M655,IF(Ingresar_Datos!$B$53="cm40",Ingresar_Datos!N655,IF(Ingresar_Datos!$B$53="cm100",Ingresar_Datos!O655,IF(Ingresar_Datos!$B$53="mm10",Ingresar_Datos!P655,IF(Ingresar_Datos!$B$53="mm40",Ingresar_Datos!Q655,IF(Ingresar_Datos!$B$53="mm100",Ingresar_Datos!R655,"Conv.Inválida")))))) -> 110.9376 | I72: =IF(Ingresar_Datos!$B$53="cm10",Ingresar_Datos!M755,IF(Ingresar_Datos!$B$53="cm40",Ingresar_Datos!N755,IF(Ingresar_Datos!$B$53="cm100",Ingresar_Datos!O755,IF(Ingresar_Datos!$B$53="mm10",Ingresar_Datos!P755,IF(Ingresar_Datos!$B$53="mm40",Ingresar_Datos!Q755,IF(Ingresar_Datos!$B$53="mm100",Ingresar_Datos!R755,"Conv.Inválida")))))) -> 92.88 | J72: =IF(Ingresar_Datos!$B$53="cm10",Ingresar_Datos!M855,IF(Ingresar_Datos!$B$53="cm40",Ingresar_Datos!N855,IF(Ingresar_Datos!$B$53="cm100",Ingresar_Datos!O855,IF(Ingresar_Datos!$B$53="mm10",Ingresar_Datos!P855,IF(Ingresar_Datos!$B$53="mm40",Ingresar_Datos!Q855,IF(Ingresar_Datos!$B$53="mm100",Ingresar_Datos!R855,"Conv.Inválida")))))) | K72: =IF(Ingresar_Datos!$B$53="cm10",Ingresar_Datos!M955,IF(Ingresar_Datos!$B$53="cm40",Ingresar_Datos!N955,IF(Ingresar_Datos!$B$53="cm100",Ingresar_Datos!O955,IF(Ingresar_Datos!$B$53="mm10",Ingresar_Datos!P955,IF(Ingresar_Datos!$B$53="mm40",Ingresar_Datos!Q955,IF(Ingresar_Datos!$B$53="mm100",Ingresar_Datos!R955,"Conv.Inválida"))))))
B73: =IF(Ingresar_Datos!$B$53="cm10",Ingresar_Datos!M56,IF(Ingresar_Datos!$B$53="cm40",Ingresar_Datos!N56,IF(Ingresar_Datos!$B$53="cm100",Ingresar_Datos!O56,IF(Ingresar_Datos!$B$53="mm10",Ingresar_Datos!P56,IF(Ingresar_Datos!$B$53="mm40",Ingresar_Datos!Q56,IF(Ingresar_Datos!$B$53="mm100",Ingresar_Datos!R56,"Conv.Inválida")))))) -> 123.264 | C73: =IF(Ingresar_Datos!$B$53="cm10",Ingresar_Datos!M156,IF(Ingresar_Datos!$B$53="cm40",Ingresar_Datos!N156,IF(Ingresar_Datos!$B$53="cm100",Ingresar_Datos!O156,IF(Ingresar_Datos!$B$53="mm10",Ingresar_Datos!P156,IF(Ingresar_Datos!$B$53="mm40",Ingresar_Datos!Q156,IF(Ingresar_Datos!$B$53="mm100",Ingresar_Datos!R156,"Conv.Inválida")))))) -> 120.1824 | D73: =IF(Ingresar_Datos!$B$53="cm10",Ingresar_Datos!M256,IF(Ingresar_Datos!$B$53="cm40",Ingresar_Datos!N256,IF(Ingresar_Datos!$B$53="cm100",Ingresar_Datos!O256,IF(Ingresar_Datos!$B$53="mm10",Ingresar_Datos!P256,IF(Ingresar_Datos!$B$53="mm40",Ingresar_Datos!Q256,IF(Ingresar_Datos!$B$53="mm100",Ingresar_Datos!R256,"Conv.Inválida")))))) -> 110.9376 | E73: =IF(Ingresar_Datos!$B$53="cm10",Ingresar_Datos!M356,IF(Ingresar_Datos!$B$53="cm40",Ingresar_Datos!N356,IF(Ingresar_Datos!$B$53="cm100",Ingresar_Datos!O356,IF(Ingresar_Datos!$B$53="mm10",Ingresar_Datos!P356,IF(Ingresar_Datos!$B$53="mm40",Ingresar_Datos!Q356,IF(Ingresar_Datos!$B$53="mm100",Ingresar_Datos!R356,"Conv.Inválida")))))) -> 149.0724 | F73: =IF(Ingresar_Datos!$B$53="cm10",Ingresar_Datos!M456,IF(Ingresar_Datos!$B$53="cm40",Ingresar_Datos!N456,IF(Ingresar_Datos!$B$53="cm100",Ingresar_Datos!O456,IF(Ingresar_Datos!$B$53="mm10",Ingresar_Datos!P456,IF(Ingresar_Datos!$B$53="mm40",Ingresar_Datos!Q456,IF(Ingresar_Datos!$B$53="mm100",Ingresar_Datos!R456,"Conv.Inválida")))))) -> 132.5088 | G73: =IF(Ingresar_Datos!$B$53="cm10",Ingresar_Datos!M556,IF(Ingresar_Datos!$B$53="cm40",Ingresar_Datos!N556,IF(Ingresar_Datos!$B$53="cm100",Ingresar_Datos!O556,IF(Ingresar_Datos!$B$53="mm10",Ingresar_Datos!P556,IF(Ingresar_Datos!$B$53="mm40",Ingresar_Datos!Q556,IF(Ingresar_Datos!$B$53="mm100",Ingresar_Datos!R556,"Conv.Inválida")))))) -> 154.08 | H73: =IF(Ingresar_Datos!$B$53="cm10",Ingresar_Datos!M656,IF(Ingresar_Datos!$B$53="cm40",Ingresar_Datos!N656,IF(Ingresar_Datos!$B$53="cm100",Ingresar_Datos!O656,IF(Ingresar_Datos!$B$53="mm10",Ingresar_Datos!P656,IF(Ingresar_Datos!$B$53="mm40",Ingresar_Datos!Q656,IF(Ingresar_Datos!$B$53="mm100",Ingresar_Datos!R656,"Conv.Inválida")))))) -> 110.9376 | I73: =IF(Ingresar_Datos!$B$53="cm10",Ingresar_Datos!M756,IF(Ingresar_Datos!$B$53="cm40",Ingresar_Datos!N756,IF(Ingresar_Datos!$B$53="cm100",Ingresar_Datos!O756,IF(Ingresar_Datos!$B$53="mm10",Ingresar_Datos!P756,IF(Ingresar_Datos!$B$53="mm40",Ingresar_Datos!Q756,IF(Ingresar_Datos!$B$53="mm100",Ingresar_Datos!R756,"Conv.Inválida")))))) -> 99.36 | J73: =IF(Ingresar_Datos!$B$53="cm10",Ingresar_Datos!M856,IF(Ingresar_Datos!$B$53="cm40",Ingresar_Datos!N856,IF(Ingresar_Datos!$B$53="cm100",Ingresar_Datos!O856,IF(Ingresar_Datos!$B$53="mm10",Ingresar_Datos!P856,IF(Ingresar_Datos!$B$53="mm40",Ingresar_Datos!Q856,IF(Ingresar_Datos!$B$53="mm100",Ingresar_Datos!R856,"Conv.Inválida")))))) | K73: =IF(Ingresar_Datos!$B$53="cm10",Ingresar_Datos!M956,IF(Ingresar_Datos!$B$53="cm40",Ingresar_Datos!N956,IF(Ingresar_Datos!$B$53="cm100",Ingresar_Datos!O956,IF(Ingresar_Datos!$B$53="mm10",Ingresar_Datos!P956,IF(Ingresar_Datos!$B$53="mm40",Ingresar_Datos!Q956,IF(Ingresar_Datos!$B$53="mm100",Ingresar_Datos!R956,"Conv.Inválida"))))))
B74: =IF(Ingresar_Datos!$B$53="cm10",Ingresar_Datos!M57,IF(Ingresar_Datos!$B$53="cm40",Ingresar_Datos!N57,IF(Ingresar_Datos!$B$53="cm100",Ingresar_Datos!O57,IF(Ingresar_Datos!$B$53="mm10",Ingresar_Datos!P57,IF(Ingresar_Datos!$B$53="mm40",Ingresar_Datos!Q57,IF(Ingresar_Datos!$B$53="mm100",Ingresar_Datos!R57,"Conv.Inválida")))))) -> 123.264 | C74: =IF(Ingresar_Datos!$B$53="cm10",Ingresar_Datos!M157,IF(Ingresar_Datos!$B$53="cm40",Ingresar_Datos!N157,IF(Ingresar_Datos!$B$53="cm100",Ingresar_Datos!O157,IF(Ingresar_Datos!$B$53="mm10",Ingresar_Datos!P157,IF(Ingresar_Datos!$B$53="mm40",Ingresar_Datos!Q157,IF(Ingresar_Datos!$B$53="mm100",Ingresar_Datos!R157,"Conv.Inválida")))))) -> 123.264 | D74: =IF(Ingresar_Datos!$B$53="cm10",Ingresar_Datos!M257,IF(Ingresar_Datos!$B$53="cm40",Ingresar_Datos!N257,IF(Ingresar_Datos!$B$53="cm100",Ingresar_Datos!O257,IF(Ingresar_Datos!$B$53="mm10",Ingresar_Datos!P257,IF(Ingresar_Datos!$B$53="mm40",Ingresar_Datos!Q257,IF(Ingresar_Datos!$B$53="mm100",Ingresar_Datos!R257,"Conv.Inválida")))))) -> 110.9376 | E74: =IF(Ingresar_Datos!$B$53="cm10",Ingresar_Datos!M357,IF(Ingresar_Datos!$B$53="cm40",Ingresar_Datos!N357,IF(Ingresar_Datos!$B$53="cm100",Ingresar_Datos!O357,IF(Ingresar_Datos!$B$53="mm10",Ingresar_Datos!P357,IF(Ingresar_Datos!$B$53="mm40",Ingresar_Datos!Q357,IF(Ingresar_Datos!$B$53="mm100",Ingresar_Datos!R357,"Conv.Inválida")))))) -> 153.3096 | F74: =IF(Ingresar_Datos!$B$53="cm10",Ingresar_Datos!M457,IF(Ingresar_Datos!$B$53="cm40",Ingresar_Datos!N457,IF(Ingresar_Datos!$B$53="cm100",Ingresar_Datos!O457,IF(Ingresar_Datos!$B$53="mm10",Ingresar_Datos!P457,IF(Ingresar_Datos!$B$53="mm40",Ingresar_Datos!Q457,IF(Ingresar_Datos!$B$53="mm100",Ingresar_Datos!R457,"Conv.Inválida")))))) -> 141.7536 | G74: =IF(Ingresar_Datos!$B$53="cm10",Ingresar_Datos!M557,IF(Ingresar_Datos!$B$53="cm40",Ingresar_Datos!N557,IF(Ingresar_Datos!$B$53="cm100",Ingresar_Datos!O557,IF(Ingresar_Datos!$B$53="mm10",Ingresar_Datos!P557,IF(Ingresar_Datos!$B$53="mm40",Ingresar_Datos!Q557,IF(Ingresar_Datos!$B$53="mm100",Ingresar_Datos!R557,"Conv.Inválida")))))) -> 160.2432 | H74: =IF(Ingresar_Datos!$B$53="cm10",Ingresar_Datos!M657,IF(Ingresar_Datos!$B$53="cm40",Ingresar_Datos!N657,IF(Ingresar_Datos!$B$53="cm100",Ingresar_Datos!O657,IF(Ingresar_Datos!$B$53="mm10",Ingresar_Datos!P657,IF(Ingresar_Datos!$B$53="mm40",Ingresar_Datos!Q657,IF(Ingresar_Datos!$B$53="mm100",Ingresar_Datos!R657,"Conv.Inválida")))))) -> 123.264 | I74: =IF(Ingresar_Datos!$B$53="cm10",Ingresar_Datos!M757,IF(Ingresar_Datos!$B$53="cm40",Ingresar_Datos!N757,IF(Ingresar_Datos!$B$53="cm100",Ingresar_Datos!O757,IF(Ingresar_Datos!$B$53="mm10",Ingresar_Datos!P757,IF(Ingresar_Datos!$B$53="mm40",Ingresar_Datos!Q757,IF(Ingresar_Datos!$B$53="mm100",Ingresar_Datos!R757,"Conv.Inválida")))))) -> 101.52 | J74: =IF(Ingresar_Datos!$B$53="cm10",Ingresar_Datos!M857,IF(Ingresar_Datos!$B$53="cm40",Ingresar_Datos!N857,IF(Ingresar_Datos!$B$53="cm100",Ingresar_Datos!O857,IF(Ingresar_Datos!$B$53="mm10",Ingresar_Datos!P857,IF(Ingresar_Datos!$B$53="mm40",Ingresar_Datos!Q857,IF(Ingresar_Datos!$B$53="mm100",Ingresar_Datos!R857,"Conv.Inválida")))))) | K74: =IF(Ingresar_Datos!$B$53="cm10",Ingresar_Datos!M957,IF(Ingresar_Datos!$B$53="cm40",Ingresar_Datos!N957,IF(Ingresar_Datos!$B$53="cm100",Ingresar_Datos!O957,IF(Ingresar_Datos!$B$53="mm10",Ingresar_Datos!P957,IF(Ingresar_Datos!$B$53="mm40",Ingresar_Datos!Q957,IF(Ingresar_Datos!$B$53="mm100",Ingresar_Datos!R957,"Conv.Inválida"))))))
B75: =IF(Ingresar_Datos!$B$53="cm10",Ingresar_Datos!M58,IF(Ingresar_Datos!$B$53="cm40",Ingresar_Datos!N58,IF(Ingresar_Datos!$B$53="cm100",Ingresar_Datos!O58,IF(Ingresar_Datos!$B$53="mm10",Ingresar_Datos!P58,IF(Ingresar_Datos!$B$53="mm40",Ingresar_Datos!Q58,IF(Ingresar_Datos!$B$53="mm100",Ingresar_Datos!R58,"Conv.Inválida")))))) -> 132.5088 | C75: =IF(Ingresar_Datos!$B$53="cm10",Ingresar_Datos!M158,IF(Ingresar_Datos!$B$53="cm40",Ingresar_Datos!N158,IF(Ingresar_Datos!$B$53="cm100",Ingresar_Datos!O158,IF(Ingresar_Datos!$B$53="mm10",Ingresar_Datos!P158,IF(Ingresar_Datos!$B$53="mm40",Ingresar_Datos!Q158,IF(Ingresar_Datos!$B$53="mm100",Ingresar_Datos!R158,"Conv.Inválida")))))) -> 124.8048 | D75: =IF(Ingresar_Datos!$B$53="cm10",Ingresar_Datos!M258,IF(Ingresar_Datos!$B$53="cm40",Ingresar_Datos!N258,IF(Ingresar_Datos!$B$53="cm100",Ingresar_Datos!O258,IF(Ingresar_Datos!$B$53="mm10",Ingresar_Datos!P258,IF(Ingresar_Datos!$B$53="mm40",Ingresar_Datos!Q258,IF(Ingresar_Datos!$B$53="mm100",Ingresar_Datos!R258,"Conv.Inválida")))))) -> 125.19 | E75: =IF(Ingresar_Datos!$B$53="cm10",Ingresar_Datos!M358,IF(Ingresar_Datos!$B$53="cm40",Ingresar_Datos!N358,IF(Ingresar_Datos!$B$53="cm100",Ingresar_Datos!O358,IF(Ingresar_Datos!$B$53="mm10",Ingresar_Datos!P358,IF(Ingresar_Datos!$B$53="mm40",Ingresar_Datos!Q358,IF(Ingresar_Datos!$B$53="mm100",Ingresar_Datos!R358,"Conv.Inválida")))))) -> 154.08 | F75: =IF(Ingresar_Datos!$B$53="cm10",Ingresar_Datos!M458,IF(Ingresar_Datos!$B$53="cm40",Ingresar_Datos!N458,IF(Ingresar_Datos!$B$53="cm100",Ingresar_Datos!O458,IF(Ingresar_Datos!$B$53="mm10",Ingresar_Datos!P458,IF(Ingresar_Datos!$B$53="mm40",Ingresar_Datos!Q458,IF(Ingresar_Datos!$B$53="mm100",Ingresar_Datos!R458,"Conv.Inválida")))))) -> 149.4576 | G75: =IF(Ingresar_Datos!$B$53="cm10",Ingresar_Datos!M558,IF(Ingresar_Datos!$B$53="cm40",Ingresar_Datos!N558,IF(Ingresar_Datos!$B$53="cm100",Ingresar_Datos!O558,IF(Ingresar_Datos!$B$53="mm10",Ingresar_Datos!P558,IF(Ingresar_Datos!$B$53="mm40",Ingresar_Datos!Q558,IF(Ingresar_Datos!$B$53="mm100",Ingresar_Datos!R558,"Conv.Inválida")))))) -> 160.2432 | H75: =IF(Ingresar_Datos!$B$53="cm10",Ingresar_Datos!M658,IF(Ingresar_Datos!$B$53="cm40",Ingresar_Datos!N658,IF(Ingresar_Datos!$B$53="cm100",Ingresar_Datos!O658,IF(Ingresar_Datos!$B$53="mm10",Ingresar_Datos!P658,IF(Ingresar_Datos!$B$53="mm40",Ingresar_Datos!Q658,IF(Ingresar_Datos!$B$53="mm100",Ingresar_Datos!R658,"Conv.Inválida")))))) -> 123.264 | I75: =IF(Ingresar_Datos!$B$53="cm10",Ingresar_Datos!M758,IF(Ingresar_Datos!$B$53="cm40",Ingresar_Datos!N758,IF(Ingresar_Datos!$B$53="cm100",Ingresar_Datos!O758,IF(Ingresar_Datos!$B$53="mm10",Ingresar_Datos!P758,IF(Ingresar_Datos!$B$53="mm40",Ingresar_Datos!Q758,IF(Ingresar_Datos!$B$53="mm100",Ingresar_Datos!R758,"Conv.Inválida")))))) -> 108 | J75: =IF(Ingresar_Datos!$B$53="cm10",Ingresar_Datos!M858,IF(Ingresar_Datos!$B$53="cm40",Ingresar_Datos!N858,IF(Ingresar_Datos!$B$53="cm100",Ingresar_Datos!O858,IF(Ingresar_Datos!$B$53="mm10",Ingresar_Datos!P858,IF(Ingresar_Datos!$B$53="mm40",Ingresar_Datos!Q858,IF(Ingresar_Datos!$B$53="mm100",Ingresar_Datos!R858,"Conv.Inválida")))))) | K75: =IF(Ingresar_Datos!$B$53="cm10",Ingresar_Datos!M958,IF(Ingresar_Datos!$B$53="cm40",Ingresar_Datos!N958,IF(Ingresar_Datos!$B$53="cm100",Ingresar_Datos!O958,IF(Ingresar_Datos!$B$53="mm10",Ingresar_Datos!P958,IF(Ingresar_Datos!$B$53="mm40",Ingresar_Datos!Q958,IF(Ingresar_Datos!$B$53="mm100",Ingresar_Datos!R958,"Conv.Inválida"))))))
B76: =IF(Ingresar_Datos!$B$53="cm10",Ingresar_Datos!M59,IF(Ingresar_Datos!$B$53="cm40",Ingresar_Datos!N59,IF(Ingresar_Datos!$B$53="cm100",Ingresar_Datos!O59,IF(Ingresar_Datos!$B$53="mm10",Ingresar_Datos!P59,IF(Ingresar_Datos!$B$53="mm40",Ingresar_Datos!Q59,IF(Ingresar_Datos!$B$53="mm100",Ingresar_Datos!R59,"Conv.Inválida")))))) -> 132.5088 | C76: =IF(Ingresar_Datos!$B$53="cm10",Ingresar_Datos!M159,IF(Ingresar_Datos!$B$53="cm40",Ingresar_Datos!N159,IF(Ingresar_Datos!$B$53="cm100",Ingresar_Datos!O159,IF(Ingresar_Datos!$B$53="mm10",Ingresar_Datos!P159,IF(Ingresar_Datos!$B$53="mm40",Ingresar_Datos!Q159,IF(Ingresar_Datos!$B$53="mm100",Ingresar_Datos!R159,"Conv.Inválida")))))) -> 132.5088 | D76: =IF(Ingresar_Datos!$B$53="cm10",Ingresar_Datos!M259,IF(Ingresar_Datos!$B$53="cm40",Ingresar_Datos!N259,IF(Ingresar_Datos!$B$53="cm100",Ingresar_Datos!O259,IF(Ingresar_Datos!$B$53="mm10",Ingresar_Datos!P259,IF(Ingresar_Datos!$B$53="mm40",Ingresar_Datos!Q259,IF(Ingresar_Datos!$B$53="mm100",Ingresar_Datos!R259,"Conv.Inválida")))))) -> 125.19 | E76: =IF(Ingresar_Datos!$B$53="cm10",Ingresar_Datos!M359,IF(Ingresar_Datos!$B$53="cm40",Ingresar_Datos!N359,IF(Ingresar_Datos!$B$53="cm100",Ingresar_Datos!O359,IF(Ingresar_Datos!$B$53="mm10",Ingresar_Datos!P359,IF(Ingresar_Datos!$B$53="mm40",Ingresar_Datos!Q359,IF(Ingresar_Datos!$B$53="mm100",Ingresar_Datos!R359,"Conv.Inválida")))))) -> 163.3248 | F76: =IF(Ingresar_Datos!$B$53="cm10",Ingresar_Datos!M459,IF(Ingresar_Datos!$B$53="cm40",Ingresar_Datos!N459,IF(Ingresar_Datos!$B$53="cm100",Ingresar_Datos!O459,IF(Ingresar_Datos!$B$53="mm10",Ingresar_Datos!P459,IF(Ingresar_Datos!$B$53="mm40",Ingresar_Datos!Q459,IF(Ingresar_Datos!$B$53="mm100",Ingresar_Datos!R459,"Conv.Inválida")))))) -> 150.9984 | G76: =IF(Ingresar_Datos!$B$53="cm10",Ingresar_Datos!M559,IF(Ingresar_Datos!$B$53="cm40",Ingresar_Datos!N559,IF(Ingresar_Datos!$B$53="cm100",Ingresar_Datos!O559,IF(Ingresar_Datos!$B$53="mm10",Ingresar_Datos!P559,IF(Ingresar_Datos!$B$53="mm40",Ingresar_Datos!Q559,IF(Ingresar_Datos!$B$53="mm100",Ingresar_Datos!R559,"Conv.Inválida")))))) -> 163.3248 | H76: =IF(Ingresar_Datos!$B$53="cm10",Ingresar_Datos!M659,IF(Ingresar_Datos!$B$53="cm40",Ingresar_Datos!N659,IF(Ingresar_Datos!$B$53="cm100",Ingresar_Datos!O659,IF(Ingresar_Datos!$B$53="mm10",Ingresar_Datos!P659,IF(Ingresar_Datos!$B$53="mm40",Ingresar_Datos!Q659,IF(Ingresar_Datos!$B$53="mm100",Ingresar_Datos!R659,"Conv.Inválida")))))) -> 123.264 | I76: =IF(Ingresar_Datos!$B$53="cm10",Ingresar_Datos!M759,IF(Ingresar_Datos!$B$53="cm40",Ingresar_Datos!N759,IF(Ingresar_Datos!$B$53="cm100",Ingresar_Datos!O759,IF(Ingresar_Datos!$B$53="mm10",Ingresar_Datos!P759,IF(Ingresar_Datos!$B$53="mm40",Ingresar_Datos!Q759,IF(Ingresar_Datos!$B$53="mm100",Ingresar_Datos!R759,"Conv.Inválida")))))) -> 108 | J76: =IF(Ingresar_Datos!$B$53="cm10",Ingresar_Datos!M859,IF(Ingresar_Datos!$B$53="cm40",Ingresar_Datos!N859,IF(Ingresar_Datos!$B$53="cm100",Ingresar_Datos!O859,IF(Ingresar_Datos!$B$53="mm10",Ingresar_Datos!P859,IF(Ingresar_Datos!$B$53="mm40",Ingresar_Datos!Q859,IF(Ingresar_Datos!$B$53="mm100",Ingresar_Datos!R859,"Conv.Inválida")))))) | K76: =IF(Ingresar_Datos!$B$53="cm10",Ingresar_Datos!M959,IF(Ingresar_Datos!$B$53="cm40",Ingresar_Datos!N959,IF(Ingresar_Datos!$B$53="cm100",Ingresar_Datos!O959,IF(Ingresar_Datos!$B$53="mm10",Ingresar_Datos!P959,IF(Ingresar_Datos!$B$53="mm40",Ingresar_Datos!Q959,IF(Ingresar_Datos!$B$53="mm100",Ingresar_Datos!R959,"Conv.Inválida"))))))
B77: =IF(Ingresar_Datos!$B$53="cm10",Ingresar_Datos!M60,IF(Ingresar_Datos!$B$53="cm40",Ingresar_Datos!N60,IF(Ingresar_Datos!$B$53="cm100",Ingresar_Datos!O60,IF(Ingresar_Datos!$B$53="mm10",Ingresar_Datos!P60,IF(Ingresar_Datos!$B$53="mm40",Ingresar_Datos!Q60,IF(Ingresar_Datos!$B$53="mm100",Ingresar_Datos!R60,"Conv.Inválida")))))) -> 137.1312 | C77: =IF(Ingresar_Datos!$B$53="cm10",Ingresar_Datos!M160,IF(Ingresar_Datos!$B$53="cm40",Ingresar_Datos!N160,IF(Ingresar_Datos!$B$53="cm100",Ingresar_Datos!O160,IF(Ingresar_Datos!$B$53="mm10",Ingresar_Datos!P160,IF(Ingresar_Datos!$B$53="mm40",Ingresar_Datos!Q160,IF(Ingresar_Datos!$B$53="mm100",Ingresar_Datos!R160,"Conv.Inválida")))))) -> 141.7536 | D77: =IF(Ingresar_Datos!$B$53="cm10",Ingresar_Datos!M260,IF(Ingresar_Datos!$B$53="cm40",Ingresar_Datos!N260,IF(Ingresar_Datos!$B$53="cm100",Ingresar_Datos!O260,IF(Ingresar_Datos!$B$53="mm10",Ingresar_Datos!P260,IF(Ingresar_Datos!$B$53="mm40",Ingresar_Datos!Q260,IF(Ingresar_Datos!$B$53="mm100",Ingresar_Datos!R260,"Conv.Inválida")))))) -> 126.7308 | E77: =IF(Ingresar_Datos!$B$53="cm10",Ingresar_Datos!M360,IF(Ingresar_Datos!$B$53="cm40",Ingresar_Datos!N360,IF(Ingresar_Datos!$B$53="cm100",Ingresar_Datos!O360,IF(Ingresar_Datos!$B$53="mm10",Ingresar_Datos!P360,IF(Ingresar_Datos!$B$53="mm40",Ingresar_Datos!Q360,IF(Ingresar_Datos!$B$53="mm100",Ingresar_Datos!R360,"Conv.Inválida")))))) -> 163.3248 | F77: =IF(Ingresar_Datos!$B$53="cm10",Ingresar_Datos!M460,IF(Ingresar_Datos!$B$53="cm40",Ingresar_Datos!N460,IF(Ingresar_Datos!$B$53="cm100",Ingresar_Datos!O460,IF(Ingresar_Datos!$B$53="mm10",Ingresar_Datos!P460,IF(Ingresar_Datos!$B$53="mm40",Ingresar_Datos!Q460,IF(Ingresar_Datos!$B$53="mm100",Ingresar_Datos!R460,"Conv.Inválida")))))) -> 154.08 | G77: =IF(Ingresar_Datos!$B$53="cm10",Ingresar_Datos!M560,IF(Ingresar_Datos!$B$53="cm40",Ingresar_Datos!N560,IF(Ingresar_Datos!$B$53="cm100",Ingresar_Datos!O560,IF(Ingresar_Datos!$B$53="mm10",Ingresar_Datos!P560,IF(Ingresar_Datos!$B$53="mm40",Ingresar_Datos!Q560,IF(Ingresar_Datos!$B$53="mm100",Ingresar_Datos!R560,"Conv.Inválida")))))) -> 163.3248 | H77: =IF(Ingresar_Datos!$B$53="cm10",Ingresar_Datos!M660,IF(Ingresar_Datos!$B$53="cm40",Ingresar_Datos!N660,IF(Ingresar_Datos!$B$53="cm100",Ingresar_Datos!O660,IF(Ingresar_Datos!$B$53="mm10",Ingresar_Datos!P660,IF(Ingresar_Datos!$B$53="mm40",Ingresar_Datos!Q660,IF(Ingresar_Datos!$B$53="mm100",Ingresar_Datos!R660,"Conv.Inválida")))))) -> 132.5088 | I77: =IF(Ingresar_Datos!$B$53="cm10",Ingresar_Datos!M760,IF(Ingresar_Datos!$B$53="cm40",Ingresar_Datos!N760,IF(Ingresar_Datos!$B$53="cm100",Ingresar_Datos!O760,IF(Ingresar_Datos!$B$53="mm10",Ingresar_Datos!P760,IF(Ingresar_Datos!$B$53="mm40",Ingresar_Datos!Q760,IF(Ingresar_Datos!$B$53="mm100",Ingresar_Datos!R760,"Conv.Inválida")))))) -> 112.32 | J77: =IF(Ingresar_Datos!$B$53="cm10",Ingresar_Datos!M860,IF(Ingresar_Datos!$B$53="cm40",Ingresar_Datos!N860,IF(Ingresar_Datos!$B$53="cm100",Ingresar_Datos!O860,IF(Ingresar_Datos!$B$53="mm10",Ingresar_Datos!P860,IF(Ingresar_Datos!$B$53="mm40",Ingresar_Datos!Q860,IF(Ingresar_Datos!$B$53="mm100",Ingresar_Datos!R860,"Conv.Inválida")))))) | K77: =IF(Ingresar_Datos!$B$53="cm10",Ingresar_Datos!M960,IF(Ingresar_Datos!$B$53="cm40",Ingresar_Datos!N960,IF(Ingresar_Datos!$B$53="cm100",Ingresar_Datos!O960,IF(Ingresar_Datos!$B$53="mm10",Ingresar_Datos!P960,IF(Ingresar_Datos!$B$53="mm40",Ingresar_Datos!Q960,IF(Ingresar_Datos!$B$53="mm100",Ingresar_Datos!R960,"Conv.Inválida"))))))
... B165: =IF(Ingresar_Datos!$B$53="cm10",Ingresar_Datos!M148,IF(Ingresar_Datos!$B$53="cm40",Ingresar_Datos!N148,IF(Ingresar_Datos!$B$53="cm100",Ingresar_Datos!O148,IF(Ingresar_Datos!$B$53="mm10",Ingresar_Datos!P148,IF(Ingresar_Datos!$B$53="mm40",Ingresar_Datos!Q148,IF(Ingresar_Datos!$B$53="mm100",Ingresar_Datos!R148,"Conv.Inválida")))))) -> 325.728 | C165: =IF(Ingresar_Datos!$B$53="cm10",Ingresar_Datos!M248,IF(Ingresar_Datos!$B$53="cm40",Ingresar_Datos!N248,IF(Ingresar_Datos!$B$53="cm100",Ingresar_Datos!O248,IF(Ingresar_Datos!$B$53="mm10",Ingresar_Datos!P248,IF(Ingresar_Datos!$B$53="mm40",Ingresar_Datos!Q248,IF(Ingresar_Datos!$B$53="mm100",Ingresar_Datos!R248,"Conv.Inválida")))))) -> 348.192 | D165: =IF(Ingresar_Datos!$B$53="cm10",Ingresar_Datos!M348,IF(Ingresar_Datos!$B$53="cm40",Ingresar_Datos!N348,IF(Ingresar_Datos!$B$53="cm100",Ingresar_Datos!O348,IF(Ingresar_Datos!$B$53="mm10",Ingresar_Datos!P348,IF(Ingresar_Datos!$B$53="mm40",Ingresar_Datos!Q348,IF(Ingresar_Datos!$B$53="mm100",Ingresar_Datos!R348,"Conv.Inválida")))))) -> 313.632 | E165: =IF(Ingresar_Datos!$B$53="cm10",Ingresar_Datos!M448,IF(Ingresar_Datos!$B$53="cm40",Ingresar_Datos!N448,IF(Ingresar_Datos!$B$53="cm100",Ingresar_Datos!O448,IF(Ingresar_Datos!$B$53="mm10",Ingresar_Datos!P448,IF(Ingresar_Datos!$B$53="mm40",Ingresar_Datos!Q448,IF(Ingresar_Datos!$B$53="mm100",Ingresar_Datos!R448,"Conv.Inválida")))))) -> 336.96 | F165: =IF(Ingresar_Datos!$B$53="cm10",Ingresar_Datos!M548,IF(Ingresar_Datos!$B$53="cm40",Ingresar_Datos!N548,IF(Ingresar_Datos!$B$53="cm100",Ingresar_Datos!O548,IF(Ingresar_Datos!$B$53="mm10",Ingresar_Datos!P548,IF(Ingresar_Datos!$B$53="mm40",Ingresar_Datos!Q548,IF(Ingresar_Datos!$B$53="mm100",Ingresar_Datos!R548,"Conv.Inválida")))))) -> 285.12 | G165: =IF(Ingresar_Datos!$B$53="cm10",Ingresar_Datos!M648,IF(Ingresar_Datos!$B$53="cm40",Ingresar_Datos!N648,IF(Ingresar_Datos!$B$53="cm100",Ingresar_Datos!O648,IF(Ingresar_Datos!$B$53="mm10",Ingresar_Datos!P648,IF(Ingresar_Datos!$B$53="mm40",Ingresar_Datos!Q648,IF(Ingresar_Datos!$B$53="mm100",Ingresar_Datos!R648,"Conv.Inválida")))))) -> 314.496 | H165: =IF(Ingresar_Datos!$B$53="cm10",Ingresar_Datos!M748,IF(Ingresar_Datos!$B$53="cm40",Ingresar_Datos!N748,IF(Ingresar_Datos!$B$53="cm100",Ingresar_Datos!O748,IF(Ingresar_Datos!$B$53="mm10",Ingresar_Datos!P748,IF(Ingresar_Datos!$B$53="mm40",Ingresar_Datos!Q748,IF(Ingresar_Datos!$B$53="mm100",Ingresar_Datos!R748,"Conv.Inválida")))))) -> 291.168 | I165: =IF(Ingresar_Datos!$B$53="cm10",Ingresar_Datos!M848,IF(Ingresar_Datos!$B$53="cm40",Ingresar_Datos!N848,IF(Ingresar_Datos!$B$53="cm100",Ingresar_Datos!O848,IF(Ingresar_Datos!$B$53="mm10",Ingresar_Datos!P848,IF(Ingresar_Datos!$B$53="mm40",Ingresar_Datos!Q848,IF(Ingresar_Datos!$B$53="mm100",Ingresar_Datos!R848,"Conv.Inválida")))))) | J165: =IF(Ingresar_Datos!$B$53="cm10",Ingresar_Datos!M948,IF(Ingresar_Datos!$B$53="cm40",Ingresar_Datos!N948,IF(Ingresar_Datos!$B$53="cm100",Ingresar_Datos!O948,IF(Ingresar_Datos!$B$53="mm10",Ingresar_Datos!P948,IF(Ingresar_Datos!$B$53="mm40",Ingresar_Datos!Q948,IF(Ingresar_Datos!$B$53="mm100",Ingresar_Datos!R948,"Conv.Inválida")))))) | K165: =IF(Ingresar_Datos!$B$53="cm10",Ingresar_Datos!M1048,IF(Ingresar_Datos!$B$53="cm40",Ingresar_Datos!N1048,IF(Ingresar_Datos!$B$53="cm100",Ingresar_Datos!O1048,IF(Ingresar_Datos!$B$53="mm10",Ingresar_Datos!P1048,IF(Ingresar_Datos!$B$53="mm40",Ingresar_Datos!Q1048,IF(Ingresar_Datos!$B$53="mm100",Ingresar_Datos!R1048,"Conv.Inválida"))))))

Sheet Distribución_Frecuencias
B1: DISTRIBUCIÓN_FRECUENCIAS _DATOS_MUESTREO
B2: Rango | D2: d | E2: n | F2: % n | G2: % (n) acumulado | M2: acumulado log d | N2: % acumulado log d | O2: %acumulado n (log d) | P2: log (nd) | S2: %acumulado log nd | T2: % acumulado | U2: % acumulado | Y2: % n* log d | AC2: %acum.
B3: =IF(Diámetro_Medio!B48<Diámetro_Medio!$E$41,Diámetro_Medio!B48,"N.A") -> 10 | C3: =IF(Diámetro_Medio!B48<Diámetro_Medio!$E$41,(Diámetro_Medio!B48+Diámetro_Medio!$F$44),"N.A") -> 42 | D3: =IF(B3="N.A","",(B3+C3)/2) -> 26 | E3: =IF(B19="N.A","",Diámetro_Medio!E48) -> 31 | F3: =IF(B3="N.A","",(E3/$E$15)*100) -> 3.9390089 | G3: =IF(B3="N.A","",F3) -> 3.9390089 | H3: =IF(B3="N.A","",(E3*D3)) -> 806 | I3: =IF(B3="N.A","",(E3*(D3^2))) -> 20956 | J3: =IF(B3="N.A","",(E3*(D3^3))) -> 544856 | K3: =IF(B3="N.A","",IF(E3=0,"",LOG(D3,10))) -> 1.4149733 | L3: =IF(B3="N.A","",(E3*K3)) -> 43.864174 | M3: =IF(B3="N.A","",K3) -> 1.4149733 | N3: =IF(B3="N.A","",(100/$M$15)*M3) -> 5.9207154 | O3: =IF(B3="N.A","",(100/$L$15)*L3) -> 2.7194385 | P3: =IF(B3="N.A","",IF(E3=0,"",LOG(H3,10))) -> 2.906335 | Q3: =IF(B3="N.A","",IF(E3=0,"",LOG(I3,10))) -> 4.3213084 | R3: =IF(B3="N.A","",IF(E3=0,"",LOG(J3,10))) -> 5.7362817 | S3: =IF(B3="N.A","",(100/P15)*P3) -> 7.6932523 | T3: =IF(B3="N.A","",(100/$Q$15)*Q3) -> 7.0064206 | U3: =IF(B3="N.A","",(100/$R$15)*R3) -> 6.7032141 | V3: =IF(B3="N.A","",PI()*(I3)) -> 65835.216 | W3: =IF(B3="N.A","",PI()*(J3)) -> 1711715.6 | X3: =IF(B3="N.A","",(D3^6)*E3) -> 9576389056 | Y3: =IF(B3="N.A","",F3*K3) -> 5.5735926 | Z3: =IF(B3="N.A","",R3*F3) -> 22.595265 | AA3: =IF(B3="N.A","",(D3^4)*E3) -> 14166256 | AB3: =IF(B3="N.A","",IF(E3=0,,LOG(AA3))) -> 7.1512551 | AC3: =IF(B3="N.A","",(100/$AB$15)*AB3) -> 6.5323906 | AD3: =IF(C3="N.A","",((D3-$I$83)^2)*E3) -> 774575.22
B4: =IF(Diámetro_Medio!B49<Diámetro_Medio!$E$41,Diámetro_Medio!B49,"N.A") -> 42 | C4: =IF(Diámetro_Medio!B49<Diámetro_Medio!$E$41,(Diámetro_Medio!B49+Diámetro_Medio!$F$44),"N.A") -> 74 | D4: =IF(B4="N.A","",(B4+C4)/2) -> 58 | E4: =IF(B20="N.A","",Diámetro_Medio!E49) -> 4 | F4: =IF(B4="N.A","",(E4/$E$15)*100) -> 0.50825921 | G4: =IF(B4="N.A","",(F4+G3)) -> 4.4472681 | H4: =IF(B4="N.A","",(E4*D4)) -> 232 | I4: =IF(B4="N.A","",(E4*(D4^2))) -> 13456 | J4: =IF(B4="N.A","",(E4*(D4^3))) -> 780448 | K4: =IF(B4="N.A","",IF(E4=0,"",LOG(D4,10))) -> 1.763428 | L4: =IF(B4="N.A","",(E4*K4)) -> 7.053712 | M4: =IF(B4="N.A","",(M3+K4)) -> 3.1784013 | N4: =IF(B4="N.A","",(100/$M$15)*M4) -> 13.29948 | O4: =IF(B4="N.A","",((100/$L$15)*L4)+O3) -> 3.1567461 | P4: =IF(B4="N.A","",IF(E4=0,"",LOG(H4,10))) -> 2.365488 | Q4: =IF(B4="N.A","",IF(E4=0,"",LOG(I4,10))) -> 4.128916 | R4: =IF(B4="N.A","",IF(E4=0,"",LOG(J4,10))) -> 5.892344 | S4: =IF(B4="N.A","",((100/$P$15)*P4)+S3) -> 13.954848 | T4: =IF(B4="N.A","",((100/$Q$15)*Q4)+T3) -> 13.700903 | U4: =IF(B4="N.A","",((100/$R$15)*R4)+U3) -> 13.588797 | V4: =IF(B4="N.A","",PI()*(I4)) -> 42273.271 | W4: =IF(B4="N.A","",PI()*(J4)) -> 2451849.7 | X4: =IF(B4="N.A","",(D4^6)*E4) -> 152274770176 | Y4: =IF(B4="N.A","",F4*K4) -> 0.89627852 | Z4: =IF(B4="N.A","",R4*F4) -> 2.9948381 | AA4: =IF(B4="N.A","",(D4^4)*E4) -> 45265984 | AB4: =IF(B4="N.A","",IF(E4=0,,LOG(AA4))) -> 7.655772 | AC4: =IF(B4="N.A","",((100/$AB$15)*AB4)+AC3) -> 13.525638 | AD4: =IF(C4="N.A","",((D4-$I$83)^2)*E4) -> 63575.13
B5: =IF(Diámetro_Medio!B50<Diámetro_Medio!$E$41,Diámetro_Medio!B50,"N.A") -> 74 | C5: =IF(Diámetro_Medio!B50<Diámetro_Medio!$E$41,(Diámetro_Medio!B50+Diámetro_Medio!$F$44),"N.A") -> 106 | D5: =IF(B5="N.A","",(B5+C5)/2) -> 90 | E5: =IF(B21="N.A","",Diámetro_Medio!E50) -> 218 | F5: =IF(B5="N.A","",(E5/$E$15)*100) -> 27.700127 | G5: =IF(B5="N.A","",(F5+G4)) -> 32.147395 | H5: =IF(B5="N.A","",(E5*D5)) -> 19620 | I5: =IF(B5="N.A","",(E5*(D5^2))) -> 1765800 | J5: =IF(B5="N.A","",(E5*(D5^3))) -> 158922000 | K5: =IF(B5="N.A","",IF(E5=0,"",LOG(D5,10))) -> 1.9542425 | L5: =IF(B5="N.A","",(E5*K5)) -> 426.02487 | M5: =IF(B5="N.A","",(M4+K5)) -> 5.1326439 | N5: =IF(B5="N.A","",(100/$M$15)*M5) -> 21.476676 | O5: =IF(B5="N.A","",((100/$L$15)*L5)+O4) -> 29.568925 | P5: =IF(B5="N.A","",IF(E5=0,"",LOG(H5,10))) -> 4.292699 | Q5: =IF(B5="N.A","",IF(E5=0,"",LOG(I5,10))) -> 6.2469415 | R5: =IF(B5="N.A","",IF(E5=0,"",LOG(J5,10))) -> 8.201184 | S5: =IF(B5="N.A","",((100/$P$15)*P5)+S4) -> 25.317893 | T5: =IF(B5="N.A","",((100/$Q$15)*Q5)+T4) -> 23.829479 | U5: =IF(B5="N.A","",((100/$R$15)*R5)+U4) -> 23.172408 | V5: =IF(B5="N.A","",PI()*(I5)) -> 5547424.3 | W5: =IF(B5="N.A","",PI()*(J5)) -> 4.9926819e+08 | X5: =IF(B5="N.A","",(D5^6)*E5) -> 115854138000000 | Y5: =IF(B5="N.A","",F5*K5) -> 54.132766 | Z5: =IF(B5="N.A","",R5*F5) -> 227.17384 | AA5: =IF(B5="N.A","",(D5^4)*E5) -> 14302980000 | AB5: =IF(B5="N.A","",IF(E5=0,,LOG(AA5))) -> 10.155427 | AC5: =IF(B5="N.A","",((100/$AB$15)*AB5)+AC4) -> 22.802221 | AD5: =IF(C5="N.A","",((D5-$I$83)^2)*E5) -> 1929140.3
B6: =IF(Diámetro_Medio!B51<Diámetro_Medio!$E$41,Diámetro_Medio!B51,"N.A") -> 106 | C6: =IF(Diámetro_Medio!B51<Diámetro_Medio!$E$41,(Diámetro_Medio!B51+Diámetro_Medio!$F$44),"N.A") -> 138 | D6: =IF(B6="N.A","",(B6+C6)/2) -> 122 | E6: =IF(B22="N.A","",Diámetro_Medio!E51) -> 404 | F6: =IF(B6="N.A","",(E6/$E$15)*100) -> 51.33418 | G6: =IF(B6="N.A","",(F6+G5)) -> 83.481576 | H6: =IF(B6="N.A","",(E6*D6)) -> 49288 | I6: =IF(B6="N.A","",(E6*(D6^2))) -> 6013136 | J6: =IF(B6="N.A","",(E6*(D6^3))) -> 733602592 | K6: =IF(B6="N.A","",IF(E6=0,"",LOG(D6,10))) -> 2.0863598 | L6: =IF(B6="N.A","",(E6*K6)) -> 842.88937 | M6: =IF(B6="N.A","",(M5+K6)) -> 7.2190037 | N6: =IF(B6="N.A","",(100/$M$15)*M6) -> 30.206694 | O6: =IF(B6="N.A","",((100/$L$15)*L6)+O5) -> 81.825371 | P6: =IF(B6="N.A","",IF(E6=0,"",LOG(H6,10))) -> 4.6927412 | Q6: =IF(B6="N.A","",IF(E6=0,"",LOG(I6,10))) -> 6.779101 | R6: =IF(B6="N.A","",IF(E6=0,"",LOG(J6,10))) -> 8.8654609 | S6: =IF(B6="N.A","",((100/$P$15)*P6)+S5) -> 37.739876 | T6: =IF(B6="N.A","",((100/$Q$15)*Q6)+T5) -> 34.82088 | U6: =IF(B6="N.A","",((100/$R$15)*R6)+U5) -> 33.532269 | V6: =IF(B6="N.A","",PI()*(I6)) -> 18890824 | W6: =IF(B6="N.A","",PI()*(J6)) -> 2.3046805e+09 | X6: =IF(B6="N.A","",(D6^6)*E6) -> 1.3321108e+15 | Y6: =IF(B6="N.A","",F6*K6) -> 107.10157 | Z6: =IF(B6="N.A","",R6*F6) -> 455.10117 | AA6: =IF(B6="N.A","",(D6^4)*E6) -> 89499516224 | AB6: =IF(B6="N.A","",IF(E6=0,,LOG(AA6))) -> 10.951821 | AC6: =IF(B6="N.A","",((100/$AB$15)*AB6)+AC5) -> 32.806279 | AD6: =IF(C6="N.A","",((D6-$I$83)^2)*E6) -> 1556512.1
B7: =IF(Diámetro_Medio!B52<Diámetro_Medio!$E$41,Diámetro_Medio!B52,"N.A") -> 138 | C7: =IF(Diámetro_Medio!B52<Diámetro_Medio!$E$41,(Diámetro_Medio!B52+Diámetro_Medio!$F$44),"N.A") -> 170 | D7: =IF(B7="N.A","",(B7+C7)/2) -> 154 | E7: =IF(B23="N.A","",Diámetro_Medio!E52) -> 85 | F7: =IF(B7="N.A","",(E7/$E$15)*100) -> 10.800508 | G7: =IF(B7="N.A","",(F7+G6)) -> 94.282084 | H7: =IF(B7="N.A","",(E7*D7)) -> 13090 | I7: =IF(B7="N.A","",(E7*(D7^2))) -> 2015860 | J7: =IF(B7="N.A","",(E7*(D7^3))) -> 310442440 | K7: =IF(B7="N.A","",IF(E7=0,"",LOG(D7,10))) -> 2.1875207 | L7: =IF(B7="N.A","",(E7*K7)) -> 185.93926 | M7: =IF(B7="N.A","",(M6+K7)) -> 9.4065244 | N7: =IF(B7="N.A","",(100/$M$15)*M7) -> 39.360002 | O7: =IF(B7="N.A","",((100/$L$15)*L7)+O6) -> 93.353011 | P7: =IF(B7="N.A","",IF(E7=0,"",LOG(H7,10))) -> 4.1169396 | Q7: =IF(B7="N.A","",IF(E7=0,"",LOG(I7,10))) -> 6.3044604 | R7: =IF(B7="N.A","",IF(E7=0,"",LOG(J7,10))) -> 8.4919811 | S7: =IF(B7="N.A","",((100/$P$15)*P7)+S6) -> 48.637675 | T7: =IF(B7="N.A","",((100/$Q$15)*Q7)+T6) -> 45.042715 | U7: =IF(B7="N.A","",((100/$R$15)*R7)+U6) -> 43.455695 | V7: =IF(B7="N.A","",PI()*(I7)) -> 6333011 | W7: =IF(B7="N.A","",PI()*(J7)) -> 9.7528369e+08 | X7: =IF(B7="N.A","",(D7^6)*E7) -> 1.1338177e+15 | Y7: =IF(B7="N.A","",F7*K7) -> 23.626336 | Z7: =IF(B7="N.A","",R7*F7) -> 91.717712 | AA7: =IF(B7="N.A","",(D7^4)*E7) -> 47808135760 | AB7: =IF(B7="N.A","",IF(E7=0,,LOG(AA7))) -> 10.679502 | AC7: =IF(B7="N.A","",((100/$AB$15)*AB7)+AC6) -> 42.561584 | AD7: =IF(C7="N.A","",((D7-$I$83)^2)*E7) -> 76860.204
B8: =IF(Diámetro_Medio!B53<Diámetro_Medio!$E$41,Diámetro_Medio!B53,"N.A") -> 170 | C8: =IF(Diámetro_Medio!B53<Diámetro_Medio!$E$41,(Diámetro_Medio!B53+Diámetro_Medio!$F$44),"N.A") -> 202 | D8: =IF(B8="N.A","",(B8+C8)/2) -> 186 | E8: =IF(B24="N.A","",Diámetro_Medio!E53) -> 13 | F8: =IF(B8="N.A","",(E8/$E$15)*100) -> 1.6518424 | G8: =IF(B8="N.A","",(F8+G7)) -> 95.933926 | H8: =IF(B8="N.A","",(E8*D8)) -> 2418 | I8: =IF(B8="N.A","",(E8*(D8^2))) -> 449748 | J8: =IF(B8="N.A","",(E8*(D8^3))) -> 83653128 | K8: =IF(B8="N.A","",IF(E8=0,"",LOG(D8,10))) -> 2.2695129 | L8: =IF(B8="N.A","",(E8*K8)) -> 29.503668 | M8: =IF(B8="N.A","",(M7+K8)) -> 11.676037 | N8: =IF(B8="N.A","",(100/$M$15)*M8) -> 48.856393 | O8: =IF(B8="N.A","",((100/$L$15)*L8)+O7) -> 95.182144 | P8: =IF(B8="N.A","",IF(E8=0,"",LOG(H8,10))) -> 3.3834563 | Q8: =IF(B8="N.A","",IF(E8=0,"",LOG(I8,10))) -> 5.6529692 | R8: =IF(B8="N.A","",IF(E8=0,"",LOG(J8,10))) -> 7.9224822 | S8: =IF(B8="N.A","",((100/$P$15)*P8)+S7) -> 57.593897 | T8: =IF(B8="N.A","",((100/$Q$15)*Q8)+T7) -> 54.208244 | U8: =IF(B8="N.A","",((100/$R$15)*R8)+U7) -> 52.713625 | V8: =IF(B8="N.A","",PI()*(I8)) -> 1412925 | W8: =IF(B8="N.A","",PI()*(J8)) -> 2.6280405e+08 | X8: =IF(B8="N.A","",(D8^6)*E8) -> 538295832629568 | Y8: =IF(B8="N.A","",F8*K8) -> 3.7488778 | Z8: =IF(B8="N.A","",R8*F8) -> 13.086692 | AA8: =IF(B8="N.A","",(D8^4)*E8) -> 15559481808 | AB8: =IF(B8="N.A","",IF(E8=0,,LOG(AA8))) -> 10.191995 | AC8: =IF(B8="N.A","",((100/$AB$15)*AB8)+AC7) -> 51.871571 | AD8: =IF(C8="N.A","",((D8-$I$83)^2)*E8) -> 48.396337
B9: =IF(Diámetro_Medio!B54<Diámetro_Medio!$E$41,Diámetro_Medio!B54,"N.A") -> 202 | C9: =IF(Diámetro_Medio!B54<Diámetro_Medio!$E$41,(Diámetro_Medio!B54+Diámetro_Medio!$F$44),"N.A") -> 234 | D9: =IF(B9="N.A","",(B9+C9)/2) -> 218 | E9: =IF(B25="N.A","",Diámetro_Medio!E54) -> 7 | F9: =IF(B9="N.A","",(E9/$E$15)*100) -> 0.88945362 | G9: =IF(B9="N.A","",(F9+G8)) -> 96.82338 | H9: =IF(B9="N.A","",(E9*D9)) -> 1526 | I9: =IF(B9="N.A","",(E9*(D9^2))) -> 332668 | J9: =IF(B9="N.A","",(E9*(D9^3))) -> 72521624 | K9: =IF(B9="N.A","",IF(E9=0,"",LOG(D9,10))) -> 2.3384565 | L9: =IF(B9="N.A","",(E9*K9)) -> 16.369195 | M9: =IF(B9="N.A","",(M8+K9)) -> 14.014494 | N9: =IF(B9="N.A","",(100/$M$15)*M9) -> 58.641267 | O9: =IF(B9="N.A","",((100/$L$15)*L9)+O8) -> 96.196981 | P9: =IF(B9="N.A","",IF(E9=0,"",LOG(H9,10))) -> 3.1835545 | Q9: =IF(B9="N.A","",IF(E9=0,"",LOG(I9,10))) -> 5.522011 | R9: =IF(B9="N.A","",IF(E9=0,"",LOG(J9,10))) -> 7.8604675 | S9: =IF(B9="N.A","",((100/$P$15)*P9)+S8) -> 66.020967 | T9: =IF(B9="N.A","",((100/$Q$15)*Q9)+T8) -> 63.161443 | U9: =IF(B9="N.A","",((100/$R$15)*R9)+U8) -> 61.899086 | V9: =IF(B9="N.A","",PI()*(I9)) -> 1045107.3 | W9: =IF(B9="N.A","",PI()*(J9)) -> 2.278334e+08 | X9: =IF(B9="N.A","",(D9^6)*E9) -> 751340849656768 | Y9: =IF(B9="N.A","",F9*K9) -> 2.0799486 | Z9: =IF(B9="N.A","",R9*F9) -> 6.9915213 | AA9: =IF(B9="N.A","",(D9^4)*E9) -> 15809714032 | AB9: =IF(B9="N.A","",IF(E9=0,,LOG(AA9))) -> 10.198924 | AC9: =IF(B9="N.A","",((100/$AB$15)*AB9)+AC8) -> 61.187888 | AD9: =IF(C9="N.A","",((D9-$I$83)^2)*E9) -> 8058.4552
B10: =IF(Diámetro_Medio!B55<Diámetro_Medio!$E$41,Diámetro_Medio!B55,"N.A") -> 234 | C10: =IF(Diámetro_Medio!B55<Diámetro_Medio!$E$41,(Diámetro_Medio!B55+Diámetro_Medio!$F$44),"N.A") -> 266 | D10: =IF(B10="N.A","",(B10+C10)/2) -> 250 | E10: =IF(B26="N.A","",Diámetro_Medio!E55) -> 8 | F10: =IF(B10="N.A","",(E10/$E$15)*100) -> 1.0165184 | G10: =IF(B10="N.A","",(F10+G9)) -> 97.839898 | H10: =IF(B10="N.A","",(E10*D10)) -> 2000 | I10: =IF(B10="N.A","",(E10*(D10^2))) -> 500000 | J10: =IF(B10="N.A","",(E10*(D10^3))) -> 125000000 | K10: =IF(B10="N.A","",IF(E10=0,"",LOG(D10,10))) -> 2.39794 | L10: =IF(B10="N.A","",(E10*K10)) -> 19.18352 | M10: =IF(B10="N.A","",(M9+K10)) -> 16.412434 | N10: =IF(B10="N.A","",(100/$M$15)*M10) -> 68.675039 | O10: =IF(B10="N.A","",((100/$L$15)*L10)+O9) -> 97.386298 | P10: =IF(B10="N.A","",IF(E10=0,"",LOG(H10,10))) -> 3.30103 | Q10: =IF(B10="N.A","",IF(E10=0,"",LOG(I10,10))) -> 5.69897 | R10: =IF(B10="N.A","",IF(E10=0,"",LOG(J10,10))) -> 8.09691 | S10: =IF(B10="N.A","",((100/$P$15)*P10)+S9) -> 74.759001 | T10: =IF(B10="N.A","",((100/$Q$15)*Q10)+T9) -> 72.401557 | U10: =IF(B10="N.A","",((100/$R$15)*R10)+U9) -> 71.360846 | V10: =IF(B10="N.A","",PI()*(I10)) -> 1570796.3 | W10: =IF(B10="N.A","",PI()*(J10)) -> 3.9269908e+08 | X10: =IF(B10="N.A","",(D10^6)*E10) -> 1.953125e+15 | Y10: =IF(B10="N.A","",F10*K10) -> 2.4375502 | Z10: =IF(B10="N.A","",R10*F10) -> 8.2306582 | AA10: =IF(B10="N.A","",(D10^4)*E10) -> 31250000000 | AB10: =IF(B10="N.A","",IF(E10=0,,LOG(AA10))) -> 10.49485 | AC10: =IF(B10="N.A","",((100/$AB$15)*AB10)+AC9) -> 70.774521 | AD10: =IF(C10="N.A","",((D10-$I$83)^2)*E10) -> 34773.544
B11: =IF(Diámetro_Medio!B56<Diámetro_Medio!$E$41,Diámetro_Medio!B56,"N.A") -> 266 | C11: =IF(Diámetro_Medio!B56<Diámetro_Medio!$E$41,(Diámetro_Medio!B56+Diámetro_Medio!$F$44),"N.A") -> 298 | D11: =IF(B11="N.A","",(B11+C11)/2) -> 282 | E11: =IF(B27="N.A","",Diámetro_Medio!E56) -> 8 | F11: =IF(B11="N.A","",(E11/$E$15)*100) -> 1.0165184 | G11: =IF(B11="N.A","",(F11+G10)) -> 98.856417 | H11: =IF(B11="N.A","",(E11*D11)) -> 2256 | I11: =IF(B11="N.A","",(E11*(D11^2))) -> 636192 | J11: =IF(B11="N.A","",(E11*(D11^3))) -> 179406144 | K11: =IF(B11="N.A","",IF(E11=0,"",LOG(D11,10))) -> 2.4502491 | L11: =IF(B11="N.A","",(E11*K11)) -> 19.601993 | M11: =IF(B11="N.A","",(M10+K11)) -> 18.862683 | N11: =IF(B11="N.A","",(100/$M$15)*M11) -> 78.92769 | O11: =IF(B11="N.A","",((100/$L$15)*L11)+O10) -> 98.601559 | P11: =IF(B11="N.A","",IF(E11=0,"",LOG(H11,10))) -> 3.3533391 | Q11: =IF(B11="N.A","",IF(E11=0,"",LOG(I11,10))) -> 5.8035882 | R11: =IF(B11="N.A","",IF(E11=0,"",LOG(J11,10))) -> 8.2538373 | S11: =IF(B11="N.A","",((100/$P$15)*P11)+S10) -> 83.635502 | T11: =IF(B11="N.A","",((100/$Q$15)*Q11)+T10) -> 81.811295 | U11: =IF(B11="N.A","",((100/$R$15)*R11)+U10) -> 81.005986 | V11: =IF(B11="N.A","",PI()*(I11)) -> 1998656.1 | W11: =IF(B11="N.A","",PI()*(J11)) -> 5.6362102e+08 | X11: =IF(B11="N.A","",(D11^6)*E11) -> 4.0233206e+15 | Y11: =IF(B11="N.A","",F11*K11) -> 2.4907234 | Z11: =IF(B11="N.A","",R11*F11) -> 8.3901777 | AA11: =IF(B11="N.A","",(D11^4)*E11) -> 50592532608 | AB11: =IF(B11="N.A","",IF(E11=0,,LOG(AA11))) -> 10.704086 | AC11: =IF(B11="N.A","",((100/$AB$15)*AB11)+AC10) -> 80.552283 | AD11: =IF(C11="N.A","",((D11-$I$83)^2)*E11) -> 76721.425
B12: =IF(Diámetro_Medio!B57<Diámetro_Medio!$E$41,Diámetro_Medio!B57,"N.A") -> 298 | C12: =IF(Diámetro_Medio!B57<Diámetro_Medio!$E$41,(Diámetro_Medio!B57+Diámetro_Medio!$F$44),"N.A") -> 330 | D12: =IF(B12="N.A","",(B12+C12)/2) -> 314 | E12: =IF(B28="N.A","",Diámetro_Medio!E57) -> 7 | F12: =IF(B12="N.A","",(E12/$E$15)*100) -> 0.88945362 | G12: =IF(B12="N.A","",(F12+G11)) -> 99.74587 | H12: =IF(B12="N.A","",(E12*D12)) -> 2198 | I12: =IF(B12="N.A","",(E12*(D12^2))) -> 690172 | J12: =IF(B12="N.A","",(E12*(D12^3))) -> 216714008 | K12: =IF(B12="N.A","",IF(E12=0,"",LOG(D12,10))) -> 2.4969296 | L12: =IF(B12="N.A","",(E12*K12)) -> 17.478508 | M12: =IF(B12="N.A","",(M11+K12)) -> 21.359613 | N12: =IF(B12="N.A","",(100/$M$15)*M12) -> 89.375668 | O12: =IF(B12="N.A","",((100/$L$15)*L12)+O11) -> 99.685171 | P12: =IF(B12="N.A","",IF(E12=0,"",LOG(H12,10))) -> 3.3420277 | Q12: =IF(B12="N.A","",IF(E12=0,"",LOG(I12,10))) -> 5.8389573 | R12: =IF(B12="N.A","",IF(E12=0,"",LOG(J12,10))) -> 8.335887 | S12: =IF(B12="N.A","",((100/$P$15)*P12)+S11) -> 92.48206 | T12: =IF(B12="N.A","",((100/$Q$15)*Q12)+T11) -> 91.278379 | U12: =IF(B12="N.A","",((100/$R$15)*R12)+U11) -> 90.747006 | V12: =IF(B12="N.A","",PI()*(I12)) -> 2168239.3 | W12: =IF(B12="N.A","",PI()*(J12)) -> 6.8082714e+08 | X12: =IF(B12="N.A","",(D12^6)*E12) -> 6.7092802e+15 | Y12: =IF(B12="N.A","",F12*K12) -> 2.2209031 | Z12: =IF(B12="N.A","",R12*F12) -> 7.4143849 | AA12: =IF(B12="N.A","",(D12^4)*E12) -> 68048198512 | AB12: =IF(B12="N.A","",IF(E12=0,,LOG(AA12))) -> 10.832817 | AC12: =IF(B12="N.A","",((100/$AB$15)*AB12)+AC11) -> 90.447636 | AD12: =IF(C12="N.A","",((D12-$I$83)^2)*E12) -> 118171.64
B13: =IF(Diámetro_Medio!B58<Diámetro_Medio!$E$41,Diámetro_Medio!B58,"N.A") -> 330 | C13: =IF(Diámetro_Medio!B58<Diámetro_Medio!$E$41,(Diámetro_Medio!B58+Diámetro_Medio!$F$44),"N.A") -> 362 | D13: =IF(B13="N.A","",(B13+C13)/2) -> 346 | E13: =IF(B29="N.A","",Diámetro_Medio!E58) -> 2 | F13: =IF(B13="N.A","",(E13/$E$15)*100) -> 0.25412961 | G13: =IF(B13="N.A","",(F13+G12)) -> 100 | H13: =IF(B13="N.A","",(E13*D13)) -> 692 | I13: =IF(B13="N.A","",(E13*(D13^2))) -> 239432 | J13: =IF(B13="N.A","",(E13*(D13^3))) -> 82843472 | K13: =IF(B13="N.A","",IF(E13=0,"",LOG(D13,10))) -> 2.5390761 | L13: =IF(B13="N.A","",(E13*K13)) -> 5.0781522 | M13: =IF(B13="N.A","",(M12+K13)) -> 23.898689 | N13: =IF(B13="N.A","",(100/$M$15)*M13) -> 100 | O13: =IF(B13="N.A","",((100/$L$15)*L13)+O12) -> 100 | P13: =IF(B13="N.A","",IF(E13=0,"",LOG(H13,10))) -> 2.8401061 | Q13: =IF(B13="N.A","",IF(E13=0,"",LOG(I13,10))) -> 5.3791822 | R13: =IF(B13="N.A","",IF(E13=0,"",LOG(J13,10))) -> 7.9182583 | S13: =IF(B13="N.A","",((100/$P$15)*P13)+S12) -> 100 | T13: =IF(B13="N.A","",((100/$Q$15)*Q13)+T12) -> 100 | U13: =IF(B13="N.A","",((100/$R$15)*R13)+U12) -> 100 | V13: =IF(B13="N.A","",PI()*(I13)) -> 752197.81 | W13: =IF(B13="N.A","",PI()*(J13)) -> 2.6026044e+08 | X13: =IF(B13="N.A","",(D13^6)*E13) -> 3.4315204e+15 | Y13: =IF(B13="N.A","",F13*K13) -> 0.64525441 | Z13: =IF(B13="N.A","",R13*F13) -> 2.0122639 | AA13: =IF(B13="N.A","",(D13^4)*E13) -> 28663841312 | AB13: =IF(B13="N.A","",IF(E13=0,,LOG(AA13))) -> 10.457334 | AC13: =IF(B13="N.A","",((100/$AB$15)*AB13)+AC12) -> 100 | AD13: =IF(C13="N.A","",((D13-$I$83)^2)*E13) -> 52442.297
B14: =IF(Diámetro_Medio!B59<Diámetro_Medio!$E$41,Diámetro_Medio!B59,"N.A") -> N.A | C14: =IF(Diámetro_Medio!B59<Diámetro_Medio!$E$41,(Diámetro_Medio!B59+Diámetro_Medio!$F$44),"N.A") -> N.A | D14: =IF(B14="N.A","",(B14+C14)/2) | E14: =IF(B30="N.A","",Diámetro_Medio!E59) | F14: =IF(B14="N.A","",(E14/$E$15)*100) | G14: =IF(B14="N.A","",(F14+G13)) | H14: =IF(B14="N.A","",(E14*D14)) | I14: =IF(B14="N.A","",(E14*(D14^2))) | J14: =IF(B14="N.A","",(E14*(D14^3))) | K14: =IF(B14="N.A","",IF(E14=0,"",LOG(D14,10))) | L14: =IF(B14="N.A","",(E14*K14)) | M14: =IF(B14="N.A","",(M13+K14)) | N14: =IF(B14="N.A","",(100/$M$15)*M14) | O14: =IF(B14="N.A","",((100/$L$15)*L14)+O13) | P14: =IF(B14="N.A","",IF(E14=0,"",LOG(H14,10))) | Q14: =IF(B14="N.A","",IF(E14=0,"",LOG(I14,10))) | R14: =IF(B14="N.A","",IF(E14=0,"",LOG(J14,10))) | S14: =IF(B14="N.A","",((100/$P$15)*P14)+S13) | T14: =IF(B14="N.A","",((100/$Q$15)*Q14)+T13) | U14: =IF(B14="N.A","",((100/$R$15)*R14)+U13) | V14: =IF(B14="N.A","",PI()*(I14)) | W14: =IF(B14="N.A","",PI()*(J14)) | X14: =IF(B14="N.A","",(D14^6)*E14) | Y14: =IF(B14="N.A","",F14*K14) | Z14: =IF(B14="N.A","",R14*F14) | AA14: =IF(B14="N.A","",(D14^4)*E14) | AB14: =IF(B14="N.A","",IF(E14=0,,LOG(AA14))) | AC14: =IF(B14="N.A","",((100/$AB$15)*AB14)+AC13) | AD14: =IF(C14="N.A","",((D14-$I$83)^2)*E14)
B15: TOTAL= | D15: =SUM(D3:D11)/9 -> 154 | E15: =SUM(E3:E14) -> 787 | F15: =SUM(F3:F14) -> 100 | G15: =MAX(G3:G14) -> 100 | H15: =SUM(H3:H14) -> 94126 | I15: =SUM(I3:I14) -> 12677420 | J15: =SUM(J3:J14) -> 1964430712 | K15: =SUM(K3:K14) -> 23.898689 | L15: =SUM(L3:L14) -> 1612.9864 | M15: =IF(M14="",IF(M13="",IF(M12="",IF(M11="",IF(M10="",IF(M9="",IF(M8="",IF(M7="",M6,M7),M8),M9),M10),M11),M12),M13),M14) -> 23.898689 | N15: =IF(N14="",IF(N13="",IF(N12="",IF(N11="",IF(N10="",IF(N9="",IF(N8="",IF(N7="",N6,N7),N8),N9),N10),N11),N12),N13),N14) -> 100 | O15: =IF(O14="",IF(O13="",IF(O12="",IF(O11="",IF(O10="",IF(O9="",IF(O8="",IF(O7="",O6,O7),O8),O9),O10),O11),O12),O13),O14) -> 100 | P15: =SUM(P3:P14) -> 37.777717 | Q15: =SUM(Q3:Q14) -> 61.676405 | R15: =SUM(R3:R14) -> 85.575094 | S15: =IF(S14="",IF(S13="",IF(S12="",IF(S11="",IF(S10="",IF(S9="",IF(S8="",IF(S7="",S6,S7),S8),S9),S10),S11),S12),S13),S14) -> 100 | T15: =IF(T14="",IF(T13="",IF(T12="",IF(T11="",IF(T10="",IF(T9="",IF(T8="",IF(T7="",T6,T7),T8),T9),T10),T11),T12),T13),T14) -> 100 | U15: =IF(U14="",IF(U13="",IF(U12="",IF(U11="",IF(U10="",IF(U9="",IF(U8="",IF(U7="",U6,U7),U8),U9),U10),U11),U12),U13),U14) -> 100 | V15: =SUM(V3:V14) -> 39827290 | W15: =SUM(W3:W14) -> 6.1714411e+09 | X15: =SUM(X3:X14) -> 1.9988827e+16 | Y15: =SUM(Y3:Y14) -> 204.9538 | Z15: =SUM(Z3:Z14) -> 845.70852 | AA15: =SUM(AA3:AA14) -> 361593832496 | AB15: =SUM(AB3:AB14) -> 109.47378 | AC15: =IF(AC14="",IF(AC13="",IF(AC12="",IF(AC11="",IF(AC10="",IF(AC9="",IF(AC8="",IF(AC7="",AC6,AC7),AC8),AC9),AC10),AC11),AC12),AC13),AC14) -> 100 | AD15: =SUM(AD3:AD14) -> 4690878.7
B17: DISTRIBUCIÓN_FRECUENCIAS _EXPONENCIALES_DATOS_MUESTREO
B18: Rango | D18: d | E18: n | K18: %acum.
B19: =IF(Diámetro_Medio!B48<Diámetro_Medio!$E$41,Diámetro_Medio!B48,"N.A") -> 10 | C19: =IF(Diámetro_Medio!B48<Diámetro_Medio!$E$41,(Diámetro_Medio!B48+Diámetro_Medio!$F$44),"N.A") -> 42 | D19: =IF(B19="N.A","",(B19+C19)/2) -> 26 | E19: =IF(B19="N.A","",Diámetro_Medio!E48) -> 31 | F19: =IF(B19="N.A","",(E19*D19)) -> 806 | G19: =IF(B19="N.A","",(E19*(D19^2))) -> 20956 | H19: =IF(B19="N.A","",(E19*(D19^3))) -> 544856 | I19: =IF(B19="N.A","",(D19^4)*E19) -> 14166256 | J19: =IF(B19="N.A","",(D19^6)*E19) -> 9576389056 | K19: =AC3 -> 6.5323906
B20: =IF(Diámetro_Medio!B49<Diámetro_Medio!$E$41,Diámetro_Medio!B49,"N.A") -> 42 | C20: =IF(Diámetro_Medio!B49<Diámetro_Medio!$E$41,(Diámetro_Medio!B49+Diámetro_Medio!$F$44),"N.A") -> 74 | D20: =IF(B20="N.A","",(B20+C20)/2) -> 58 | E20: =IF(B20="N.A","",Diámetro_Medio!E49) -> 4 | F20: =IF(B20="N.A","",(E20*D20)) -> 232 | G20: =IF(B20="N.A","",(E20*(D20^2))) -> 13456 | H20: =IF(B20="N.A","",(E20*(D20^3))) -> 780448 | I20: =IF(B20="N.A","",(D20^4)*E20) -> 45265984 | J20: =IF(B20="N.A","",(D20^6)*E20) -> 152274770176 | K20: =AC4 -> 13.525638
B21: =IF(Diámetro_Medio!B50<Diámetro_Medio!$E$41,Diámetro_Medio!B50,"N.A") -> 74 | C21: =IF(Diámetro_Medio!B50<Diámetro_Medio!$E$41,(Diámetro_Medio!B50+Diámetro_Medio!$F$44),"N.A") -> 106 | D21: =IF(B21="N.A","",(B21+C21)/2) -> 90 | E21: =IF(B21="N.A","",Diámetro_Medio!E50) -> 218 | F21: =IF(B21="N.A","",(E21*D21)) -> 19620 | G21: =IF(B21="N.A","",(E21*(D21^2))) -> 1765800 | H21: =IF(B21="N.A","",(E21*(D21^3))) -> 158922000 | I21: =IF(B21="N.A","",(D21^4)*E21) -> 14302980000 | J21: =IF(B21="N.A","",(D21^6)*E21) -> 115854138000000 | K21: =AC5 -> 22.802221
B22: =IF(Diámetro_Medio!B51<Diámetro_Medio!$E$41,Diámetro_Medio!B51,"N.A") -> 106 | C22: =IF(Diámetro_Medio!B51<Diámetro_Medio!$E$41,(Diámetro_Medio!B51+Diámetro_Medio!$F$44),"N.A") -> 138 | D22: =IF(B22="N.A","",(B22+C22)/2) -> 122 | E22: =IF(B22="N.A","",Diámetro_Medio!E51) -> 404 | F22: =IF(B22="N.A","",(E22*D22)) -> 49288 | G22: =IF(B22="N.A","",(E22*(D22^2))) -> 6013136 | H22: =IF(B22="N.A","",(E22*(D22^3))) -> 733602592 | I22: =IF(B22="N.A","",(D22^4)*E22) -> 89499516224 | J22: =IF(B22="N.A","",(D22^6)*E22) -> 1.3321108e+15 | K22: =AC6 -> 32.806279
B23: =IF(Diámetro_Medio!B52<Diámetro_Medio!$E$41,Diámetro_Medio!B52,"N.A") -> 138 | C23: =IF(Diámetro_Medio!B52<Diámetro_Medio!$E$41,(Diámetro_Medio!B52+Diámetro_Medio!$F$44),"N.A") -> 170 | D23: =IF(B23="N.A","",(B23+C23)/2) -> 154 | E23: =IF(B23="N.A","",Diámetro_Medio!E52) -> 85 | F23: =IF(B23="N.A","",(E23*D23)) -> 13090 | G23: =IF(B23="N.A","",(E23*(D23^2))) -> 2015860 | H23: =IF(B23="N.A","",(E23*(D23^3))) -> 310442440 | I23: =IF(B23="N.A","",(D23^4)*E23) -> 47808135760 | J23: =IF(B23="N.A","",(D23^6)*E23) -> 1.1338177e+15 | K23: =AC7 -> 42.561584
B24: =IF(Diámetro_Medio!B53<Diámetro_Medio!$E$41,Diámetro_Medio!B53,"N.A") -> 170 | C24: =IF(Diámetro_Medio!B53<Diámetro_Medio!$E$41,(Diámetro_Medio!B53+Diámetro_Medio!$F$44),"N.A") -> 202 | D24: =IF(B24="N.A","",(B24+C24)/2) -> 186 | E24: =IF(B24="N.A","",Diámetro_Medio!E53) -> 13 | F24: =IF(B24="N.A","",(E24*D24)) -> 2418 | G24: =IF(B24="N.A","",(E24*(D24^2))) -> 449748 | H24: =IF(B24="N.A","",(E24*(D24^3))) -> 83653128 | I24: =IF(B24="N.A","",(D24^4)*E24) -> 15559481808 | J24: =IF(B24="N.A","",(D24^6)*E24) -> 538295832629568 | K24: =AC8 -> 51.871571
B25: =IF(Diámetro_Medio!B54<Diámetro_Medio!$E$41,Diámetro_Medio!B54,"N.A") -> 202 | C25: =IF(Diámetro_Medio!B54<Diámetro_Medio!$E$41,(Diámetro_Medio!B54+Diámetro_Medio!$F$44),"N.A") -> 234 | D25: =IF(B25="N.A","",(B25+C25)/2) -> 218 | E25: =IF(B25="N.A","",Diámetro_Medio!E54) -> 7 | F25: =IF(B25="N.A","",(E25*D25)) -> 1526 | G25: =IF(B25="N.A","",(E25*(D25^2))) -> 332668 | H25: =IF(B25="N.A","",(E25*(D25^3))) -> 72521624 | I25: =IF(B25="N.A","",(D25^4)*E25) -> 15809714032 | J25: =IF(B25="N.A","",(D25^6)*E25) -> 751340849656768 | K25: =AC9 -> 61.187888
B26: =IF(Diámetro_Medio!B55<Diámetro_Medio!$E$41,Diámetro_Medio!B55,"N.A") -> 234 | C26: =IF(Diámetro_Medio!B55<Diámetro_Medio!$E$41,(Diámetro_Medio!B55+Diámetro_Medio!$F$44),"N.A") -> 266 | D26: =IF(B26="N.A","",(B26+C26)/2) -> 250 | E26: =IF(B26="N.A","",Diámetro_Medio!E55) -> 8 | F26: =IF(B26="N.A","",(E26*D26)) -> 2000 | G26: =IF(B26="N.A","",(E26*(D26^2))) -> 500000 | H26: =IF(B26="N.A","",(E26*(D26^3))) -> 125000000 | I26: =IF(B26="N.A","",(D26^4)*E26) -> 31250000000 | J26: =IF(B26="N.A","",(D26^6)*E26) -> 1.953125e+15 | K26: =AC10 -> 70.774521
B27: =IF(Diámetro_Medio!B56<Diámetro_Medio!$E$41,Diámetro_Medio!B56,"N.A") -> 266 | C27: =IF(Diámetro_Medio!B56<Diámetro_Medio!$E$41,(Diámetro_Medio!B56+Diámetro_Medio!$F$44),"N.A") -> 298 | D27: =IF(B27="N.A","",(B27+C27)/2) -> 282 | E27: =IF(B27="N.A","",Diámetro_Medio!E56) -> 8 | F27: =IF(B27="N.A","",(E27*D27)) -> 2256 | G27: =IF(B27="N.A","",(E27*(D27^2))) -> 636192 | H27: =IF(B27="N.A","",(E27*(D27^3))) -> 179406144 | I27: =IF(B27="N.A","",(D27^4)*E27) -> 50592532608 | J27: =IF(B27="N.A","",(D27^6)*E27) -> 4.0233206e+15 | K27: =AC11 -> 80.552283
B28: =IF(Diámetro_Medio!B57<Diámetro_Medio!$E$41,Diámetro_Medio!B57,"N.A") -> 298 | C28: =IF(Diámetro_Medio!B57<Diámetro_Medio!$E$41,(Diámetro_Medio!B57+Diámetro_Medio!$F$44),"N.A") -> 330 | D28: =IF(B28="N.A","",(B28+C28)/2) -> 314 | E28: =IF(B28="N.A","",Diámetro_Medio!E57) -> 7 | F28: =IF(B28="N.A","",(E28*D28)) -> 2198 | G28: =IF(B28="N.A","",(E28*(D28^2))) -> 690172 | H28: =IF(B28="N.A","",(E28*(D28^3))) -> 216714008 | I28: =IF(B28="N.A","",(D28^4)*E28) -> 68048198512 | J28: =IF(B28="N.A","",(D28^6)*E28) -> 6.7092802e+15 | K28: =AC12 -> 90.447636
B29: =IF(Diámetro_Medio!B58<Diámetro_Medio!$E$41,Diámetro_Medio!B58,"N.A") -> 330 | C29: =IF(Diámetro_Medio!B58<Diámetro_Medio!$E$41,(Diámetro_Medio!B58+Diámetro_Medio!$F$44),"N.A") -> 362 | D29: =IF(B29="N.A","",(B29+C29)/2) -> 346 | E29: =IF(B29="N.A","",Diámetro_Medio!E58) -> 2 | F29: =IF(B29="N.A","",(E29*D29)) -> 692 | G29: =IF(B29="N.A","",(E29*(D29^2))) -> 239432 | H29: =IF(B29="N.A","",(E29*(D29^3))) -> 82843472 | I29: =IF(B29="N.A","",(D29^4)*E29) -> 28663841312 | J29: =IF(B29="N.A","",(D29^6)*E29) -> 3.4315204e+15 | K29: =AC13 -> 100
B30: =IF(Diámetro_Medio!B59<Diámetro_Medio!$E$41,Diámetro_Medio!B59,"N.A") -> N.A | C30: =IF(Diámetro_Medio!B59<Diámetro_Medio!$E$41,(Diámetro_Medio!B59+Diámetro_Medio!$F$44),"N.A") -> N.A | D30: =IF(B30="N.A","",(B30+C30)/2) | E30: =IF(B30="N.A","",Diámetro_Medio!E59) | F30: =IF(B30="N.A","",(E30*D30)) | G30: =IF(B30="N.A","",(E30*(D30^2))) | H30: =IF(B30="N.A","",(E30*(D30^3))) | I30: =IF(B30="N.A","",(D30^4)*E30) | J30: =IF(B30="N.A","",(D30^6)*E30) | K30: =AC14
B31: TOTAL= | D31: =SUM(D19:D27)/9 -> 154 | E31: =SUM(E19:E30) -> 787 | F31: =SUM(F19:F30) -> 94126 | G31: =SUM(G19:G30) -> 12677420 | H31: =SUM(H19:H30) -> 1964430712 | I31: =SUM(I19:I30) -> 361593832496 | J31: =SUM(J19:J30) -> 1.9988827e+16 | K31: =AC15 -> 100
B33: DISTRIBUCIÓN_FRECUENCIAS _LOGARÍTMICAS_DATOS_MUESTREO
B34: Rango | D34: d | E34: n | F34: log n (d) | J34: %acumulado log nd | K34: % acumulado | L34: % acumulado
B35: =IF(Diámetro_Medio!B48<Diámetro_Medio!$E$41,Diámetro_Medio!B48,"N.A") -> 10 | C35: =IF(Diámetro_Medio!B48<Diámetro_Medio!$E$41,(Diámetro_Medio!B48+Diámetro_Medio!$F$44),"N.A") -> 42 | D35: =IF(B35="N.A","",(B35+C35)/2) -> 26 | E35: =IF(B35="N.A","",Diámetro_Medio!E48) -> 31 | F35: =IF(B35="N.A","",IF(E35=0,"",LOG(F19,10))) -> 2.906335 | G35: =IF(B35="N.A","",IF(E35=0,"",LOG(G19,10))) -> 4.3213084 | H35: =IF(B35="N.A","",IF(E35=0,"",LOG(H19,10))) -> 5.7362817 | I35: =IF(B35="N.A","",IF(E35=0,,LOG(I19))) -> 7.1512551 | J35: =S3 -> 7.6932523 | K35: =T3 -> 7.0064206 | L35: =U3 -> 6.7032141
B36: =IF(Diámetro_Medio!B49<Diámetro_Medio!$E$41,Diámetro_Medio!B49,"N.A") -> 42 | C36: =IF(Diámetro_Medio!B49<Diámetro_Medio!$E$41,(Diámetro_Medio!B49+Diámetro_Medio!$F$44),"N.A") -> 74 | D36: =IF(B36="N.A","",(B36+C36)/2) -> 58 | E36: =IF(B36="N.A","",Diámetro_Medio!E49) -> 4 | F36: =IF(B36="N.A","",IF(E36=0,"",LOG(F20,10))) -> 2.365488 | G36: =IF(B36="N.A","",IF(E36=0,"",LOG(G20,10))) -> 4.128916 | H36: =IF(B36="N.A","",IF(E36=0,"",LOG(H20,10))) -> 5.892344 | I36: =IF(B36="N.A","",IF(E36=0,,LOG(I20))) -> 7.655772 | J36: =S4 -> 13.954848 | K36: =T4 -> 13.700903 | L36: =U4 -> 13.588797
B37: =IF(Diámetro_Medio!B50<Diámetro_Medio!$E$41,Diámetro_Medio!B50,"N.A") -> 74 | C37: =IF(Diámetro_Medio!B50<Diámetro_Medio!$E$41,(Diámetro_Medio!B50+Diámetro_Medio!$F$44),"N.A") -> 106 | D37: =IF(B37="N.A","",(B37+C37)/2) -> 90 | E37: =IF(B37="N.A","",Diámetro_Medio!E50) -> 218 | F37: =IF(B37="N.A","",IF(E37=0,"",LOG(F21,10))) -> 4.292699 | G37: =IF(B37="N.A","",IF(E37=0,"",LOG(G21,10))) -> 6.2469415 | H37: =IF(B37="N.A","",IF(E37=0,"",LOG(H21,10))) -> 8.201184 | I37: =IF(B37="N.A","",IF(E37=0,,LOG(I21))) -> 10.155427 | J37: =S5 -> 25.317893 | K37: =T5 -> 23.829479 | L37: =U5 -> 23.172408
B38: =IF(Diámetro_Medio!B51<Diámetro_Medio!$E$41,Diámetro_Medio!B51,"N.A") -> 106 | C38: =IF(Diámetro_Medio!B51<Diámetro_Medio!$E$41,(Diámetro_Medio!B51+Diámetro_Medio!$F$44),"N.A") -> 138 | D38: =IF(B38="N.A","",(B38+C38)/2) -> 122 | E38: =IF(B38="N.A","",Diámetro_Medio!E51) -> 404 | F38: =IF(B38="N.A","",IF(E38=0,"",LOG(F22,10))) -> 4.6927412 | G38: =IF(B38="N.A","",IF(E38=0,"",LOG(G22,10))) -> 6.779101 | H38: =IF(B38="N.A","",IF(E38=0,"",LOG(H22,10))) -> 8.8654609 | I38: =IF(B38="N.A","",IF(E38=0,,LOG(I22))) -> 10.951821 | J38: =S6 -> 37.739876 | K38: =T6 -> 34.82088 | L38: =U6 -> 33.532269
B39: =IF(Diámetro_Medio!B52<Diámetro_Medio!$E$41,Diámetro_Medio!B52,"N.A") -> 138 | C39: =IF(Diámetro_Medio!B52<Diámetro_Medio!$E$41,(Diámetro_Medio!B52+Diámetro_Medio!$F$44),"N.A") -> 170 | D39: =IF(B39="N.A","",(B39+C39)/2) -> 154 | E39: =IF(B39="N.A","",Diámetro_Medio!E52) -> 85 | F39: =IF(B39="N.A","",IF(E39=0,"",LOG(F23,10))) -> 4.1169396 | G39: =IF(B39="N.A","",IF(E39=0,"",LOG(G23,10))) -> 6.3044604 | H39: =IF(B39="N.A","",IF(E39=0,"",LOG(H23,10))) -> 8.4919811 | I39: =IF(B39="N.A","",IF(E39=0,,LOG(I23))) -> 10.679502 | J39: =S7 -> 48.637675 | K39: =T7 -> 45.042715 | L39: =U7 -> 43.455695
B40: =IF(Diámetro_Medio!B53<Diámetro_Medio!$E$41,Diámetro_Medio!B53,"N.A") -> 170 | C40: =IF(Diámetro_Medio!B53<Diámetro_Medio!$E$41,(Diámetro_Medio!B53+Diámetro_Medio!$F$44),"N.A") -> 202 | D40: =IF(B40="N.A","",(B40+C40)/2) -> 186 | E40: =IF(B40="N.A","",Diámetro_Medio!E53) -> 13 | F40: =IF(B40="N.A","",IF(E40=0,"",LOG(F24,10))) -> 3.3834563 | G40: =IF(B40="N.A","",IF(E40=0,"",LOG(G24,10))) -> 5.6529692 | H40: =IF(B40="N.A","",IF(E40=0,"",LOG(H24,10))) -> 7.9224822 | I40: =IF(B40="N.A","",IF(E40=0,,LOG(I24))) -> 10.191995 | J40: =S8 -> 57.593897 | K40: =T8 -> 54.208244 | L40: =U8 -> 52.713625
B41: =IF(Diámetro_Medio!B54<Diámetro_Medio!$E$41,Diámetro_Medio!B54,"N.A") -> 202 | C41: =IF(Diámetro_Medio!B54<Diámetro_Medio!$E$41,(Diámetro_Medio!B54+Diámetro_Medio!$F$44),"N.A") -> 234 | D41: =IF(B41="N.A","",(B41+C41)/2) -> 218 | E41: =IF(B41="N.A","",Diámetro_Medio!E54) -> 7 | F41: =IF(B41="N.A","",IF(E41=0,"",LOG(F25,10))) -> 3.1835545 | G41: =IF(B41="N.A","",IF(E41=0,"",LOG(G25,10))) -> 5.522011 | H41: =IF(B41="N.A","",IF(E41=0,"",LOG(H25,10))) -> 7.8604675 | I41: =IF(B41="N.A","",IF(E41=0,,LOG(I25))) -> 10.198924 | J41: =S9 -> 66.020967 | K41: =T9 -> 63.161443 | L41: =U9 -> 61.899086
B42: =IF(Diámetro_Medio!B55<Diámetro_Medio!$E$41,Diámetro_Medio!B55,"N.A") -> 234 | C42: =IF(Diámetro_Medio!B55<Diámetro_Medio!$E$41,(Diámetro_Medio!B55+Diámetro_Medio!$F$44),"N.A") -> 266 | D42: =IF(B42="N.A","",(B42+C42)/2) -> 250 | E42: =IF(B42="N.A","",Diámetro_Medio!E55) -> 8 | F42: =IF(B42="N.A","",IF(E42=0,"",LOG(F26,10))) -> 3.30103 | G42: =IF(B42="N.A","",IF(E42=0,"",LOG(G26,10))) -> 5.69897 | H42: =IF(B42="N.A","",IF(E42=0,"",LOG(H26,10))) -> 8.09691 | I42: =IF(B42="N.A","",IF(E42=0,,LOG(I26))) -> 10.49485 | J42: =S10 -> 74.759001 | K42: =T10 -> 72.401557 | L42: =U10 -> 71.360846
B43: =IF(Diámetro_Medio!B56<Diámetro_Medio!$E$41,Diámetro_Medio!B56,"N.A") -> 266 | C43: =IF(Diámetro_Medio!B56<Diámetro_Medio!$E$41,(Diámetro_Medio!B56+Diámetro_Medio!$F$44),"N.A") -> 298 | D43: =IF(B43="N.A","",(B43+C43)/2) -> 282 | E43: =IF(B43="N.A","",Diámetro_Medio!E56) -> 8 | F43: =IF(B43="N.A","",IF(E43=0,"",LOG(F27,10))) -> 3.3533391 | G43: =IF(B43="N.A","",IF(E43=0,"",LOG(G27,10))) -> 5.8035882 | H43: =IF(B43="N.A","",IF(E43=0,"",LOG(H27,10))) -> 8.2538373 | I43: =IF(B43="N.A","",IF(E43=0,,LOG(I27))) -> 10.704086 | J43: =S11 -> 83.635502 | K43: =T11 -> 81.811295 | L43: =U11 -> 81.005986
B44: =IF(Diámetro_Medio!B57<Diámetro_Medio!$E$41,Diámetro_Medio!B57,"N.A") -> 298 | C44: =IF(Diámetro_Medio!B57<Diámetro_Medio!$E$41,(Diámetro_Medio!B57+Diámetro_Medio!$F$44),"N.A") -> 330 | D44: =IF(B44="N.A","",(B44+C44)/2) -> 314 | E44: =IF(B44="N.A","",Diámetro_Medio!E57) -> 7 | F44: =IF(B44="N.A","",IF(E44=0,"",LOG(F28,10))) -> 3.3420277 | G44: =IF(B44="N.A","",IF(E44=0,"",LOG(G28,10))) -> 5.8389573 | H44: =IF(B44="N.A","",IF(E44=0,"",LOG(H28,10))) -> 8.335887 | I44: =IF(B44="N.A","",IF(E44=0,,LOG(I28))) -> 10.832817 | J44: =S12 -> 92.48206 | K44: =T12 -> 91.278379 | L44: =U12 -> 90.747006
B45: =IF(Diámetro_Medio!B58<Diámetro_Medio!$E$41,Diámetro_Medio!B58,"N.A") -> 330 | C45: =IF(Diámetro_Medio!B58<Diámetro_Medio!$E$41,(Diámetro_Medio!B58+Diámetro_Medio!$F$44),"N.A") -> 362 | D45: =IF(B45="N.A","",(B45+C45)/2) -> 346 | E45: =IF(B45="N.A","",Diámetro_Medio!E58) -> 2 | F45: =IF(B45="N.A","",IF(E45=0,"",LOG(F29,10))) -> 2.8401061 | G45: =IF(B45="N.A","",IF(E45=0,"",LOG(G29,10))) -> 5.3791822 | H45: =IF(B45="N.A","",IF(E45=0,"",LOG(H29,10))) -> 7.9182583 | I45: =IF(B45="N.A","",IF(E45=0,,LOG(I29))) -> 10.457334 | J45: =S13 -> 100 | K45: =T13 -> 100 | L45: =U13 -> 100
B46: =IF(Diámetro_Medio!B59<Diámetro_Medio!$E$41,Diámetro_Medio!B59,"N.A") -> N.A | C46: =IF(Diámetro_Medio!B59<Diámetro_Medio!$E$41,(Diámetro_Medio!B59+Diámetro_Medio!$F$44),"N.A") -> N.A | D46: =IF(B46="N.A","",(B46+C46)/2) | E46: =IF(B46="N.A","",Diámetro_Medio!E59) | F46: =IF(B46="N.A","",IF(E46=0,"",LOG(F30,10))) | G46: =IF(B46="N.A","",IF(E46=0,"",LOG(G30,10))) | H46: =IF(B46="N.A","",IF(E46=0,"",LOG(H30,10))) | I46: =IF(B46="N.A","",IF(E46=0,,LOG(I30))) | J46: =S14 | K46: =T14 | L46: =U14
B47: TOTAL= | D47: =SUM(D35:D43)/9 -> 154 | E47: =SUM(E35:E46) -> 787 | F47: =SUM(F35:F46) -> 37.777717 | G47: =SUM(G35:G46) -> 61.676405 | H47: =SUM(H35:H46) -> 85.575094 | I47: =SUM(I35:I46) -> 109.47378 | J47: =S15 -> 100 | K47: =T15 -> 100 | L47: =U15 -> 100
B49: DISTRIBUCIÓN_FRECUENCIAS _LOGARÍTMICAS_DATOS_MUESTREO
B50: Rango | D50: d | E50: n | H50: acumulado log d | I50: % acumulado log d | J50: %acumulado n (log d)
B51: =IF(Diámetro_Medio!B48<Diámetro_Medio!$E$41,Diámetro_Medio!B48,"N.A") -> 10 | C51: =IF(Diámetro_Medio!B48<Diámetro_Medio!$E$41,(Diámetro_Medio!B48+Diámetro_Medio!$F$44),"N.A") -> 42 | D51: =IF(B51="N.A","",(B51+C51)/2) -> 26 | E51: =IF(B51="N.A","",Diámetro_Medio!E48) -> 31 | F51: =IF(B51="N.A","",IF(E51=0,"",LOG(D51,10))) -> 1.4149733 | G51: =IF(B51="N.A","",(E51*F51)) -> 43.864174 | H51: =IF(B51="N.A","",F51) -> 1.4149733 | I51: =IF(B51="N.A","",(100/$F$63)*H51) -> 5.9207154 | J51: =IF(B51="N.A","",(100/$G$63)*G51) -> 2.7194385
B52: =IF(Diámetro_Medio!B49<Diámetro_Medio!$E$41,Diámetro_Medio!B49,"N.A") -> 42 | C52: =IF(Diámetro_Medio!B49<Diámetro_Medio!$E$41,(Diámetro_Medio!B49+Diámetro_Medio!$F$44),"N.A") -> 74 | D52: =IF(B52="N.A","",(B52+C52)/2) -> 58 | E52: =IF(B52="N.A","",Diámetro_Medio!E49) -> 4 | F52: =IF(B52="N.A","",IF(E52=0,"",LOG(D52,10))) -> 1.763428 | G52: =IF(B52="N.A","",(E52*F52)) -> 7.053712 | H52: =IF(B52="N.A","",(H51+F52)) -> 3.1784013 | I52: =IF(B52="N.A","",(100/$F$63)*H52) -> 13.29948 | J52: =IF(B52="N.A","",((100/$G$63)*G52)+J51) -> 3.1567461
B53: =IF(Diámetro_Medio!B50<Diámetro_Medio!$E$41,Diámetro_Medio!B50,"N.A") -> 74 | C53: =IF(Diámetro_Medio!B50<Diámetro_Medio!$E$41,(Diámetro_Medio!B50+Diámetro_Medio!$F$44),"N.A") -> 106 | D53: =IF(B53="N.A","",(B53+C53)/2) -> 90 | E53: =IF(B53="N.A","",Diámetro_Medio!E50) -> 218 | F53: =IF(B53="N.A","",IF(E53=0,"",LOG(D53,10))) -> 1.9542425 | G53: =IF(B53="N.A","",(E53*F53)) -> 426.02487 | H53: =IF(B53="N.A","",(H52+F53)) -> 5.1326439 | I53: =IF(B53="N.A","",(100/$F$63)*H53) -> 21.476676 | J53: =IF(B53="N.A","",((100/$G$63)*G53)+J52) -> 29.568925
B54: =IF(Diámetro_Medio!B51<Diámetro_Medio!$E$41,Diámetro_Medio!B51,"N.A") -> 106 | C54: =IF(Diámetro_Medio!B51<Diámetro_Medio!$E$41,(Diámetro_Medio!B51+Diámetro_Medio!$F$44),"N.A") -> 138 | D54: =IF(B54="N.A","",(B54+C54)/2) -> 122 | E54: =IF(B54="N.A","",Diámetro_Medio!E51) -> 404 | F54: =IF(B54="N.A","",IF(E54=0,"",LOG(D54,10))) -> 2.0863598 | G54: =IF(B54="N.A","",(E54*F54)) -> 842.88937 | H54: =IF(B54="N.A","",(H53+F54)) -> 7.2190037 | I54: =IF(B54="N.A","",(100/$F$63)*H54) -> 30.206694 | J54: =IF(B54="N.A","",((100/$G$63)*G54)+J53) -> 81.825371
B55: =IF(Diámetro_Medio!B52<Diámetro_Medio!$E$41,Diámetro_Medio!B52,"N.A") -> 138 | C55: =IF(Diámetro_Medio!B52<Diámetro_Medio!$E$41,(Diámetro_Medio!B52+Diámetro_Medio!$F$44),"N.A") -> 170 | D55: =IF(B55="N.A","",(B55+C55)/2) -> 154 | E55: =IF(B55="N.A","",Diámetro_Medio!E52) -> 85 | F55: =IF(B55="N.A","",IF(E55=0,"",LOG(D55,10))) -> 2.1875207 | G55: =IF(B55="N.A","",(E55*F55)) -> 185.93926 | H55: =IF(B55="N.A","",(H54+F55)) -> 9.4065244 | I55: =IF(B55="N.A","",(100/$F$63)*H55) -> 39.360002 | J55: =IF(B55="N.A","",((100/$G$63)*G55)+J54) -> 93.353011
B56: =IF(Diámetro_Medio!B53<Diámetro_Medio!$E$41,Diámetro_Medio!B53,"N.A") -> 170 | C56: =IF(Diámetro_Medio!B53<Diámetro_Medio!$E$41,(Diámetro_Medio!B53+Diámetro_Medio!$F$44),"N.A") -> 202 | D56: =IF(B56="N.A","",(B56+C56)/2) -> 186 | E56: =IF(B56="N.A","",Diámetro_Medio!E53) -> 13 | F56: =IF(B56="N.A","",IF(E56=0,"",LOG(D56,10))) -> 2.2695129 | G56: =IF(B56="N.A","",(E56*F56)) -> 29.503668 | H56: =IF(B56="N.A","",(H55+F56)) -> 11.676037 | I56: =IF(B56="N.A","",(100/$F$63)*H56) -> 48.856393 | J56: =IF(B56="N.A","",((100/$G$63)*G56)+J55) -> 95.182144
B57: =IF(Diámetro_Medio!B54<Diámetro_Medio!$E$41,Diámetro_Medio!B54,"N.A") -> 202 | C57: =IF(Diámetro_Medio!B54<Diámetro_Medio!$E$41,(Diámetro_Medio!B54+Diámetro_Medio!$F$44),"N.A") -> 234 | D57: =IF(B57="N.A","",(B57+C57)/2) -> 218 | E57: =IF(B57="N.A","",Diámetro_Medio!E54) -> 7 | F57: =IF(B57="N.A","",IF(E57=0,"",LOG(D57,10))) -> 2.3384565 | G57: =IF(B57="N.A","",(E57*F57)) -> 16.369195 | H57: =IF(B57="N.A","",(H56+F57)) -> 14.014494 | I57: =IF(B57="N.A","",(100/$F$63)*H57) -> 58.641267 | J57: =IF(B57="N.A","",((100/$G$63)*G57)+J56) -> 96.196981
B58: =IF(Diámetro_Medio!B55<Diámetro_Medio!$E$41,Diámetro_Medio!B55,"N.A") -> 234 | C58: =IF(Diámetro_Medio!B55<Diámetro_Medio!$E$41,(Diámetro_Medio!B55+Diámetro_Medio!$F$44),"N.A") -> 266 | D58: =IF(B58="N.A","",(B58+C58)/2) -> 250 | E58: =IF(B58="N.A","",Diámetro_Medio!E55) -> 8 | F58: =IF(B58="N.A","",IF(E58=0,"",LOG(D58,10))) -> 2.39794 | G58: =IF(B58="N.A","",(E58*F58)) -> 19.18352 | H58: =IF(B58="N.A","",(H57+F58)) -> 16.412434 | I58: =IF(B58="N.A","",(100/$F$63)*H58) -> 68.675039 | J58: =IF(B58="N.A","",((100/$G$63)*G58)+J57) -> 97.386298
B59: =IF(Diámetro_Medio!B56<Diámetro_Medio!$E$41,Diámetro_Medio!B56,"N.A") -> 266 | C59: =IF(Diámetro_Medio!B56<Diámetro_Medio!$E$41,(Diámetro_Medio!B56+Diámetro_Medio!$F$44),"N.A") -> 298 | D59: =IF(B59="N.A","",(B59+C59)/2) -> 282 | E59: =IF(B59="N.A","",Diámetro_Medio!E56) -> 8 | F59: =IF(B59="N.A","",IF(E59=0,"",LOG(D59,10))) -> 2.4502491 | G59: =IF(B59="N.A","",(E59*F59)) -> 19.601993 | H59: =IF(B59="N.A","",(H58+F59)) -> 18.862683 | I59: =IF(B59="N.A","",(100/$F$63)*H59) -> 78.92769 | J59: =IF(B59="N.A","",((100/$G$63)*G59)+J58) -> 98.601559
B60: =IF(Diámetro_Medio!B57<Diámetro_Medio!$E$41,Diámetro_Medio!B57,"N.A") -> 298 | C60: =IF(Diámetro_Medio!B57<Diámetro_Medio!$E$41,(Diámetro_Medio!B57+Diámetro_Medio!$F$44),"N.A") -> 330 | D60: =IF(B60="N.A","",(B60+C60)/2) -> 314 | E60: =IF(B60="N.A","",Diámetro_Medio!E57) -> 7 | F60: =IF(B60="N.A","",IF(E60=0,"",LOG(D60,10))) -> 2.4969296 | G60: =IF(B60="N.A","",(E60*F60)) -> 17.478508 | H60: =IF(B60="N.A","",(H59+F60)) -> 21.359613 | I60: =IF(B60="N.A","",(100/$F$63)*H60) -> 89.375668 | J60: =IF(B60="N.A","",((100/$G$63)*G60)+J59) -> 99.685171
B61: =IF(Diámetro_Medio!B58<Diámetro_Medio!$E$41,Diámetro_Medio!B58,"N.A") -> 330 | C61: =IF(Diámetro_Medio!B58<Diámetro_Medio!$E$41,(Diámetro_Medio!B58+Diámetro_Medio!$F$44),"N.A") -> 362 | D61: =IF(B61="N.A","",(B61+C61)/2) -> 346 | E61: =IF(B61="N.A","",Diámetro_Medio!E58) -> 2 | F61: =IF(B61="N.A","",IF(E61=0,"",LOG(D61,10))) -> 2.5390761 | G61: =IF(B61="N.A","",(E61*F61)) -> 5.0781522 | H61: =IF(B61="N.A","",(H60+F61)) -> 23.898689 | I61: =IF(B61="N.A","",(100/$F$63)*H61) -> 100 | J61: =IF(B61="N.A","",((100/$G$63)*G61)+J60) -> 100
B62: =IF(Diámetro_Medio!B59<Diámetro_Medio!$E$41,Diámetro_Medio!B59,"N.A") -> N.A | C62: =IF(Diámetro_Medio!B59<Diámetro_Medio!$E$41,(Diámetro_Medio!B59+Diámetro_Medio!$F$44),"N.A") -> N.A | D62: =IF(B62="N.A","",(B62+C62)/2) | E62: =IF(B62="N.A","",Diámetro_Medio!E59) | F62: =IF(B62="N.A","",IF(E62=0,"",LOG(D62,10))) | G62: =IF(B62="N.A","",(E62*F62)) | H62: =IF(B62="N.A","",(H61+F62)) | I62: =IF(B62="N.A","",(100/$F$63)*H62) | J62: =IF(B62="N.A","",((100/$G$63)*G62)+J61)
B63: TOTAL = | D63: =SUM(D51:D59)/9 -> 154 | E63: =SUM(E51:E62) -> 787 | F63: =SUM(F51:F62) -> 23.898689 | G63: =SUM(G51:G62) -> 1612.9864 | H63: =MAX(H51:H62) -> 23.898689 | I63: =MAX(I51:I62) -> 100 | J63: =MAX(J51:J62) -> 100
B65: DISTRIBUCIÓN _FRECUENCIAS_DIÁMETROS_ÁREAS_VOLUMENES
B66: Rango | D66: d | E66: n | F66: % n | I66: % n* log d
B67: =IF(Diámetro_Medio!B48<Diámetro_Medio!$E$41,Diámetro_Medio!B48,"N.A") -> 10 | C67: =IF(Diámetro_Medio!B48<Diámetro_Medio!$E$41,(Diámetro_Medio!B48+Diámetro_Medio!$F$44),"N.A") -> 42 | D67: =IF(B67="N.A","",(B67+C67)/2) -> 26 | E67: =E51 -> 31 | F67: =F3 -> 3.9390089 | G67: =V3 -> 65835.216 | H67: =W3 -> 1711715.6 | I67: =Y3 -> 5.5735926 | J67: =Z3 -> 22.595265 | K67: =AD3 -> 774575.22
B68: =IF(Diámetro_Medio!B49<Diámetro_Medio!$E$41,Diámetro_Medio!B49,"N.A") -> 42 | C68: =IF(Diámetro_Medio!B49<Diámetro_Medio!$E$41,(Diámetro_Medio!B49+Diámetro_Medio!$F$44),"N.A") -> 74 | D68: =IF(B68="N.A","",(B68+C68)/2) -> 58 | E68: =E52 -> 4 | F68: =F4 -> 0.50825921 | G68: =V4 -> 42273.271 | H68: =W4 -> 2451849.7 | I68: =Y4 -> 0.89627852 | J68: =Z4 -> 2.9948381 | K68: =AD4 -> 63575.13
B69: =IF(Diámetro_Medio!B50<Diámetro_Medio!$E$41,Diámetro_Medio!B50,"N.A") -> 74 | C69: =IF(Diámetro_Medio!B50<Diámetro_Medio!$E$41,(Diámetro_Medio!B50+Diámetro_Medio!$F$44),"N.A") -> 106 | D69: =IF(B69="N.A","",(B69+C69)/2) -> 90 | E69: =E53 -> 218 | F69: =F5 -> 27.700127 | G69: =V5 -> 5547424.3 | H69: =W5 -> 4.9926819e+08 | I69: =Y5 -> 54.132766 | J69: =Z5 -> 227.17384 | K69: =AD5 -> 1929140.3
B70: =IF(Diámetro_Medio!B51<Diámetro_Medio!$E$41,Diámetro_Medio!B51,"N.A") -> 106 | C70: =IF(Diámetro_Medio!B51<Diámetro_Medio!$E$41,(Diámetro_Medio!B51+Diámetro_Medio!$F$44),"N.A") -> 138 | D70: =IF(B70="N.A","",(B70+C70)/2) -> 122 | E70: =E54 -> 404 | F70: =F6 -> 51.33418 | G70: =V6 -> 18890824 | H70: =W6 -> 2.3046805e+09 | I70: =Y6 -> 107.10157 | J70: =Z6 -> 455.10117 | K70: =AD6 -> 1556512.1
B71: =IF(Diámetro_Medio!B52<Diámetro_Medio!$E$41,Diámetro_Medio!B52,"N.A") -> 138 | C71: =IF(Diámetro_Medio!B52<Diámetro_Medio!$E$41,(Diámetro_Medio!B52+Diámetro_Medio!$F$44),"N.A") -> 170 | D71: =IF(B71="N.A","",(B71+C71)/2) -> 154 | E71: =E55 -> 85 | F71: =F7 -> 10.800508 | G71: =V7 -> 6333011 | H71: =W7 -> 9.7528369e+08 | I71: =Y7 -> 23.626336 | J71: =Z7 -> 91.717712 | K71: =AD7 -> 76860.204
B72: =IF(Diámetro_Medio!B53<Diámetro_Medio!$E$41,Diámetro_Medio!B53,"N.A") -> 170 | C72: =IF(Diámetro_Medio!B53<Diámetro_Medio!$E$41,(Diámetro_Medio!B53+Diámetro_Medio!$F$44),"N.A") -> 202 | D72: =IF(B72="N.A","",(B72+C72)/2) -> 186 | E72: =E56 -> 13 | F72: =F8 -> 1.6518424 | G72: =V8 -> 1412925 | H72: =W8 -> 2.6280405e+08 | I72: =Y8 -> 3.7488778 | J72: =Z8 -> 13.086692 | K72: =AD8 -> 48.396337
B73: =IF(Diámetro_Medio!B54<Diámetro_Medio!$E$41,Diámetro_Medio!B54,"N.A") -> 202 | C73: =IF(Diámetro_Medio!B54<Diámetro_Medio!$E$41,(Diámetro_Medio!B54+Diámetro_Medio!$F$44),"N.A") -> 234 | D73: =IF(B73="N.A","",(B73+C73)/2) -> 218 | E73: =E57 -> 7 | F73: =F9 -> 0.88945362 | G73: =V9 -> 1045107.3 | H73: =W9 -> 2.278334e+08 | I73: =Y9 -> 2.0799486 | J73: =Z9 -> 6.9915213 | K73: =AD9 -> 8058.4552
B74: =IF(Diámetro_Medio!B55<Diámetro_Medio!$E$41,Diámetro_Medio!B55,"N.A") -> 234 | C74: =IF(Diámetro_Medio!B55<Diámetro_Medio!$E$41,(Diámetro_Medio!B55+Diámetro_Medio!$F$44),"N.A") -> 266 | D74: =IF(B74="N.A","",(B74+C74)/2) -> 250 | E74: =E58 -> 8 | F74: =F10 -> 1.0165184 | G74: =V10 -> 1570796.3 | H74: =W10 -> 3.9269908e+08 | I74: =Y10 -> 2.4375502 | J74: =Z10 -> 8.2306582 | K74: =AD10 -> 34773.544
B75: =IF(Diámetro_Medio!B56<Diámetro_Medio!$E$41,Diámetro_Medio!B56,"N.A") -> 266 | C75: =IF(Diámetro_Medio!B56<Diámetro_Medio!$E$41,(Diámetro_Medio!B56+Diámetro_Medio!$F$44),"N.A") -> 298 | D75: =IF(B75="N.A","",(B75+C75)/2) -> 282 | E75: =E59 -> 8 | F75: =F11 -> 1.0165184 | G75: =V11 -> 1998656.1 | H75: =W11 -> 5.6362102e+08 | I75: =Y11 -> 2.4907234 | J75: =Z11 -> 8.3901777 | K75: =AD11 -> 76721.425
B76: =IF(Diámetro_Medio!B57<Diámetro_Medio!$E$41,Diámetro_Medio!B57,"N.A") -> 298 | C76: =IF(Diámetro_Medio!B57<Diámetro_Medio!$E$41,(Diámetro_Medio!B57+Diámetro_Medio!$F$44),"N.A") -> 330 | D76: =IF(B76="N.A","",(B76+C76)/2) -> 314 | E76: =E60 -> 7 | F76: =F12 -> 0.88945362 | G76: =V12 -> 2168239.3 | H76: =W12 -> 6.8082714e+08 | I76: =Y12 -> 2.2209031 | J76: =Z12 -> 7.4143849 | K76: =AD12 -> 118171.64
B77: =IF(Diámetro_Medio!B58<Diámetro_Medio!$E$41,Diámetro_Medio!B58,"N.A") -> 330 | C77: =IF(Diámetro_Medio!B58<Diámetro_Medio!$E$41,(Diámetro_Medio!B58+Diámetro_Medio!$F$44),"N.A") -> 362 | D77: =IF(B77="N.A","",(B77+C77)/2) -> 346 | E77: =E61 -> 2 | F77: =F13 -> 0.25412961 | G77: =V13 -> 752197.81 | H77: =W13 -> 2.6026044e+08 | I77: =Y13 -> 0.64525441 | J77: =Z13 -> 2.0122639 | K77: =AD13 -> 52442.297
B78: =IF(Diámetro_Medio!B59<Diámetro_Medio!$E$41,Diámetro_Medio!B59,"N.A") -> N.A | C78: =IF(Diámetro_Medio!B59<Diámetro_Medio!$E$41,(Diámetro_Medio!B59+Diámetro_Medio!$F$44),"N.A") -> N.A | D78: =IF(B78="N.A","",(B78+C78)/2) | E78: =E62 | F78: =F14 | G78: =V14 | H78: =W14 | I78: =Y14 | J78: =Z14 | K78: =AD14
B79: TOTAL = | D79: =D63 -> 154 | E79: =E63 -> 787 | F79: =F15 -> 100 | G79: =V15 -> 39827290 | H79: =W15 -> 6.1714411e+09 | I79: =Y15 -> 204.9538 | J79: =Z15 -> 845.70852 | K79: =AD15 -> 4690878.7
B81: DS | D81: DV | E81: DL | G81: d (by log) | H81: dv (by log) | I81: d.vn.v | L81: d.v.s | M81: Area superficial total | O81: Volumen total | Q81: Sv
B83: =SQRT(I15/E15) -> 126.91942 | D83: =(J15/E15)^(1/3) -> 135.65027 | E83: =H15/E15 -> 119.60102 | G83: =10^(Y15/F15) -> 112.08255 | H83: =(10^((Z15/F15))/9)^(1/3) -> 316.91848 | I83: =(AA15/J15) -> 184.07055 | J83: ± | K83: =(I83*Ingresar_Datos!E4)/100 -> 5.5221164 | L83: =J15/I15 -> 154.95509 | M83: =V15 -> 39827290 | O83: =W15/6 -> 1.0285735e+09 | Q83: =O83/M83 -> 25.825848
B85: COMPORATAMIENTO MUESTREO POR EL MÉTODO DE PROBIT_AJUSTE DE CURVAS_TENDENCIAS
E86: %Acumulado log d | H86: %acumulado log nd | K86: %Acumulado | M86: %Acumulado
B87: PROBIT 4 | E87: =TREND(IF(B13="N.A",IF(B12="N.A",IF(B11="N.A",IF(B10="N.A",IF(B9="N.A",IF(B8="N.A",IF(B7="N.A",D3:D6,D3:D7),D3:D8),D3:D9),D3:D10),D3:D11),D3:D12),D3:D13),IF(B13="N.A",IF(B12="N.A",IF(B11="N.A",IF(B10="N.A",IF(B9="N.A",IF(B8="N.A",IF(B7="N.A",N3:N6,N3:N7),N3:N8),N3:N9),N3:N10),N3:N11),N3:N12),N3:N13),15.9) -> 69.771541 | H87: =TREND(IF(B13="N.A",IF(B12="N.A",IF(B11="N.A",IF(B10="N.A",IF(B9="N.A",IF(B8="N.A",IF(B7="N.A",D3:D6,D3:D7),D3:D8),D3:D9),D3:D10),D3:D11),D3:D12),D3:D13),IF(B13="N.A",IF(B12="N.A",IF(B11="N.A",IF(B10="N.A",IF(B9="N.A",IF(B8="N.A",IF(B7="N.A",S3:S6,S3:S7),S3:S8),S3:S9),S3:S10),S3:S11),S3:S12),S3:S13),15.9) -> 53.569283 | K87: =TREND(IF(B13="N.A",IF(B12="N.A",IF(B11="N.A",IF(B10="N.A",IF(B9="N.A",IF(B8="N.A",IF(B7="N.A",D3:D6,D3:D7),D3:D8),D3:D9),D3:D10),D3:D11),D3:D12),D3:D13),IF(B13="N.A",IF(B12="N.A",IF(B11="N.A",IF(B10="N.A",IF(B9="N.A",IF(B8="N.A",IF(B7="N.A",T3:T6,T3:T7),T3:T8),T3:T9),T3:T10),T3:T11),T3:T12),T3:T13),15.9) -> 59.529693 | M87: =TREND(IF(B13="N.A",IF(B12="N.A",IF(B11="N.A",IF(B10="N.A",IF(B9="N.A",IF(B8="N.A",IF(B7="N.A",D3:D6,D3:D7),D3:D8),D3:D9),D3:D10),D3:D11),D3:D12),D3:D13),IF(B13="N.A",IF(B12="N.A",IF(B11="N.A",IF(B10="N.A",IF(B9="N.A",IF(B8="N.A",IF(B7="N.A",U3:U6,U3:U7),U3:U8),U3:U9),U3:U10),U3:U11),U3:U12),U3:U13),15.9) -> 62.296098
B88: PROBIT 5 | E88: =TREND(IF(B13="N.A",IF(B12="N.A",IF(B11="N.A",IF(B10="N.A",IF(B9="N.A",IF(B8="N.A",IF(B7="N.A",D3:D6,D3:D7),D3:D8),D3:D9),D3:D10),D3:D11),D3:D12),D3:D13),IF(B13="N.A",IF(B12="N.A",IF(B11="N.A",IF(B10="N.A",IF(B9="N.A",IF(B8="N.A",IF(B7="N.A",N3:N6,N3:N7),N3:N8),N3:N9),N3:N10),N3:N11),N3:N12),N3:N13),50) -> 184.54971 | H88: =TREND(IF(B13="N.A",IF(B12="N.A",IF(B11="N.A",IF(B10="N.A",IF(B9="N.A",IF(B8="N.A",IF(B7="N.A",D3:D6,D3:D7),D3:D8),D3:D9),D3:D10),D3:D11),D3:D12),D3:D13),IF(B13="N.A",IF(B12="N.A",IF(B11="N.A",IF(B10="N.A",IF(B9="N.A",IF(B8="N.A",IF(B7="N.A",S3:S6,S3:S7),S3:S8),S3:S9),S3:S10),S3:S11),S3:S12),S3:S13),50) -> 168.30883 | K88: =TREND(IF(B13="N.A",IF(B12="N.A",IF(B11="N.A",IF(B10="N.A",IF(B9="N.A",IF(B8="N.A",IF(B7="N.A",D3:D6,D3:D7),D3:D8),D3:D9),D3:D10),D3:D11),D3:D12),D3:D13),IF(B13="N.A",IF(B12="N.A",IF(B11="N.A",IF(B10="N.A",IF(B9="N.A",IF(B8="N.A",IF(B7="N.A",T3:T6,T3:T7),T3:T8),T3:T9),T3:T10),T3:T11),T3:T12),T3:T13),50) -> 174.57204 | M88: =TREND(IF(B13="N.A",IF(B12="N.A",IF(B11="N.A",IF(B10="N.A",IF(B9="N.A",IF(B8="N.A",IF(B7="N.A",D3:D6,D3:D7),D3:D8),D3:D9),D3:D10),D3:D11),D3:D12),D3:D13),IF(B13="N.A",IF(B12="N.A",IF(B11="N.A",IF(B10="N.A",IF(B9="N.A",IF(B8="N.A",IF(B7="N.A",U3:U6,U3:U7),U3:U8),U3:U9),U3:U10),U3:U11),U3:U12),U3:U13),50) -> 177.35625
B89: PROBIT 6 | E89: =TREND(IF(B13="N.A",IF(B12="N.A",IF(B11="N.A",IF(B10="N.A",IF(B9="N.A",IF(B8="N.A",IF(B7="N.A",D3:D6,D3:D7),D3:D8),D3:D9),D3:D10),D3:D11),D3:D12),D3:D13),IF(B13="N.A",IF(B12="N.A",IF(B11="N.A",IF(B10="N.A",IF(B9="N.A",IF(B8="N.A",IF(B7="N.A",N3:N6,N3:N7),N3:N8),N3:N9),N3:N10),N3:N11),N3:N12),N3:N13),84.1) -> 299.32787 | H89: =TREND(IF(B13="N.A",IF(B12="N.A",IF(B11="N.A",IF(B10="N.A",IF(B9="N.A",IF(B8="N.A",IF(B7="N.A",D3:D6,D3:D7),D3:D8),D3:D9),D3:D10),D3:D11),D3:D12),D3:D13),IF(B13="N.A",IF(B12="N.A",IF(B11="N.A",IF(B10="N.A",IF(B9="N.A",IF(B8="N.A",IF(B7="N.A",S3:S6,S3:S7),S3:S8),S3:S9),S3:S10),S3:S11),S3:S12),S3:S13),84.1) -> 283.04837 | K89: =TREND(IF(B13="N.A",IF(B12="N.A",IF(B11="N.A",IF(B10="N.A",IF(B9="N.A",IF(B8="N.A",IF(B7="N.A",D3:D6,D3:D7),D3:D8),D3:D9),D3:D10),D3:D11),D3:D12),D3:D13),IF(B13="N.A",IF(B12="N.A",IF(B11="N.A",IF(B10="N.A",IF(B9="N.A",IF(B8="N.A",IF(B7="N.A",T3:T6,T3:T7),T3:T8),T3:T9),T3:T10),T3:T11),T3:T12),T3:T13),84.1) -> 289.61438 | M89: =TREND(IF(B13="N.A",IF(B12="N.A",IF(B11="N.A",IF(B10="N.A",IF(B9="N.A",IF(B8="N.A",IF(B7="N.A",D3:D6,D3:D7),D3:D8),D3:D9),D3:D10),D3:D11),D3:D12),D3:D13),IF(B13="N.A",IF(B12="N.A",IF(B11="N.A",IF(B10="N.A",IF(B9="N.A",IF(B8="N.A",IF(B7="N.A",U3:U6,U3:U7),U3:U8),U3:U9),U3:U10),U3:U11),U3:U12),U3:U13),84.1) -> 292.41639
B90: R | E90: =CORREL(N3:N13,D3:D13) -> 0.99880321 | H90: =CORREL(S3:S13,D3:D13) -> 0.99803423 | K90: =CORREL(T3:T13,D3:D13) -> 0.99958347 | M90: =CORREL(U3:U13,D3:D13) -> 0.99976376
B91: sd(5/4) | E91: =E88/E87 -> 2.6450571 | H91: =H88/H87 -> 3.1418907 | K91: =K88/K87 -> 2.9325203 | M91: =M88/M87 -> 2.846988
B92: sd(6/5) | E92: =E89/E88 -> 1.6219363 | H92: =H89/H88 -> 1.6817203 | K92: =K89/K88 -> 1.6589964 | M92: =M89/M88 -> 1.6487516
B94: Desv. St. Geométrica | E94: =IF(E90>H90,IF(E90>K90,IF(E90>M90,E91,M91),IF(K90>M90,K91,M91)),IF(H90>K90,IF(H90>M90,H91,M91),IF(K90>M90,K91,M91))) -> 2.846988 | G94: =(LOG(E94,10)*100) -> 45.438564
B95: (RSD) %CV = | E95: =(E94/I83)*100 -> 1.5466831 | G95: =(LOG(E95,10)*100) -> 18.940134
B96: Drug dose(mg) D = | E96: =((((((6*(10^9))/PI())^(-1/2))*100)^2)*(I83^3))/(E95^2) -> 13.650509 | G96: =(LOG(E96,10)*100) -> 113.51488

Sheet Figuras

Sheet PRE-Informe
A1: PRE-INFORME TAMAÑO DE PARTÍCULA
A2: MATERIA PRIMA ANALIZADA
A3: NOMBRE: | D3: =IF(Materia_Prima!D18="","N.A",Materia_Prima!D18) -> ACTIVO
A4: LOTE: | D4: =IF(Materia_Prima!D19="","N.A",Materia_Prima!D19) -> LT20110812
A5: CONTROL: | D5: =IF(Materia_Prima!D20="","N.A",Materia_Prima!D20) -> C20110812
A6: PUREZA: | D6: =IF(Materia_Prima!D21="","N.A",Materia_Prima!D21) -> 1.0012
A7: PRESENTACIÓN: | D7: =IF(Materia_Prima!D22="","N.A",Materia_Prima!D22) -> N.A
A8: LABORATORIO: | D8: =IF(Materia_Prima!F26="","N.A",Materia_Prima!F26) -> NODOFARMA
A10: PARÁMETROS DE ANÁLISIS
A11: OBJETIVO UTILIZADO: | H11: =CONCATENATE(Ingresar_Datos!F52," X") -> 10 X
A12: INCERTIDUMBRE DE LA MEDIA: | H12: =CONCATENATE(Ingresar_Datos!E4," %") -> 3 %
A13: COEFICIENTE DE CONFIANZA PARA LA MEDIA: | H13: =CONCATENATE(Ingresar_Datos!E2," %") -> 95 %
A14: INCERTIDUMBRE DE LA DESVIACIÓN STÁNDAR: | H14: =CONCATENATE(Ingresar_Datos!E23," %") -> 5 %
A15: COEF. DE CONFIANZA DE LA DESV. ESTÁNDAR: | H15: =CONCATENATE(Ingresar_Datos!E21," %") -> 95 %
A17: TABLA 1
A18: Rango | C18: T. medio (d) | D18: Cantidad (n) | E18: % | F18: % acumulado | G18: nd | J18: log d
A19: =Distribución_Frecuencias!B3 -> 10 | B19: =Distribución_Frecuencias!C3 -> 42 | C19: =Distribución_Frecuencias!D3 -> 26 | D19: =Distribución_Frecuencias!E3 -> 31 | E19: =Distribución_Frecuencias!F3 -> 3.9390089 | F19: =Distribución_Frecuencias!G3 -> 3.9390089 | G19: =Distribución_Frecuencias!H3 -> 806 | H19: =Distribución_Frecuencias!I3 -> 20956 | ... J19: =Distribución_Frecuencias!K3 -> 1.4149733
A20: =Distribución_Frecuencias!B4 -> 42 | B20: =Distribución_Frecuencias!C4 -> 74 | C20: =Distribución_Frecuencias!D4 -> 58 | D20: =Distribución_Frecuencias!E4 -> 4 | E20: =Distribución_Frecuencias!F4 -> 0.50825921 | F20: =Distribución_Frecuencias!G4 -> 4.4472681 | G20: =Distribución_Frecuencias!H4 -> 232 | H20: =Distribución_Frecuencias!I4 -> 13456 | ... J20: =Distribución_Frecuencias!K4 -> 1.763428
A21: =Distribución_Frecuencias!B5 -> 74 | B21: =Distribución_Frecuencias!C5 -> 106 | C21: =Distribución_Frecuencias!D5 -> 90 | D21: =Distribución_Frecuencias!E5 -> 218 | E21: =Distribución_Frecuencias!F5 -> 27.700127 | F21: =Distribución_Frecuencias!G5 -> 32.147395 | G21: =Distribución_Frecuencias!H5 -> 19620 | H21: =Distribución_Frecuencias!I5 -> 1765800 | ... J21: =Distribución_Frecuencias!K5 -> 1.9542425
A22: =Distribución_Frecuencias!B6 -> 106 | B22: =Distribución_Frecuencias!C6 -> 138 | C22: =Distribución_Frecuencias!D6 -> 122 | D22: =Distribución_Frecuencias!E6 -> 404 | E22: =Distribución_Frecuencias!F6 -> 51.33418 | F22: =Distribución_Frecuencias!G6 -> 83.481576 | G22: =Distribución_Frecuencias!H6 -> 49288 | H22: =Distribución_Frecuencias!I6 -> 6013136 | ... J22: =Distribución_Frecuencias!K6 -> 2.0863598
A23: =Distribución_Frecuencias!B7 -> 138 | B23: =Distribución_Frecuencias!C7 -> 170 | C23: =Distribución_Frecuencias!D7 -> 154 | D23: =Distribución_Frecuencias!E7 -> 85 | E23: =Distribución_Frecuencias!F7 -> 10.800508 | F23: =Distribución_Frecuencias!G7 -> 94.282084 | G23: =Distribución_Frecuencias!H7 -> 13090 | H23: =Distribución_Frecuencias!I7 -> 2015860 | ... J23: =Distribución_Frecuencias!K7 -> 2.1875207
A24: =Distribución_Frecuencias!B8 -> 170 | B24: =Distribución_Frecuencias!C8 -> 202 | C24: =Distribución_Frecuencias!D8 -> 186 | D24: =Distribución_Frecuencias!E8 -> 13 | E24: =Distribución_Frecuencias!F8 -> 1.6518424 | F24: =Distribución_Frecuencias!G8 -> 95.933926 | G24: =Distribución_Frecuencias!H8 -> 2418 | H24: =Distribución_Frecuencias!I8 -> 449748 | ... J24: =Distribución_Frecuencias!K8 -> 2.2695129
A25: =Distribución_Frecuencias!B9 -> 202 | B25: =Distribución_Frecuencias!C9 -> 234 | C25: =Distribución_Frecuencias!D9 -> 218 | D25: =Distribución_Frecuencias!E9 -> 7 | E25: =Distribución_Frecuencias!F9 -> 0.88945362 | F25: =Distribución_Frecuencias!G9 -> 96.82338 | G25: =Distribución_Frecuencias!H9 -> 1526 | H25: =Distribución_Frecuencias!I9 -> 332668 | ... J25: =Distribución_Frecuencias!K9 -> 2.3384565
A26: =Distribución_Frecuencias!B10 -> 234 | B26: =Distribución_Frecuencias!C10 -> 266 | C26: =Distribución_Frecuencias!D10 -> 250 | D26: =Distribución_Frecuencias!E10 -> 8 | E26: =Distribución_Frecuencias!F10 -> 1.0165184 | F26: =Distribución_Frecuencias!G10 -> 97.839898 | G26: =Distribución_Frecuencias!H10 -> 2000 | H26: =Distribución_Frecuencias!I10 -> 500000 | ... J26: =Distribución_Frecuencias!K10 -> 2.39794
A27: =Distribución_Frecuencias!B11 -> 266 | B27: =Distribución_Frecuencias!C11 -> 298 | C27: =Distribución_Frecuencias!D11 -> 282 | D27: =Distribución_Frecuencias!E11 -> 8 | E27: =Distribución_Frecuencias!F11 -> 1.0165184 | F27: =Distribución_Frecuencias!G11 -> 98.856417 | G27: =Distribución_Frecuencias!H11 -> 2256 | H27: =Distribución_Frecuencias!I11 -> 636192 | ... J27: =Distribución_Frecuencias!K11 -> 2.4502491
A28: =Distribución_Frecuencias!B12 -> 298 | B28: =Distribución_Frecuencias!C12 -> 330 | C28: =Distribución_Frecuencias!D12 -> 314 | D28: =Distribución_Frecuencias!E12 -> 7 | E28: =Distribución_Frecuencias!F12 -> 0.88945362 | F28: =Distribución_Frecuencias!G12 -> 99.74587 | G28: =Distribución_Frecuencias!H12 -> 2198 | H28: =Distribución_Frecuencias!I12 -> 690172 | ... J28: =Distribución_Frecuencias!K12 -> 2.4969296
A29: =Distribución_Frecuencias!B13 -> 330 | B29: =Distribución_Frecuencias!C13 -> 362 | C29: =Distribución_Frecuencias!D13 -> 346 | D29: =Distribución_Frecuencias!E13 -> 2 | E29: =Distribución_Frecuencias!F13 -> 0.25412961 | F29: =Distribución_Frecuencias!G13 -> 100 | G29: =Distribución_Frecuencias!H13 -> 692 | H29: =Distribución_Frecuencias!I13 -> 239432 | ... J29: =Distribución_Frecuencias!K13 -> 2.5390761
A30: =Distribución_Frecuencias!B14 -> N.A | B30: =Distribución_Frecuencias!C14 -> N.A | C30: =Distribución_Frecuencias!D14 | D30: =Distribución_Frecuencias!E14 | E30: =Distribución_Frecuencias!F14 | F30: =Distribución_Frecuencias!G14 | G30: =Distribución_Frecuencias!H14 | H30: =Distribución_Frecuencias!I14 | ... J30: =Distribución_Frecuencias!K14
A31: TOTAL= | C31: =Distribución_Frecuencias!D15 -> 154 | D31: =Distribución_Frecuencias!E15 -> 787 | E31: =Distribución_Frecuencias!F15 -> 100 | F31: =Distribución_Frecuencias!G15 -> 100 | G31: =Distribución_Frecuencias!H15 -> 94126 | H31: =Distribución_Frecuencias!I15 -> 12677420 | I31: =Distribución_Frecuencias!J15 -> 1964430712 | J31: =Distribución_Frecuencias!K15 -> 23.898689
A33: TABLA 2
A34: Diametro superficie | F34: =CONCATENATE(Distribución_Frecuencias!B83," um") -> 126.919418351822 um
A35: Diametro volumen | F35: =CONCATENATE(Distribución_Frecuencias!D83," um") -> 135.650269517162 um
A36: Diametro longitud | F36: =CONCATENATE(Distribución_Frecuencias!E83," um") -> 119.601016518424 um
A37: Diametro longitud (by log) | F37: =CONCATENATE(Distribución_Frecuencias!G83," um") -> 112.082554483737 um
A38: Diametro volumen (by log) | F38: =CONCATENATE(Distribución_Frecuencias!H83, "um") -> 316.918478824204um
A39: Diamentro Vol.Num./Vol. | F39: =CONCATENATE("( ",Distribución_Frecuencias!I83," ",Distribución_Frecuencias!J83," ",Distribución_Frecuencias!K83," )"," um") -> ( 184.07054536826 ± 5.52211636104781 ) um
A40: Diámetro Vol./Sup | F40: =CONCATENATE(Distribución_Frecuencias!L83," um") -> 154.955086445034 um
A41: Area superficial total | F41: =CONCATENATE(Distribución_Frecuencias!M83,"um2") -> 39827289.5384723um2
A43: TABLA 3
A44: Desviación estándar: | I44: =CONCATENATE(ROUND(Diámetro_Medio!D20,8)," ") -> 77.25308427
A45: Desviación estándar geométrica por el método de probit: | I45: =CONCATENATE(ROUND(Distribución_Frecuencias!G94,8)," ") -> 45.43856426
A46: % de coeficiente de variación (RDS): | I46: =Distribución_Frecuencias!G95 -> 18.940134
A48: GRÁFICAS MÁS RELEVANTES
A98: 2
A150: 3
